BEGIN:VCALENDAR
VERSION:2.0
PRODID:-//AV8MAPS.COM - ECPv6.15.20//NONSGML v1.0//EN
CALSCALE:GREGORIAN
METHOD:PUBLISH
X-WR-CALNAME:AV8MAPS.COM
X-ORIGINAL-URL:https://av8maps.com
X-WR-CALDESC:Events for AV8MAPS.COM
REFRESH-INTERVAL;VALUE=DURATION:PT1H
X-Robots-Tag:noindex
X-PUBLISHED-TTL:PT1H
BEGIN:VTIMEZONE
TZID:America/New_York
BEGIN:DAYLIGHT
TZOFFSETFROM:-0500
TZOFFSETTO:-0400
TZNAME:EDT
DTSTART:20250309T070000
END:DAYLIGHT
BEGIN:STANDARD
TZOFFSETFROM:-0400
TZOFFSETTO:-0500
TZNAME:EST
DTSTART:20251102T060000
END:STANDARD
BEGIN:DAYLIGHT
TZOFFSETFROM:-0500
TZOFFSETTO:-0400
TZNAME:EDT
DTSTART:20260308T070000
END:DAYLIGHT
BEGIN:STANDARD
TZOFFSETFROM:-0400
TZOFFSETTO:-0500
TZNAME:EST
DTSTART:20261101T060000
END:STANDARD
BEGIN:DAYLIGHT
TZOFFSETFROM:-0500
TZOFFSETTO:-0400
TZNAME:EDT
DTSTART:20270314T070000
END:DAYLIGHT
BEGIN:STANDARD
TZOFFSETFROM:-0400
TZOFFSETTO:-0500
TZNAME:EST
DTSTART:20271107T060000
END:STANDARD
BEGIN:DAYLIGHT
TZOFFSETFROM:-0500
TZOFFSETTO:-0400
TZNAME:EDT
DTSTART:20280312T070000
END:DAYLIGHT
BEGIN:STANDARD
TZOFFSETFROM:-0400
TZOFFSETTO:-0500
TZNAME:EST
DTSTART:20281105T060000
END:STANDARD
BEGIN:DAYLIGHT
TZOFFSETFROM:-0500
TZOFFSETTO:-0400
TZNAME:EDT
DTSTART:20290311T070000
END:DAYLIGHT
BEGIN:STANDARD
TZOFFSETFROM:-0400
TZOFFSETTO:-0500
TZNAME:EST
DTSTART:20291104T060000
END:STANDARD
BEGIN:DAYLIGHT
TZOFFSETFROM:-0500
TZOFFSETTO:-0400
TZNAME:EDT
DTSTART:20300310T070000
END:DAYLIGHT
BEGIN:STANDARD
TZOFFSETFROM:-0400
TZOFFSETTO:-0500
TZNAME:EST
DTSTART:20301103T060000
END:STANDARD
BEGIN:DAYLIGHT
TZOFFSETFROM:-0500
TZOFFSETTO:-0400
TZNAME:EDT
DTSTART:20310309T070000
END:DAYLIGHT
BEGIN:STANDARD
TZOFFSETFROM:-0400
TZOFFSETTO:-0500
TZNAME:EST
DTSTART:20311102T060000
END:STANDARD
END:VTIMEZONE
BEGIN:VEVENT
DTSTART;TZID=America/New_York:20260905T100000
DTEND;TZID=America/New_York:20260905T140000
DTSTAMP:20260423T022542
CREATED:20250815T153552Z
LAST-MODIFIED:20251101T184706Z
UID:10003758-1788602400-1788616800@av8maps.com
SUMMARY:A Day of Fun Fly-in (N40)
DESCRIPTION:For more info Contact –  Adam Silverstein   908-803-8301
URL:https://av8maps.com/event/a-day-of-fun-fly-in-n40/2026-09-05/
LOCATION:Sky Manor Airport\, 48 Sky Manor Rd #48\, Pittstown\, NJ 08867
ATTACH;FMTTYPE=image/jpeg:https://av8maps.com/wp-content/uploads/2025/08/Sky-Manor-Airport-N40-e1755272014277.jpg
GEO:40.566541;-74.9785938
X-APPLE-STRUCTURED-LOCATION;VALUE=URI;X-ADDRESS=Sky Manor Airport 48 Sky Manor Rd #48 Pittstown NJ 08867;X-APPLE-RADIUS=500;X-TITLE=48 Sky Manor Rd #48\, Pittstown\, NJ 08867:geo:-74.9785938,40.566541
END:VEVENT
BEGIN:VEVENT
DTSTART;TZID=America/New_York:20270904T100000
DTEND;TZID=America/New_York:20270904T140000
DTSTAMP:20260423T022542
CREATED:20250815T153552Z
LAST-MODIFIED:20251101T184706Z
UID:10003759-1820052000-1820066400@av8maps.com
SUMMARY:A Day of Fun Fly-in (N40)
DESCRIPTION:For more info Contact –  Adam Silverstein   908-803-8301
URL:https://av8maps.com/event/a-day-of-fun-fly-in-n40/2027-09-04/
LOCATION:Sky Manor Airport\, 48 Sky Manor Rd #48\, Pittstown\, NJ 08867
ATTACH;FMTTYPE=image/jpeg:https://av8maps.com/wp-content/uploads/2025/08/Sky-Manor-Airport-N40-e1755272014277.jpg
GEO:40.566541;-74.9785938
X-APPLE-STRUCTURED-LOCATION;VALUE=URI;X-ADDRESS=Sky Manor Airport 48 Sky Manor Rd #48 Pittstown NJ 08867;X-APPLE-RADIUS=500;X-TITLE=48 Sky Manor Rd #48\, Pittstown\, NJ 08867:geo:-74.9785938,40.566541
END:VEVENT
BEGIN:VEVENT
DTSTART;TZID=America/New_York:20280902T100000
DTEND;TZID=America/New_York:20280902T140000
DTSTAMP:20260423T022542
CREATED:20250815T153552Z
LAST-MODIFIED:20251101T184706Z
UID:10003760-1851501600-1851516000@av8maps.com
SUMMARY:A Day of Fun Fly-in (N40)
DESCRIPTION:For more info Contact –  Adam Silverstein   908-803-8301
URL:https://av8maps.com/event/a-day-of-fun-fly-in-n40/2028-09-02/
LOCATION:Sky Manor Airport\, 48 Sky Manor Rd #48\, Pittstown\, NJ 08867
ATTACH;FMTTYPE=image/jpeg:https://av8maps.com/wp-content/uploads/2025/08/Sky-Manor-Airport-N40-e1755272014277.jpg
GEO:40.566541;-74.9785938
X-APPLE-STRUCTURED-LOCATION;VALUE=URI;X-ADDRESS=Sky Manor Airport 48 Sky Manor Rd #48 Pittstown NJ 08867;X-APPLE-RADIUS=500;X-TITLE=48 Sky Manor Rd #48\, Pittstown\, NJ 08867:geo:-74.9785938,40.566541
END:VEVENT
BEGIN:VEVENT
DTSTART;TZID=America/New_York:20290901T100000
DTEND;TZID=America/New_York:20290901T140000
DTSTAMP:20260423T022542
CREATED:20250815T153552Z
LAST-MODIFIED:20251101T184706Z
UID:10003761-1882951200-1882965600@av8maps.com
SUMMARY:A Day of Fun Fly-in (N40)
DESCRIPTION:For more info Contact –  Adam Silverstein   908-803-8301
URL:https://av8maps.com/event/a-day-of-fun-fly-in-n40/2029-09-01/
LOCATION:Sky Manor Airport\, 48 Sky Manor Rd #48\, Pittstown\, NJ 08867
ATTACH;FMTTYPE=image/jpeg:https://av8maps.com/wp-content/uploads/2025/08/Sky-Manor-Airport-N40-e1755272014277.jpg
GEO:40.566541;-74.9785938
X-APPLE-STRUCTURED-LOCATION;VALUE=URI;X-ADDRESS=Sky Manor Airport 48 Sky Manor Rd #48 Pittstown NJ 08867;X-APPLE-RADIUS=500;X-TITLE=48 Sky Manor Rd #48\, Pittstown\, NJ 08867:geo:-74.9785938,40.566541
END:VEVENT
BEGIN:VEVENT
DTSTART;TZID=America/New_York:20300907T100000
DTEND;TZID=America/New_York:20300907T140000
DTSTAMP:20260423T022542
CREATED:20250815T153552Z
LAST-MODIFIED:20251101T184706Z
UID:10003762-1915005600-1915020000@av8maps.com
SUMMARY:A Day of Fun Fly-in (N40)
DESCRIPTION:For more info Contact –  Adam Silverstein   908-803-8301
URL:https://av8maps.com/event/a-day-of-fun-fly-in-n40/2030-09-07/
LOCATION:Sky Manor Airport\, 48 Sky Manor Rd #48\, Pittstown\, NJ 08867
ATTACH;FMTTYPE=image/jpeg:https://av8maps.com/wp-content/uploads/2025/08/Sky-Manor-Airport-N40-e1755272014277.jpg
GEO:40.566541;-74.9785938
X-APPLE-STRUCTURED-LOCATION;VALUE=URI;X-ADDRESS=Sky Manor Airport 48 Sky Manor Rd #48 Pittstown NJ 08867;X-APPLE-RADIUS=500;X-TITLE=48 Sky Manor Rd #48\, Pittstown\, NJ 08867:geo:-74.9785938,40.566541
END:VEVENT
END:VCALENDAR