BEGIN:VCALENDAR
VERSION:2.0
PRODID:-//AV8MAPS.COM - ECPv6.15.20//NONSGML v1.0//EN
CALSCALE:GREGORIAN
METHOD:PUBLISH
X-WR-CALNAME:AV8MAPS.COM
X-ORIGINAL-URL:https://av8maps.com
X-WR-CALDESC:Events for AV8MAPS.COM
REFRESH-INTERVAL;VALUE=DURATION:PT1H
X-Robots-Tag:noindex
X-PUBLISHED-TTL:PT1H
BEGIN:VTIMEZONE
TZID:America/New_York
BEGIN:DAYLIGHT
TZOFFSETFROM:-0500
TZOFFSETTO:-0400
TZNAME:EDT
DTSTART:20250309T070000
END:DAYLIGHT
BEGIN:STANDARD
TZOFFSETFROM:-0400
TZOFFSETTO:-0500
TZNAME:EST
DTSTART:20251102T060000
END:STANDARD
BEGIN:DAYLIGHT
TZOFFSETFROM:-0500
TZOFFSETTO:-0400
TZNAME:EDT
DTSTART:20260308T070000
END:DAYLIGHT
BEGIN:STANDARD
TZOFFSETFROM:-0400
TZOFFSETTO:-0500
TZNAME:EST
DTSTART:20261101T060000
END:STANDARD
BEGIN:DAYLIGHT
TZOFFSETFROM:-0500
TZOFFSETTO:-0400
TZNAME:EDT
DTSTART:20270314T070000
END:DAYLIGHT
BEGIN:STANDARD
TZOFFSETFROM:-0400
TZOFFSETTO:-0500
TZNAME:EST
DTSTART:20271107T060000
END:STANDARD
BEGIN:DAYLIGHT
TZOFFSETFROM:-0500
TZOFFSETTO:-0400
TZNAME:EDT
DTSTART:20280312T070000
END:DAYLIGHT
BEGIN:STANDARD
TZOFFSETFROM:-0400
TZOFFSETTO:-0500
TZNAME:EST
DTSTART:20281105T060000
END:STANDARD
BEGIN:DAYLIGHT
TZOFFSETFROM:-0500
TZOFFSETTO:-0400
TZNAME:EDT
DTSTART:20290311T070000
END:DAYLIGHT
BEGIN:STANDARD
TZOFFSETFROM:-0400
TZOFFSETTO:-0500
TZNAME:EST
DTSTART:20291104T060000
END:STANDARD
BEGIN:DAYLIGHT
TZOFFSETFROM:-0500
TZOFFSETTO:-0400
TZNAME:EDT
DTSTART:20300310T070000
END:DAYLIGHT
BEGIN:STANDARD
TZOFFSETFROM:-0400
TZOFFSETTO:-0500
TZNAME:EST
DTSTART:20301103T060000
END:STANDARD
BEGIN:DAYLIGHT
TZOFFSETFROM:-0500
TZOFFSETTO:-0400
TZNAME:EDT
DTSTART:20310309T070000
END:DAYLIGHT
BEGIN:STANDARD
TZOFFSETFROM:-0400
TZOFFSETTO:-0500
TZNAME:EST
DTSTART:20311102T060000
END:STANDARD
END:VTIMEZONE
BEGIN:VEVENT
DTSTART;TZID=America/New_York:20260906T090000
DTEND;TZID=America/New_York:20260906T140000
DTSTAMP:20260422T175707
CREATED:20250815T170519Z
LAST-MODIFIED:20251101T185232Z
UID:10003763-1788685200-1788703200@av8maps.com
SUMMARY:EAA Chapter 70 Fly-in Breakfast (N43)
DESCRIPTION:For more information contact Rana Pal @ 1-732-804-0051  Email:  rana_pal@hotmail.com
URL:https://av8maps.com/event/eaa-chapter-70-fly-in-breakfast-n43/2026-09-06/
LOCATION:Braden Airpark\, 3800 Sullivan Trail\, Easton\, PA 18040
ATTACH;FMTTYPE=image/jpeg:https://av8maps.com/wp-content/uploads/2025/08/EAA-Chapter-70-e1755277468989.jpg
GEO:40.7429354;-75.2413351
X-APPLE-STRUCTURED-LOCATION;VALUE=URI;X-ADDRESS=Braden Airpark 3800 Sullivan Trail Easton PA 18040;X-APPLE-RADIUS=500;X-TITLE=3800 Sullivan Trail\, Easton\, PA 18040:geo:-75.2413351,40.7429354
END:VEVENT
BEGIN:VEVENT
DTSTART;TZID=America/New_York:20270905T090000
DTEND;TZID=America/New_York:20270905T140000
DTSTAMP:20260422T175707
CREATED:20250815T170519Z
LAST-MODIFIED:20251101T185232Z
UID:10003764-1820134800-1820152800@av8maps.com
SUMMARY:EAA Chapter 70 Fly-in Breakfast (N43)
DESCRIPTION:For more information contact Rana Pal @ 1-732-804-0051  Email:  rana_pal@hotmail.com
URL:https://av8maps.com/event/eaa-chapter-70-fly-in-breakfast-n43/2027-09-05/
LOCATION:Braden Airpark\, 3800 Sullivan Trail\, Easton\, PA 18040
ATTACH;FMTTYPE=image/jpeg:https://av8maps.com/wp-content/uploads/2025/08/EAA-Chapter-70-e1755277468989.jpg
GEO:40.7429354;-75.2413351
X-APPLE-STRUCTURED-LOCATION;VALUE=URI;X-ADDRESS=Braden Airpark 3800 Sullivan Trail Easton PA 18040;X-APPLE-RADIUS=500;X-TITLE=3800 Sullivan Trail\, Easton\, PA 18040:geo:-75.2413351,40.7429354
END:VEVENT
BEGIN:VEVENT
DTSTART;TZID=America/New_York:20280903T090000
DTEND;TZID=America/New_York:20280903T140000
DTSTAMP:20260422T175707
CREATED:20250815T170519Z
LAST-MODIFIED:20251101T185232Z
UID:10003765-1851584400-1851602400@av8maps.com
SUMMARY:EAA Chapter 70 Fly-in Breakfast (N43)
DESCRIPTION:For more information contact Rana Pal @ 1-732-804-0051  Email:  rana_pal@hotmail.com
URL:https://av8maps.com/event/eaa-chapter-70-fly-in-breakfast-n43/2028-09-03/
LOCATION:Braden Airpark\, 3800 Sullivan Trail\, Easton\, PA 18040
ATTACH;FMTTYPE=image/jpeg:https://av8maps.com/wp-content/uploads/2025/08/EAA-Chapter-70-e1755277468989.jpg
GEO:40.7429354;-75.2413351
X-APPLE-STRUCTURED-LOCATION;VALUE=URI;X-ADDRESS=Braden Airpark 3800 Sullivan Trail Easton PA 18040;X-APPLE-RADIUS=500;X-TITLE=3800 Sullivan Trail\, Easton\, PA 18040:geo:-75.2413351,40.7429354
END:VEVENT
BEGIN:VEVENT
DTSTART;TZID=America/New_York:20290902T090000
DTEND;TZID=America/New_York:20290902T140000
DTSTAMP:20260422T175707
CREATED:20250815T170519Z
LAST-MODIFIED:20251101T185232Z
UID:10003766-1883034000-1883052000@av8maps.com
SUMMARY:EAA Chapter 70 Fly-in Breakfast (N43)
DESCRIPTION:For more information contact Rana Pal @ 1-732-804-0051  Email:  rana_pal@hotmail.com
URL:https://av8maps.com/event/eaa-chapter-70-fly-in-breakfast-n43/2029-09-02/
LOCATION:Braden Airpark\, 3800 Sullivan Trail\, Easton\, PA 18040
ATTACH;FMTTYPE=image/jpeg:https://av8maps.com/wp-content/uploads/2025/08/EAA-Chapter-70-e1755277468989.jpg
GEO:40.7429354;-75.2413351
X-APPLE-STRUCTURED-LOCATION;VALUE=URI;X-ADDRESS=Braden Airpark 3800 Sullivan Trail Easton PA 18040;X-APPLE-RADIUS=500;X-TITLE=3800 Sullivan Trail\, Easton\, PA 18040:geo:-75.2413351,40.7429354
END:VEVENT
BEGIN:VEVENT
DTSTART;TZID=America/New_York:20300901T090000
DTEND;TZID=America/New_York:20300901T140000
DTSTAMP:20260422T175707
CREATED:20250815T170519Z
LAST-MODIFIED:20251101T185232Z
UID:10003767-1914483600-1914501600@av8maps.com
SUMMARY:EAA Chapter 70 Fly-in Breakfast (N43)
DESCRIPTION:For more information contact Rana Pal @ 1-732-804-0051  Email:  rana_pal@hotmail.com
URL:https://av8maps.com/event/eaa-chapter-70-fly-in-breakfast-n43/2030-09-01/
LOCATION:Braden Airpark\, 3800 Sullivan Trail\, Easton\, PA 18040
ATTACH;FMTTYPE=image/jpeg:https://av8maps.com/wp-content/uploads/2025/08/EAA-Chapter-70-e1755277468989.jpg
GEO:40.7429354;-75.2413351
X-APPLE-STRUCTURED-LOCATION;VALUE=URI;X-ADDRESS=Braden Airpark 3800 Sullivan Trail Easton PA 18040;X-APPLE-RADIUS=500;X-TITLE=3800 Sullivan Trail\, Easton\, PA 18040:geo:-75.2413351,40.7429354
END:VEVENT
END:VCALENDAR