BEGIN:VCALENDAR
VERSION:2.0
PRODID:-//AV8MAPS.COM - ECPv6.15.20//NONSGML v1.0//EN
CALSCALE:GREGORIAN
METHOD:PUBLISH
X-WR-CALNAME:AV8MAPS.COM
X-ORIGINAL-URL:https://av8maps.com
X-WR-CALDESC:Events for AV8MAPS.COM
REFRESH-INTERVAL;VALUE=DURATION:PT1H
X-Robots-Tag:noindex
X-PUBLISHED-TTL:PT1H
BEGIN:VTIMEZONE
TZID:America/New_York
BEGIN:DAYLIGHT
TZOFFSETFROM:-0500
TZOFFSETTO:-0400
TZNAME:EDT
DTSTART:20250309T070000
END:DAYLIGHT
BEGIN:STANDARD
TZOFFSETFROM:-0400
TZOFFSETTO:-0500
TZNAME:EST
DTSTART:20251102T060000
END:STANDARD
BEGIN:DAYLIGHT
TZOFFSETFROM:-0500
TZOFFSETTO:-0400
TZNAME:EDT
DTSTART:20260308T070000
END:DAYLIGHT
BEGIN:STANDARD
TZOFFSETFROM:-0400
TZOFFSETTO:-0500
TZNAME:EST
DTSTART:20261101T060000
END:STANDARD
BEGIN:DAYLIGHT
TZOFFSETFROM:-0500
TZOFFSETTO:-0400
TZNAME:EDT
DTSTART:20270314T070000
END:DAYLIGHT
BEGIN:STANDARD
TZOFFSETFROM:-0400
TZOFFSETTO:-0500
TZNAME:EST
DTSTART:20271107T060000
END:STANDARD
BEGIN:DAYLIGHT
TZOFFSETFROM:-0500
TZOFFSETTO:-0400
TZNAME:EDT
DTSTART:20280312T070000
END:DAYLIGHT
BEGIN:STANDARD
TZOFFSETFROM:-0400
TZOFFSETTO:-0500
TZNAME:EST
DTSTART:20281105T060000
END:STANDARD
BEGIN:DAYLIGHT
TZOFFSETFROM:-0500
TZOFFSETTO:-0400
TZNAME:EDT
DTSTART:20290311T070000
END:DAYLIGHT
BEGIN:STANDARD
TZOFFSETFROM:-0400
TZOFFSETTO:-0500
TZNAME:EST
DTSTART:20291104T060000
END:STANDARD
BEGIN:DAYLIGHT
TZOFFSETFROM:-0500
TZOFFSETTO:-0400
TZNAME:EDT
DTSTART:20300310T070000
END:DAYLIGHT
BEGIN:STANDARD
TZOFFSETFROM:-0400
TZOFFSETTO:-0500
TZNAME:EST
DTSTART:20301103T060000
END:STANDARD
BEGIN:DAYLIGHT
TZOFFSETFROM:-0500
TZOFFSETTO:-0400
TZNAME:EDT
DTSTART:20310309T070000
END:DAYLIGHT
BEGIN:STANDARD
TZOFFSETFROM:-0400
TZOFFSETTO:-0500
TZNAME:EST
DTSTART:20311102T060000
END:STANDARD
END:VTIMEZONE
BEGIN:VEVENT
DTSTART;TZID=America/New_York:20260918T000000
DTEND;TZID=America/New_York:20260919T235959
DTSTAMP:20260423T075824
CREATED:20250815T174846Z
LAST-MODIFIED:20251101T185434Z
UID:10003773-1789689600-1789862399@av8maps.com
SUMMARY:EAA Chapter 1 Fly-in (KRIR)
DESCRIPTION:Join us for a weekend of aviation\, community\, and fun at the September EAA Chapter 1 Fly-In! \nWhether you’re flying in\, camping out\, or just stopping by for a stack of pancakes\, there’s something for everyone.
URL:https://av8maps.com/event/eaa-chapter-1-fly-in-krir/2026-09-18/
LOCATION:Flabob Airport\, 4130 Mennes Ave Hangar 16A\, Riverside\, CA 92509
ATTACH;FMTTYPE=image/jpeg:https://av8maps.com/wp-content/uploads/2025/08/EAA-Chapter-1-e1755279948708.jpg
GEO:33.9900048;-117.4089701
X-APPLE-STRUCTURED-LOCATION;VALUE=URI;X-ADDRESS=Flabob Airport 4130 Mennes Ave Hangar 16A Riverside CA 92509;X-APPLE-RADIUS=500;X-TITLE=4130 Mennes Ave Hangar 16A\, Riverside\, CA 92509:geo:-117.4089701,33.9900048
END:VEVENT
BEGIN:VEVENT
DTSTART;TZID=America/New_York:20270917T000000
DTEND;TZID=America/New_York:20270918T235959
DTSTAMP:20260423T075824
CREATED:20250815T174846Z
LAST-MODIFIED:20251101T185434Z
UID:10003774-1821139200-1821311999@av8maps.com
SUMMARY:EAA Chapter 1 Fly-in (KRIR)
DESCRIPTION:Join us for a weekend of aviation\, community\, and fun at the September EAA Chapter 1 Fly-In! \nWhether you’re flying in\, camping out\, or just stopping by for a stack of pancakes\, there’s something for everyone.
URL:https://av8maps.com/event/eaa-chapter-1-fly-in-krir/2027-09-17/
LOCATION:Flabob Airport\, 4130 Mennes Ave Hangar 16A\, Riverside\, CA 92509
ATTACH;FMTTYPE=image/jpeg:https://av8maps.com/wp-content/uploads/2025/08/EAA-Chapter-1-e1755279948708.jpg
GEO:33.9900048;-117.4089701
X-APPLE-STRUCTURED-LOCATION;VALUE=URI;X-ADDRESS=Flabob Airport 4130 Mennes Ave Hangar 16A Riverside CA 92509;X-APPLE-RADIUS=500;X-TITLE=4130 Mennes Ave Hangar 16A\, Riverside\, CA 92509:geo:-117.4089701,33.9900048
END:VEVENT
BEGIN:VEVENT
DTSTART;TZID=America/New_York:20280915T000000
DTEND;TZID=America/New_York:20280916T235959
DTSTAMP:20260423T075824
CREATED:20250815T174846Z
LAST-MODIFIED:20251101T185434Z
UID:10003775-1852588800-1852761599@av8maps.com
SUMMARY:EAA Chapter 1 Fly-in (KRIR)
DESCRIPTION:Join us for a weekend of aviation\, community\, and fun at the September EAA Chapter 1 Fly-In! \nWhether you’re flying in\, camping out\, or just stopping by for a stack of pancakes\, there’s something for everyone.
URL:https://av8maps.com/event/eaa-chapter-1-fly-in-krir/2028-09-15/
LOCATION:Flabob Airport\, 4130 Mennes Ave Hangar 16A\, Riverside\, CA 92509
ATTACH;FMTTYPE=image/jpeg:https://av8maps.com/wp-content/uploads/2025/08/EAA-Chapter-1-e1755279948708.jpg
GEO:33.9900048;-117.4089701
X-APPLE-STRUCTURED-LOCATION;VALUE=URI;X-ADDRESS=Flabob Airport 4130 Mennes Ave Hangar 16A Riverside CA 92509;X-APPLE-RADIUS=500;X-TITLE=4130 Mennes Ave Hangar 16A\, Riverside\, CA 92509:geo:-117.4089701,33.9900048
END:VEVENT
BEGIN:VEVENT
DTSTART;TZID=America/New_York:20290921T000000
DTEND;TZID=America/New_York:20290922T235959
DTSTAMP:20260423T075824
CREATED:20250815T174846Z
LAST-MODIFIED:20251101T185434Z
UID:10003776-1884643200-1884815999@av8maps.com
SUMMARY:EAA Chapter 1 Fly-in (KRIR)
DESCRIPTION:Join us for a weekend of aviation\, community\, and fun at the September EAA Chapter 1 Fly-In! \nWhether you’re flying in\, camping out\, or just stopping by for a stack of pancakes\, there’s something for everyone.
URL:https://av8maps.com/event/eaa-chapter-1-fly-in-krir/2029-09-21/
LOCATION:Flabob Airport\, 4130 Mennes Ave Hangar 16A\, Riverside\, CA 92509
ATTACH;FMTTYPE=image/jpeg:https://av8maps.com/wp-content/uploads/2025/08/EAA-Chapter-1-e1755279948708.jpg
GEO:33.9900048;-117.4089701
X-APPLE-STRUCTURED-LOCATION;VALUE=URI;X-ADDRESS=Flabob Airport 4130 Mennes Ave Hangar 16A Riverside CA 92509;X-APPLE-RADIUS=500;X-TITLE=4130 Mennes Ave Hangar 16A\, Riverside\, CA 92509:geo:-117.4089701,33.9900048
END:VEVENT
BEGIN:VEVENT
DTSTART;TZID=America/New_York:20300920T000000
DTEND;TZID=America/New_York:20300921T235959
DTSTAMP:20260423T075824
CREATED:20250815T174846Z
LAST-MODIFIED:20251101T185434Z
UID:10003777-1916092800-1916265599@av8maps.com
SUMMARY:EAA Chapter 1 Fly-in (KRIR)
DESCRIPTION:Join us for a weekend of aviation\, community\, and fun at the September EAA Chapter 1 Fly-In! \nWhether you’re flying in\, camping out\, or just stopping by for a stack of pancakes\, there’s something for everyone.
URL:https://av8maps.com/event/eaa-chapter-1-fly-in-krir/2030-09-20/
LOCATION:Flabob Airport\, 4130 Mennes Ave Hangar 16A\, Riverside\, CA 92509
ATTACH;FMTTYPE=image/jpeg:https://av8maps.com/wp-content/uploads/2025/08/EAA-Chapter-1-e1755279948708.jpg
GEO:33.9900048;-117.4089701
X-APPLE-STRUCTURED-LOCATION;VALUE=URI;X-ADDRESS=Flabob Airport 4130 Mennes Ave Hangar 16A Riverside CA 92509;X-APPLE-RADIUS=500;X-TITLE=4130 Mennes Ave Hangar 16A\, Riverside\, CA 92509:geo:-117.4089701,33.9900048
END:VEVENT
END:VCALENDAR