BEGIN:VCALENDAR
VERSION:2.0
PRODID:-//AV8MAPS.COM - ECPv6.15.20//NONSGML v1.0//EN
CALSCALE:GREGORIAN
METHOD:PUBLISH
X-WR-CALNAME:AV8MAPS.COM
X-ORIGINAL-URL:https://av8maps.com
X-WR-CALDESC:Events for AV8MAPS.COM
REFRESH-INTERVAL;VALUE=DURATION:PT1H
X-Robots-Tag:noindex
X-PUBLISHED-TTL:PT1H
BEGIN:VTIMEZONE
TZID:America/New_York
BEGIN:DAYLIGHT
TZOFFSETFROM:-0500
TZOFFSETTO:-0400
TZNAME:EDT
DTSTART:20250309T070000
END:DAYLIGHT
BEGIN:STANDARD
TZOFFSETFROM:-0400
TZOFFSETTO:-0500
TZNAME:EST
DTSTART:20251102T060000
END:STANDARD
BEGIN:DAYLIGHT
TZOFFSETFROM:-0500
TZOFFSETTO:-0400
TZNAME:EDT
DTSTART:20260308T070000
END:DAYLIGHT
BEGIN:STANDARD
TZOFFSETFROM:-0400
TZOFFSETTO:-0500
TZNAME:EST
DTSTART:20261101T060000
END:STANDARD
BEGIN:DAYLIGHT
TZOFFSETFROM:-0500
TZOFFSETTO:-0400
TZNAME:EDT
DTSTART:20270314T070000
END:DAYLIGHT
BEGIN:STANDARD
TZOFFSETFROM:-0400
TZOFFSETTO:-0500
TZNAME:EST
DTSTART:20271107T060000
END:STANDARD
BEGIN:DAYLIGHT
TZOFFSETFROM:-0500
TZOFFSETTO:-0400
TZNAME:EDT
DTSTART:20280312T070000
END:DAYLIGHT
BEGIN:STANDARD
TZOFFSETFROM:-0400
TZOFFSETTO:-0500
TZNAME:EST
DTSTART:20281105T060000
END:STANDARD
BEGIN:DAYLIGHT
TZOFFSETFROM:-0500
TZOFFSETTO:-0400
TZNAME:EDT
DTSTART:20290311T070000
END:DAYLIGHT
BEGIN:STANDARD
TZOFFSETFROM:-0400
TZOFFSETTO:-0500
TZNAME:EST
DTSTART:20291104T060000
END:STANDARD
BEGIN:DAYLIGHT
TZOFFSETFROM:-0500
TZOFFSETTO:-0400
TZNAME:EDT
DTSTART:20300310T070000
END:DAYLIGHT
BEGIN:STANDARD
TZOFFSETFROM:-0400
TZOFFSETTO:-0500
TZNAME:EST
DTSTART:20301103T060000
END:STANDARD
BEGIN:DAYLIGHT
TZOFFSETFROM:-0500
TZOFFSETTO:-0400
TZNAME:EDT
DTSTART:20310309T070000
END:DAYLIGHT
BEGIN:STANDARD
TZOFFSETFROM:-0400
TZOFFSETTO:-0500
TZNAME:EST
DTSTART:20311102T060000
END:STANDARD
END:VTIMEZONE
BEGIN:VEVENT
DTSTART;TZID=America/New_York:20260912T140000
DTEND;TZID=America/New_York:20260912T190000
DTSTAMP:20260423T193333
CREATED:20250819T000027Z
LAST-MODIFIED:20251101T185657Z
UID:10003790-1789221600-1789239600@av8maps.com
SUMMARY:Red\, White and Blue Fly-in (KWDG)
DESCRIPTION:CELEBRATION BUZZ: You are invited to the Vance & AFA Air Force Birthday Red\, White and Blue Fly-in from 2:00 PM – 7:00 PM. Celebrate the 78th birthday of the United States Air Force with planes\, food trucks\, bouncy houses\, a concert and more!\n~\nFree to the public at Enid Woodring Regional Airport\, 1026 S 66th St\, Enid\, OK.\n~\nFollow Enid Buzz\, online since 2005\, on Facebook since 2010! More digital information than any other local source.
URL:https://av8maps.com/event/red-white-and-blue-fly-in-kwdg/2026-09-12/
LOCATION:Enid-Woodring Airport\, 1026 S 66th St\, Enid\, OK 73701
ATTACH;FMTTYPE=image/jpeg:https://av8maps.com/wp-content/uploads/2025/08/Red-White-and-Blue-Fly-in-ENID-e1755561615764.jpg
GEO:36.3859774;-97.7868691
X-APPLE-STRUCTURED-LOCATION;VALUE=URI;X-ADDRESS=Enid-Woodring Airport 1026 S 66th St Enid OK 73701;X-APPLE-RADIUS=500;X-TITLE=1026 S 66th St\, Enid\, OK 73701:geo:-97.7868691,36.3859774
END:VEVENT
BEGIN:VEVENT
DTSTART;TZID=America/New_York:20270911T140000
DTEND;TZID=America/New_York:20270911T190000
DTSTAMP:20260423T193333
CREATED:20250819T000027Z
LAST-MODIFIED:20251101T185657Z
UID:10003791-1820671200-1820689200@av8maps.com
SUMMARY:Red\, White and Blue Fly-in (KWDG)
DESCRIPTION:CELEBRATION BUZZ: You are invited to the Vance & AFA Air Force Birthday Red\, White and Blue Fly-in from 2:00 PM – 7:00 PM. Celebrate the 78th birthday of the United States Air Force with planes\, food trucks\, bouncy houses\, a concert and more!\n~\nFree to the public at Enid Woodring Regional Airport\, 1026 S 66th St\, Enid\, OK.\n~\nFollow Enid Buzz\, online since 2005\, on Facebook since 2010! More digital information than any other local source.
URL:https://av8maps.com/event/red-white-and-blue-fly-in-kwdg/2027-09-11/
LOCATION:Enid-Woodring Airport\, 1026 S 66th St\, Enid\, OK 73701
ATTACH;FMTTYPE=image/jpeg:https://av8maps.com/wp-content/uploads/2025/08/Red-White-and-Blue-Fly-in-ENID-e1755561615764.jpg
GEO:36.3859774;-97.7868691
X-APPLE-STRUCTURED-LOCATION;VALUE=URI;X-ADDRESS=Enid-Woodring Airport 1026 S 66th St Enid OK 73701;X-APPLE-RADIUS=500;X-TITLE=1026 S 66th St\, Enid\, OK 73701:geo:-97.7868691,36.3859774
END:VEVENT
BEGIN:VEVENT
DTSTART;TZID=America/New_York:20280909T140000
DTEND;TZID=America/New_York:20280909T190000
DTSTAMP:20260423T193333
CREATED:20250819T000027Z
LAST-MODIFIED:20251101T185657Z
UID:10003792-1852120800-1852138800@av8maps.com
SUMMARY:Red\, White and Blue Fly-in (KWDG)
DESCRIPTION:CELEBRATION BUZZ: You are invited to the Vance & AFA Air Force Birthday Red\, White and Blue Fly-in from 2:00 PM – 7:00 PM. Celebrate the 78th birthday of the United States Air Force with planes\, food trucks\, bouncy houses\, a concert and more!\n~\nFree to the public at Enid Woodring Regional Airport\, 1026 S 66th St\, Enid\, OK.\n~\nFollow Enid Buzz\, online since 2005\, on Facebook since 2010! More digital information than any other local source.
URL:https://av8maps.com/event/red-white-and-blue-fly-in-kwdg/2028-09-09/
LOCATION:Enid-Woodring Airport\, 1026 S 66th St\, Enid\, OK 73701
ATTACH;FMTTYPE=image/jpeg:https://av8maps.com/wp-content/uploads/2025/08/Red-White-and-Blue-Fly-in-ENID-e1755561615764.jpg
GEO:36.3859774;-97.7868691
X-APPLE-STRUCTURED-LOCATION;VALUE=URI;X-ADDRESS=Enid-Woodring Airport 1026 S 66th St Enid OK 73701;X-APPLE-RADIUS=500;X-TITLE=1026 S 66th St\, Enid\, OK 73701:geo:-97.7868691,36.3859774
END:VEVENT
BEGIN:VEVENT
DTSTART;TZID=America/New_York:20290908T140000
DTEND;TZID=America/New_York:20290908T190000
DTSTAMP:20260423T193333
CREATED:20250819T000027Z
LAST-MODIFIED:20251101T185657Z
UID:10003793-1883570400-1883588400@av8maps.com
SUMMARY:Red\, White and Blue Fly-in (KWDG)
DESCRIPTION:CELEBRATION BUZZ: You are invited to the Vance & AFA Air Force Birthday Red\, White and Blue Fly-in from 2:00 PM – 7:00 PM. Celebrate the 78th birthday of the United States Air Force with planes\, food trucks\, bouncy houses\, a concert and more!\n~\nFree to the public at Enid Woodring Regional Airport\, 1026 S 66th St\, Enid\, OK.\n~\nFollow Enid Buzz\, online since 2005\, on Facebook since 2010! More digital information than any other local source.
URL:https://av8maps.com/event/red-white-and-blue-fly-in-kwdg/2029-09-08/
LOCATION:Enid-Woodring Airport\, 1026 S 66th St\, Enid\, OK 73701
ATTACH;FMTTYPE=image/jpeg:https://av8maps.com/wp-content/uploads/2025/08/Red-White-and-Blue-Fly-in-ENID-e1755561615764.jpg
GEO:36.3859774;-97.7868691
X-APPLE-STRUCTURED-LOCATION;VALUE=URI;X-ADDRESS=Enid-Woodring Airport 1026 S 66th St Enid OK 73701;X-APPLE-RADIUS=500;X-TITLE=1026 S 66th St\, Enid\, OK 73701:geo:-97.7868691,36.3859774
END:VEVENT
BEGIN:VEVENT
DTSTART;TZID=America/New_York:20300914T140000
DTEND;TZID=America/New_York:20300914T190000
DTSTAMP:20260423T193333
CREATED:20250819T000027Z
LAST-MODIFIED:20251101T185657Z
UID:10003794-1915624800-1915642800@av8maps.com
SUMMARY:Red\, White and Blue Fly-in (KWDG)
DESCRIPTION:CELEBRATION BUZZ: You are invited to the Vance & AFA Air Force Birthday Red\, White and Blue Fly-in from 2:00 PM – 7:00 PM. Celebrate the 78th birthday of the United States Air Force with planes\, food trucks\, bouncy houses\, a concert and more!\n~\nFree to the public at Enid Woodring Regional Airport\, 1026 S 66th St\, Enid\, OK.\n~\nFollow Enid Buzz\, online since 2005\, on Facebook since 2010! More digital information than any other local source.
URL:https://av8maps.com/event/red-white-and-blue-fly-in-kwdg/2030-09-14/
LOCATION:Enid-Woodring Airport\, 1026 S 66th St\, Enid\, OK 73701
ATTACH;FMTTYPE=image/jpeg:https://av8maps.com/wp-content/uploads/2025/08/Red-White-and-Blue-Fly-in-ENID-e1755561615764.jpg
GEO:36.3859774;-97.7868691
X-APPLE-STRUCTURED-LOCATION;VALUE=URI;X-ADDRESS=Enid-Woodring Airport 1026 S 66th St Enid OK 73701;X-APPLE-RADIUS=500;X-TITLE=1026 S 66th St\, Enid\, OK 73701:geo:-97.7868691,36.3859774
END:VEVENT
END:VCALENDAR