BEGIN:VCALENDAR
VERSION:2.0
PRODID:-//AV8MAPS.COM - ECPv6.15.20//NONSGML v1.0//EN
CALSCALE:GREGORIAN
METHOD:PUBLISH
X-WR-CALNAME:AV8MAPS.COM
X-ORIGINAL-URL:https://av8maps.com
X-WR-CALDESC:Events for AV8MAPS.COM
REFRESH-INTERVAL;VALUE=DURATION:PT1H
X-Robots-Tag:noindex
X-PUBLISHED-TTL:PT1H
BEGIN:VTIMEZONE
TZID:America/New_York
BEGIN:DAYLIGHT
TZOFFSETFROM:-0500
TZOFFSETTO:-0400
TZNAME:EDT
DTSTART:20250309T070000
END:DAYLIGHT
BEGIN:STANDARD
TZOFFSETFROM:-0400
TZOFFSETTO:-0500
TZNAME:EST
DTSTART:20251102T060000
END:STANDARD
BEGIN:DAYLIGHT
TZOFFSETFROM:-0500
TZOFFSETTO:-0400
TZNAME:EDT
DTSTART:20260308T070000
END:DAYLIGHT
BEGIN:STANDARD
TZOFFSETFROM:-0400
TZOFFSETTO:-0500
TZNAME:EST
DTSTART:20261101T060000
END:STANDARD
BEGIN:DAYLIGHT
TZOFFSETFROM:-0500
TZOFFSETTO:-0400
TZNAME:EDT
DTSTART:20270314T070000
END:DAYLIGHT
BEGIN:STANDARD
TZOFFSETFROM:-0400
TZOFFSETTO:-0500
TZNAME:EST
DTSTART:20271107T060000
END:STANDARD
BEGIN:DAYLIGHT
TZOFFSETFROM:-0500
TZOFFSETTO:-0400
TZNAME:EDT
DTSTART:20280312T070000
END:DAYLIGHT
BEGIN:STANDARD
TZOFFSETFROM:-0400
TZOFFSETTO:-0500
TZNAME:EST
DTSTART:20281105T060000
END:STANDARD
BEGIN:DAYLIGHT
TZOFFSETFROM:-0500
TZOFFSETTO:-0400
TZNAME:EDT
DTSTART:20290311T070000
END:DAYLIGHT
BEGIN:STANDARD
TZOFFSETFROM:-0400
TZOFFSETTO:-0500
TZNAME:EST
DTSTART:20291104T060000
END:STANDARD
BEGIN:DAYLIGHT
TZOFFSETFROM:-0500
TZOFFSETTO:-0400
TZNAME:EDT
DTSTART:20300310T070000
END:DAYLIGHT
BEGIN:STANDARD
TZOFFSETFROM:-0400
TZOFFSETTO:-0500
TZNAME:EST
DTSTART:20301103T060000
END:STANDARD
BEGIN:DAYLIGHT
TZOFFSETFROM:-0500
TZOFFSETTO:-0400
TZNAME:EDT
DTSTART:20310309T070000
END:DAYLIGHT
BEGIN:STANDARD
TZOFFSETFROM:-0400
TZOFFSETTO:-0500
TZNAME:EST
DTSTART:20311102T060000
END:STANDARD
END:VTIMEZONE
BEGIN:VEVENT
DTSTART;TZID=America/New_York:20260906T080000
DTEND;TZID=America/New_York:20260906T120000
DTSTAMP:20260422T193711
CREATED:20250819T001645Z
LAST-MODIFIED:20251101T185725Z
UID:10000758-1788681600-1788696000@av8maps.com
SUMMARY:PAOP Annual Pancake Breakfast (KPTW)
DESCRIPTION:Join us for good food and good company! This event will be held at “The Flyers’ Roost.” \nOur signature annual event will include airplanes flying in and antique cars driving in\, all on display for your enjoyment. \nTo volunteer as a helper\, please contact John at 610-620-3584 or “Jet” Jim at 610-517-2255. \nWe are located at The Flyers’ Roost pavilion on the south side of the runway at taxiway “C”. \nListen to CTAF 122.70 for taxi instructions and look for the FOLLOW ME golf cart for grass area parking. \nLarger aircraft (war birds) can be parked on an adjacent taxiway.
URL:https://av8maps.com/event/paop-72nd-annual-pancake-breakfast-kptw/2026-09-06/
LOCATION:Heritage Field Airport\, 3310 W Ridge Pike\, Pottstown\, PA 19464
ATTACH;FMTTYPE=image/jpeg:https://av8maps.com/wp-content/uploads/2025/08/PAOP-72nd-Annual-Pancake-Breakfast-e1755562534264.jpg
GEO:40.2395134;-75.5582376
X-APPLE-STRUCTURED-LOCATION;VALUE=URI;X-ADDRESS=Heritage Field Airport 3310 W Ridge Pike Pottstown PA 19464;X-APPLE-RADIUS=500;X-TITLE=3310 W Ridge Pike\, Pottstown\, PA 19464:geo:-75.5582376,40.2395134
END:VEVENT
BEGIN:VEVENT
DTSTART;TZID=America/New_York:20270905T080000
DTEND;TZID=America/New_York:20270905T120000
DTSTAMP:20260422T193711
CREATED:20250819T001645Z
LAST-MODIFIED:20251101T185725Z
UID:10003795-1820131200-1820145600@av8maps.com
SUMMARY:PAOP Annual Pancake Breakfast (KPTW)
DESCRIPTION:Join us for good food and good company! This event will be held at “The Flyers’ Roost.” \nOur signature annual event will include airplanes flying in and antique cars driving in\, all on display for your enjoyment. \nTo volunteer as a helper\, please contact John at 610-620-3584 or “Jet” Jim at 610-517-2255. \nWe are located at The Flyers’ Roost pavilion on the south side of the runway at taxiway “C”. \nListen to CTAF 122.70 for taxi instructions and look for the FOLLOW ME golf cart for grass area parking. \nLarger aircraft (war birds) can be parked on an adjacent taxiway.
URL:https://av8maps.com/event/paop-72nd-annual-pancake-breakfast-kptw/2027-09-05/
LOCATION:Heritage Field Airport\, 3310 W Ridge Pike\, Pottstown\, PA 19464
ATTACH;FMTTYPE=image/jpeg:https://av8maps.com/wp-content/uploads/2025/08/PAOP-72nd-Annual-Pancake-Breakfast-e1755562534264.jpg
GEO:40.2395134;-75.5582376
X-APPLE-STRUCTURED-LOCATION;VALUE=URI;X-ADDRESS=Heritage Field Airport 3310 W Ridge Pike Pottstown PA 19464;X-APPLE-RADIUS=500;X-TITLE=3310 W Ridge Pike\, Pottstown\, PA 19464:geo:-75.5582376,40.2395134
END:VEVENT
BEGIN:VEVENT
DTSTART;TZID=America/New_York:20280903T080000
DTEND;TZID=America/New_York:20280903T120000
DTSTAMP:20260422T193711
CREATED:20250819T001645Z
LAST-MODIFIED:20251101T185725Z
UID:10003796-1851580800-1851595200@av8maps.com
SUMMARY:PAOP Annual Pancake Breakfast (KPTW)
DESCRIPTION:Join us for good food and good company! This event will be held at “The Flyers’ Roost.” \nOur signature annual event will include airplanes flying in and antique cars driving in\, all on display for your enjoyment. \nTo volunteer as a helper\, please contact John at 610-620-3584 or “Jet” Jim at 610-517-2255. \nWe are located at The Flyers’ Roost pavilion on the south side of the runway at taxiway “C”. \nListen to CTAF 122.70 for taxi instructions and look for the FOLLOW ME golf cart for grass area parking. \nLarger aircraft (war birds) can be parked on an adjacent taxiway.
URL:https://av8maps.com/event/paop-72nd-annual-pancake-breakfast-kptw/2028-09-03/
LOCATION:Heritage Field Airport\, 3310 W Ridge Pike\, Pottstown\, PA 19464
ATTACH;FMTTYPE=image/jpeg:https://av8maps.com/wp-content/uploads/2025/08/PAOP-72nd-Annual-Pancake-Breakfast-e1755562534264.jpg
GEO:40.2395134;-75.5582376
X-APPLE-STRUCTURED-LOCATION;VALUE=URI;X-ADDRESS=Heritage Field Airport 3310 W Ridge Pike Pottstown PA 19464;X-APPLE-RADIUS=500;X-TITLE=3310 W Ridge Pike\, Pottstown\, PA 19464:geo:-75.5582376,40.2395134
END:VEVENT
BEGIN:VEVENT
DTSTART;TZID=America/New_York:20290902T080000
DTEND;TZID=America/New_York:20290902T120000
DTSTAMP:20260422T193711
CREATED:20250819T001645Z
LAST-MODIFIED:20251101T185725Z
UID:10003797-1883030400-1883044800@av8maps.com
SUMMARY:PAOP Annual Pancake Breakfast (KPTW)
DESCRIPTION:Join us for good food and good company! This event will be held at “The Flyers’ Roost.” \nOur signature annual event will include airplanes flying in and antique cars driving in\, all on display for your enjoyment. \nTo volunteer as a helper\, please contact John at 610-620-3584 or “Jet” Jim at 610-517-2255. \nWe are located at The Flyers’ Roost pavilion on the south side of the runway at taxiway “C”. \nListen to CTAF 122.70 for taxi instructions and look for the FOLLOW ME golf cart for grass area parking. \nLarger aircraft (war birds) can be parked on an adjacent taxiway.
URL:https://av8maps.com/event/paop-72nd-annual-pancake-breakfast-kptw/2029-09-02/
LOCATION:Heritage Field Airport\, 3310 W Ridge Pike\, Pottstown\, PA 19464
ATTACH;FMTTYPE=image/jpeg:https://av8maps.com/wp-content/uploads/2025/08/PAOP-72nd-Annual-Pancake-Breakfast-e1755562534264.jpg
GEO:40.2395134;-75.5582376
X-APPLE-STRUCTURED-LOCATION;VALUE=URI;X-ADDRESS=Heritage Field Airport 3310 W Ridge Pike Pottstown PA 19464;X-APPLE-RADIUS=500;X-TITLE=3310 W Ridge Pike\, Pottstown\, PA 19464:geo:-75.5582376,40.2395134
END:VEVENT
BEGIN:VEVENT
DTSTART;TZID=America/New_York:20300901T080000
DTEND;TZID=America/New_York:20300901T120000
DTSTAMP:20260422T193711
CREATED:20250819T001645Z
LAST-MODIFIED:20251101T185725Z
UID:10003798-1914480000-1914494400@av8maps.com
SUMMARY:PAOP Annual Pancake Breakfast (KPTW)
DESCRIPTION:Join us for good food and good company! This event will be held at “The Flyers’ Roost.” \nOur signature annual event will include airplanes flying in and antique cars driving in\, all on display for your enjoyment. \nTo volunteer as a helper\, please contact John at 610-620-3584 or “Jet” Jim at 610-517-2255. \nWe are located at The Flyers’ Roost pavilion on the south side of the runway at taxiway “C”. \nListen to CTAF 122.70 for taxi instructions and look for the FOLLOW ME golf cart for grass area parking. \nLarger aircraft (war birds) can be parked on an adjacent taxiway.
URL:https://av8maps.com/event/paop-72nd-annual-pancake-breakfast-kptw/2030-09-01/
LOCATION:Heritage Field Airport\, 3310 W Ridge Pike\, Pottstown\, PA 19464
ATTACH;FMTTYPE=image/jpeg:https://av8maps.com/wp-content/uploads/2025/08/PAOP-72nd-Annual-Pancake-Breakfast-e1755562534264.jpg
GEO:40.2395134;-75.5582376
X-APPLE-STRUCTURED-LOCATION;VALUE=URI;X-ADDRESS=Heritage Field Airport 3310 W Ridge Pike Pottstown PA 19464;X-APPLE-RADIUS=500;X-TITLE=3310 W Ridge Pike\, Pottstown\, PA 19464:geo:-75.5582376,40.2395134
END:VEVENT
END:VCALENDAR