BEGIN:VCALENDAR
VERSION:2.0
PRODID:-//AV8MAPS.COM - ECPv6.15.20//NONSGML v1.0//EN
CALSCALE:GREGORIAN
METHOD:PUBLISH
X-WR-CALNAME:AV8MAPS.COM
X-ORIGINAL-URL:https://av8maps.com
X-WR-CALDESC:Events for AV8MAPS.COM
REFRESH-INTERVAL;VALUE=DURATION:PT1H
X-Robots-Tag:noindex
X-PUBLISHED-TTL:PT1H
BEGIN:VTIMEZONE
TZID:America/New_York
BEGIN:DAYLIGHT
TZOFFSETFROM:-0500
TZOFFSETTO:-0400
TZNAME:EDT
DTSTART:20250309T070000
END:DAYLIGHT
BEGIN:STANDARD
TZOFFSETFROM:-0400
TZOFFSETTO:-0500
TZNAME:EST
DTSTART:20251102T060000
END:STANDARD
BEGIN:DAYLIGHT
TZOFFSETFROM:-0500
TZOFFSETTO:-0400
TZNAME:EDT
DTSTART:20260308T070000
END:DAYLIGHT
BEGIN:STANDARD
TZOFFSETFROM:-0400
TZOFFSETTO:-0500
TZNAME:EST
DTSTART:20261101T060000
END:STANDARD
BEGIN:DAYLIGHT
TZOFFSETFROM:-0500
TZOFFSETTO:-0400
TZNAME:EDT
DTSTART:20270314T070000
END:DAYLIGHT
BEGIN:STANDARD
TZOFFSETFROM:-0400
TZOFFSETTO:-0500
TZNAME:EST
DTSTART:20271107T060000
END:STANDARD
BEGIN:DAYLIGHT
TZOFFSETFROM:-0500
TZOFFSETTO:-0400
TZNAME:EDT
DTSTART:20280312T070000
END:DAYLIGHT
BEGIN:STANDARD
TZOFFSETFROM:-0400
TZOFFSETTO:-0500
TZNAME:EST
DTSTART:20281105T060000
END:STANDARD
BEGIN:DAYLIGHT
TZOFFSETFROM:-0500
TZOFFSETTO:-0400
TZNAME:EDT
DTSTART:20290311T070000
END:DAYLIGHT
BEGIN:STANDARD
TZOFFSETFROM:-0400
TZOFFSETTO:-0500
TZNAME:EST
DTSTART:20291104T060000
END:STANDARD
BEGIN:DAYLIGHT
TZOFFSETFROM:-0500
TZOFFSETTO:-0400
TZNAME:EDT
DTSTART:20300310T070000
END:DAYLIGHT
BEGIN:STANDARD
TZOFFSETFROM:-0400
TZOFFSETTO:-0500
TZNAME:EST
DTSTART:20301103T060000
END:STANDARD
BEGIN:DAYLIGHT
TZOFFSETFROM:-0500
TZOFFSETTO:-0400
TZNAME:EDT
DTSTART:20310309T070000
END:DAYLIGHT
BEGIN:STANDARD
TZOFFSETFROM:-0400
TZOFFSETTO:-0500
TZNAME:EST
DTSTART:20311102T060000
END:STANDARD
END:VTIMEZONE
BEGIN:VEVENT
DTSTART;TZID=America/New_York:20260704T070000
DTEND;TZID=America/New_York:20260704T100000
DTSTAMP:20260423T075920
CREATED:20250819T220401Z
LAST-MODIFIED:20251101T191530Z
UID:10003821-1783148400-1783159200@av8maps.com
SUMMARY:Hay Springs FFA Fly-in (4V6)
DESCRIPTION:Free Breakfast for the community hosted by the Hay Springs FFA Chapter.
URL:https://av8maps.com/event/hay-springs-ffa-fly-in-4v6/2026-07-04/
LOCATION:Hay Springs Municipal Airport\, 216 NE-87\, Hay Springs\, NE 69347
ATTACH;FMTTYPE=image/jpeg:https://av8maps.com/wp-content/uploads/2025/08/Hay-Springs-FFA-Fly-in-e1755640333114.jpg
GEO:42.5491668;-102.6940746
X-APPLE-STRUCTURED-LOCATION;VALUE=URI;X-ADDRESS=Hay Springs Municipal Airport 216 NE-87 Hay Springs NE 69347;X-APPLE-RADIUS=500;X-TITLE=216 NE-87\, Hay Springs\, NE 69347:geo:-102.6940746,42.5491668
END:VEVENT
BEGIN:VEVENT
DTSTART;TZID=America/New_York:20270703T070000
DTEND;TZID=America/New_York:20270703T100000
DTSTAMP:20260423T075921
CREATED:20250819T220401Z
LAST-MODIFIED:20251101T191530Z
UID:10003822-1814598000-1814608800@av8maps.com
SUMMARY:Hay Springs FFA Fly-in (4V6)
DESCRIPTION:Free Breakfast for the community hosted by the Hay Springs FFA Chapter.
URL:https://av8maps.com/event/hay-springs-ffa-fly-in-4v6/2027-07-03/
LOCATION:Hay Springs Municipal Airport\, 216 NE-87\, Hay Springs\, NE 69347
ATTACH;FMTTYPE=image/jpeg:https://av8maps.com/wp-content/uploads/2025/08/Hay-Springs-FFA-Fly-in-e1755640333114.jpg
GEO:42.5491668;-102.6940746
X-APPLE-STRUCTURED-LOCATION;VALUE=URI;X-ADDRESS=Hay Springs Municipal Airport 216 NE-87 Hay Springs NE 69347;X-APPLE-RADIUS=500;X-TITLE=216 NE-87\, Hay Springs\, NE 69347:geo:-102.6940746,42.5491668
END:VEVENT
BEGIN:VEVENT
DTSTART;TZID=America/New_York:20280701T070000
DTEND;TZID=America/New_York:20280701T100000
DTSTAMP:20260423T075921
CREATED:20250819T220401Z
LAST-MODIFIED:20251101T191530Z
UID:10003823-1846047600-1846058400@av8maps.com
SUMMARY:Hay Springs FFA Fly-in (4V6)
DESCRIPTION:Free Breakfast for the community hosted by the Hay Springs FFA Chapter.
URL:https://av8maps.com/event/hay-springs-ffa-fly-in-4v6/2028-07-01/
LOCATION:Hay Springs Municipal Airport\, 216 NE-87\, Hay Springs\, NE 69347
ATTACH;FMTTYPE=image/jpeg:https://av8maps.com/wp-content/uploads/2025/08/Hay-Springs-FFA-Fly-in-e1755640333114.jpg
GEO:42.5491668;-102.6940746
X-APPLE-STRUCTURED-LOCATION;VALUE=URI;X-ADDRESS=Hay Springs Municipal Airport 216 NE-87 Hay Springs NE 69347;X-APPLE-RADIUS=500;X-TITLE=216 NE-87\, Hay Springs\, NE 69347:geo:-102.6940746,42.5491668
END:VEVENT
BEGIN:VEVENT
DTSTART;TZID=America/New_York:20290707T070000
DTEND;TZID=America/New_York:20290707T100000
DTSTAMP:20260423T075921
CREATED:20250819T220401Z
LAST-MODIFIED:20251101T191530Z
UID:10003824-1878102000-1878112800@av8maps.com
SUMMARY:Hay Springs FFA Fly-in (4V6)
DESCRIPTION:Free Breakfast for the community hosted by the Hay Springs FFA Chapter.
URL:https://av8maps.com/event/hay-springs-ffa-fly-in-4v6/2029-07-07/
LOCATION:Hay Springs Municipal Airport\, 216 NE-87\, Hay Springs\, NE 69347
ATTACH;FMTTYPE=image/jpeg:https://av8maps.com/wp-content/uploads/2025/08/Hay-Springs-FFA-Fly-in-e1755640333114.jpg
GEO:42.5491668;-102.6940746
X-APPLE-STRUCTURED-LOCATION;VALUE=URI;X-ADDRESS=Hay Springs Municipal Airport 216 NE-87 Hay Springs NE 69347;X-APPLE-RADIUS=500;X-TITLE=216 NE-87\, Hay Springs\, NE 69347:geo:-102.6940746,42.5491668
END:VEVENT
BEGIN:VEVENT
DTSTART;TZID=America/New_York:20300706T070000
DTEND;TZID=America/New_York:20300706T100000
DTSTAMP:20260423T075921
CREATED:20250819T220401Z
LAST-MODIFIED:20251101T191530Z
UID:10003825-1909551600-1909562400@av8maps.com
SUMMARY:Hay Springs FFA Fly-in (4V6)
DESCRIPTION:Free Breakfast for the community hosted by the Hay Springs FFA Chapter.
URL:https://av8maps.com/event/hay-springs-ffa-fly-in-4v6/2030-07-06/
LOCATION:Hay Springs Municipal Airport\, 216 NE-87\, Hay Springs\, NE 69347
ATTACH;FMTTYPE=image/jpeg:https://av8maps.com/wp-content/uploads/2025/08/Hay-Springs-FFA-Fly-in-e1755640333114.jpg
GEO:42.5491668;-102.6940746
X-APPLE-STRUCTURED-LOCATION;VALUE=URI;X-ADDRESS=Hay Springs Municipal Airport 216 NE-87 Hay Springs NE 69347;X-APPLE-RADIUS=500;X-TITLE=216 NE-87\, Hay Springs\, NE 69347:geo:-102.6940746,42.5491668
END:VEVENT
END:VCALENDAR