BEGIN:VCALENDAR
VERSION:2.0
PRODID:-//AV8MAPS.COM - ECPv6.15.20//NONSGML v1.0//EN
CALSCALE:GREGORIAN
METHOD:PUBLISH
X-WR-CALNAME:AV8MAPS.COM
X-ORIGINAL-URL:https://av8maps.com
X-WR-CALDESC:Events for AV8MAPS.COM
REFRESH-INTERVAL;VALUE=DURATION:PT1H
X-Robots-Tag:noindex
X-PUBLISHED-TTL:PT1H
BEGIN:VTIMEZONE
TZID:America/New_York
BEGIN:DAYLIGHT
TZOFFSETFROM:-0500
TZOFFSETTO:-0400
TZNAME:EDT
DTSTART:20250309T070000
END:DAYLIGHT
BEGIN:STANDARD
TZOFFSETFROM:-0400
TZOFFSETTO:-0500
TZNAME:EST
DTSTART:20251102T060000
END:STANDARD
BEGIN:DAYLIGHT
TZOFFSETFROM:-0500
TZOFFSETTO:-0400
TZNAME:EDT
DTSTART:20260308T070000
END:DAYLIGHT
BEGIN:STANDARD
TZOFFSETFROM:-0400
TZOFFSETTO:-0500
TZNAME:EST
DTSTART:20261101T060000
END:STANDARD
BEGIN:DAYLIGHT
TZOFFSETFROM:-0500
TZOFFSETTO:-0400
TZNAME:EDT
DTSTART:20270314T070000
END:DAYLIGHT
BEGIN:STANDARD
TZOFFSETFROM:-0400
TZOFFSETTO:-0500
TZNAME:EST
DTSTART:20271107T060000
END:STANDARD
BEGIN:DAYLIGHT
TZOFFSETFROM:-0500
TZOFFSETTO:-0400
TZNAME:EDT
DTSTART:20280312T070000
END:DAYLIGHT
BEGIN:STANDARD
TZOFFSETFROM:-0400
TZOFFSETTO:-0500
TZNAME:EST
DTSTART:20281105T060000
END:STANDARD
BEGIN:DAYLIGHT
TZOFFSETFROM:-0500
TZOFFSETTO:-0400
TZNAME:EDT
DTSTART:20290311T070000
END:DAYLIGHT
BEGIN:STANDARD
TZOFFSETFROM:-0400
TZOFFSETTO:-0500
TZNAME:EST
DTSTART:20291104T060000
END:STANDARD
BEGIN:DAYLIGHT
TZOFFSETFROM:-0500
TZOFFSETTO:-0400
TZNAME:EDT
DTSTART:20300310T070000
END:DAYLIGHT
BEGIN:STANDARD
TZOFFSETFROM:-0400
TZOFFSETTO:-0500
TZNAME:EST
DTSTART:20301103T060000
END:STANDARD
BEGIN:DAYLIGHT
TZOFFSETFROM:-0500
TZOFFSETTO:-0400
TZNAME:EDT
DTSTART:20310309T070000
END:DAYLIGHT
BEGIN:STANDARD
TZOFFSETFROM:-0400
TZOFFSETTO:-0500
TZNAME:EST
DTSTART:20311102T060000
END:STANDARD
END:VTIMEZONE
BEGIN:VEVENT
DTSTART;TZID=America/New_York:20260919T100000
DTEND;TZID=America/New_York:20260919T150000
DTSTAMP:20260423T092217
CREATED:20250825T224437Z
LAST-MODIFIED:20251101T193455Z
UID:10003832-1789812000-1789830000@av8maps.com
SUMMARY:The Semi-Annual Fly-in (7F3)
DESCRIPTION:Our last fly-in was such a success that we decided to make it a semi-annual thing! Food trucks\, snow cones\, music\, and airplanes will all be available! See y’all there! \n 
URL:https://av8maps.com/event/the-semi-annual-fly-in-7f3/2026-09-19/
LOCATION:Dallas Flight Center\, 4246 FM1565\, Caddo Mills\, TX 75135
ATTACH;FMTTYPE=image/jpeg:https://av8maps.com/wp-content/uploads/2025/08/Dallas-Flight-Center-7F3-e1756161866956.jpg
GEO:33.0360366;-96.2368415
X-APPLE-STRUCTURED-LOCATION;VALUE=URI;X-ADDRESS=Dallas Flight Center 4246 FM1565 Caddo Mills TX 75135;X-APPLE-RADIUS=500;X-TITLE=4246 FM1565\, Caddo Mills\, TX 75135:geo:-96.2368415,33.0360366
END:VEVENT
BEGIN:VEVENT
DTSTART;TZID=America/New_York:20270320T100000
DTEND;TZID=America/New_York:20270320T150000
DTSTAMP:20260423T092217
CREATED:20250825T224437Z
LAST-MODIFIED:20251101T193455Z
UID:10003833-1805536800-1805554800@av8maps.com
SUMMARY:The Semi-Annual Fly-in (7F3)
DESCRIPTION:Our last fly-in was such a success that we decided to make it a semi-annual thing! Food trucks\, snow cones\, music\, and airplanes will all be available! See y’all there! \n 
URL:https://av8maps.com/event/the-semi-annual-fly-in-7f3/2027-03-20/
LOCATION:Dallas Flight Center\, 4246 FM1565\, Caddo Mills\, TX 75135
ATTACH;FMTTYPE=image/jpeg:https://av8maps.com/wp-content/uploads/2025/08/Dallas-Flight-Center-7F3-e1756161866956.jpg
GEO:33.0360366;-96.2368415
X-APPLE-STRUCTURED-LOCATION;VALUE=URI;X-ADDRESS=Dallas Flight Center 4246 FM1565 Caddo Mills TX 75135;X-APPLE-RADIUS=500;X-TITLE=4246 FM1565\, Caddo Mills\, TX 75135:geo:-96.2368415,33.0360366
END:VEVENT
BEGIN:VEVENT
DTSTART;TZID=America/New_York:20270918T100000
DTEND;TZID=America/New_York:20270918T150000
DTSTAMP:20260423T092217
CREATED:20250825T224437Z
LAST-MODIFIED:20251101T193455Z
UID:10003834-1821261600-1821279600@av8maps.com
SUMMARY:The Semi-Annual Fly-in (7F3)
DESCRIPTION:Our last fly-in was such a success that we decided to make it a semi-annual thing! Food trucks\, snow cones\, music\, and airplanes will all be available! See y’all there! \n 
URL:https://av8maps.com/event/the-semi-annual-fly-in-7f3/2027-09-18/
LOCATION:Dallas Flight Center\, 4246 FM1565\, Caddo Mills\, TX 75135
ATTACH;FMTTYPE=image/jpeg:https://av8maps.com/wp-content/uploads/2025/08/Dallas-Flight-Center-7F3-e1756161866956.jpg
GEO:33.0360366;-96.2368415
X-APPLE-STRUCTURED-LOCATION;VALUE=URI;X-ADDRESS=Dallas Flight Center 4246 FM1565 Caddo Mills TX 75135;X-APPLE-RADIUS=500;X-TITLE=4246 FM1565\, Caddo Mills\, TX 75135:geo:-96.2368415,33.0360366
END:VEVENT
BEGIN:VEVENT
DTSTART;TZID=America/New_York:20280318T100000
DTEND;TZID=America/New_York:20280318T150000
DTSTAMP:20260423T092217
CREATED:20250825T224437Z
LAST-MODIFIED:20251101T193455Z
UID:10003835-1836986400-1837004400@av8maps.com
SUMMARY:The Semi-Annual Fly-in (7F3)
DESCRIPTION:Our last fly-in was such a success that we decided to make it a semi-annual thing! Food trucks\, snow cones\, music\, and airplanes will all be available! See y’all there! \n 
URL:https://av8maps.com/event/the-semi-annual-fly-in-7f3/2028-03-18/
LOCATION:Dallas Flight Center\, 4246 FM1565\, Caddo Mills\, TX 75135
ATTACH;FMTTYPE=image/jpeg:https://av8maps.com/wp-content/uploads/2025/08/Dallas-Flight-Center-7F3-e1756161866956.jpg
GEO:33.0360366;-96.2368415
X-APPLE-STRUCTURED-LOCATION;VALUE=URI;X-ADDRESS=Dallas Flight Center 4246 FM1565 Caddo Mills TX 75135;X-APPLE-RADIUS=500;X-TITLE=4246 FM1565\, Caddo Mills\, TX 75135:geo:-96.2368415,33.0360366
END:VEVENT
BEGIN:VEVENT
DTSTART;TZID=America/New_York:20280916T100000
DTEND;TZID=America/New_York:20280916T150000
DTSTAMP:20260423T092217
CREATED:20250825T224437Z
LAST-MODIFIED:20251101T193455Z
UID:10003836-1852711200-1852729200@av8maps.com
SUMMARY:The Semi-Annual Fly-in (7F3)
DESCRIPTION:Our last fly-in was such a success that we decided to make it a semi-annual thing! Food trucks\, snow cones\, music\, and airplanes will all be available! See y’all there! \n 
URL:https://av8maps.com/event/the-semi-annual-fly-in-7f3/2028-09-16/
LOCATION:Dallas Flight Center\, 4246 FM1565\, Caddo Mills\, TX 75135
ATTACH;FMTTYPE=image/jpeg:https://av8maps.com/wp-content/uploads/2025/08/Dallas-Flight-Center-7F3-e1756161866956.jpg
GEO:33.0360366;-96.2368415
X-APPLE-STRUCTURED-LOCATION;VALUE=URI;X-ADDRESS=Dallas Flight Center 4246 FM1565 Caddo Mills TX 75135;X-APPLE-RADIUS=500;X-TITLE=4246 FM1565\, Caddo Mills\, TX 75135:geo:-96.2368415,33.0360366
END:VEVENT
BEGIN:VEVENT
DTSTART;TZID=America/New_York:20290317T100000
DTEND;TZID=America/New_York:20290317T150000
DTSTAMP:20260423T092217
CREATED:20250825T224437Z
LAST-MODIFIED:20251101T193455Z
UID:10003837-1868436000-1868454000@av8maps.com
SUMMARY:The Semi-Annual Fly-in (7F3)
DESCRIPTION:Our last fly-in was such a success that we decided to make it a semi-annual thing! Food trucks\, snow cones\, music\, and airplanes will all be available! See y’all there! \n 
URL:https://av8maps.com/event/the-semi-annual-fly-in-7f3/2029-03-17/
LOCATION:Dallas Flight Center\, 4246 FM1565\, Caddo Mills\, TX 75135
ATTACH;FMTTYPE=image/jpeg:https://av8maps.com/wp-content/uploads/2025/08/Dallas-Flight-Center-7F3-e1756161866956.jpg
GEO:33.0360366;-96.2368415
X-APPLE-STRUCTURED-LOCATION;VALUE=URI;X-ADDRESS=Dallas Flight Center 4246 FM1565 Caddo Mills TX 75135;X-APPLE-RADIUS=500;X-TITLE=4246 FM1565\, Caddo Mills\, TX 75135:geo:-96.2368415,33.0360366
END:VEVENT
BEGIN:VEVENT
DTSTART;TZID=America/New_York:20290915T100000
DTEND;TZID=America/New_York:20290915T150000
DTSTAMP:20260423T092217
CREATED:20250825T224437Z
LAST-MODIFIED:20251101T193455Z
UID:10003838-1884160800-1884178800@av8maps.com
SUMMARY:The Semi-Annual Fly-in (7F3)
DESCRIPTION:Our last fly-in was such a success that we decided to make it a semi-annual thing! Food trucks\, snow cones\, music\, and airplanes will all be available! See y’all there! \n 
URL:https://av8maps.com/event/the-semi-annual-fly-in-7f3/2029-09-15/
LOCATION:Dallas Flight Center\, 4246 FM1565\, Caddo Mills\, TX 75135
ATTACH;FMTTYPE=image/jpeg:https://av8maps.com/wp-content/uploads/2025/08/Dallas-Flight-Center-7F3-e1756161866956.jpg
GEO:33.0360366;-96.2368415
X-APPLE-STRUCTURED-LOCATION;VALUE=URI;X-ADDRESS=Dallas Flight Center 4246 FM1565 Caddo Mills TX 75135;X-APPLE-RADIUS=500;X-TITLE=4246 FM1565\, Caddo Mills\, TX 75135:geo:-96.2368415,33.0360366
END:VEVENT
BEGIN:VEVENT
DTSTART;TZID=America/New_York:20300316T100000
DTEND;TZID=America/New_York:20300316T150000
DTSTAMP:20260423T092217
CREATED:20250825T224437Z
LAST-MODIFIED:20251101T193455Z
UID:10003839-1899885600-1899903600@av8maps.com
SUMMARY:The Semi-Annual Fly-in (7F3)
DESCRIPTION:Our last fly-in was such a success that we decided to make it a semi-annual thing! Food trucks\, snow cones\, music\, and airplanes will all be available! See y’all there! \n 
URL:https://av8maps.com/event/the-semi-annual-fly-in-7f3/2030-03-16/
LOCATION:Dallas Flight Center\, 4246 FM1565\, Caddo Mills\, TX 75135
ATTACH;FMTTYPE=image/jpeg:https://av8maps.com/wp-content/uploads/2025/08/Dallas-Flight-Center-7F3-e1756161866956.jpg
GEO:33.0360366;-96.2368415
X-APPLE-STRUCTURED-LOCATION;VALUE=URI;X-ADDRESS=Dallas Flight Center 4246 FM1565 Caddo Mills TX 75135;X-APPLE-RADIUS=500;X-TITLE=4246 FM1565\, Caddo Mills\, TX 75135:geo:-96.2368415,33.0360366
END:VEVENT
BEGIN:VEVENT
DTSTART;TZID=America/New_York:20300921T100000
DTEND;TZID=America/New_York:20300921T150000
DTSTAMP:20260423T092217
CREATED:20250825T224437Z
LAST-MODIFIED:20251101T193455Z
UID:10003840-1916215200-1916233200@av8maps.com
SUMMARY:The Semi-Annual Fly-in (7F3)
DESCRIPTION:Our last fly-in was such a success that we decided to make it a semi-annual thing! Food trucks\, snow cones\, music\, and airplanes will all be available! See y’all there! \n 
URL:https://av8maps.com/event/the-semi-annual-fly-in-7f3/2030-09-21/
LOCATION:Dallas Flight Center\, 4246 FM1565\, Caddo Mills\, TX 75135
ATTACH;FMTTYPE=image/jpeg:https://av8maps.com/wp-content/uploads/2025/08/Dallas-Flight-Center-7F3-e1756161866956.jpg
GEO:33.0360366;-96.2368415
X-APPLE-STRUCTURED-LOCATION;VALUE=URI;X-ADDRESS=Dallas Flight Center 4246 FM1565 Caddo Mills TX 75135;X-APPLE-RADIUS=500;X-TITLE=4246 FM1565\, Caddo Mills\, TX 75135:geo:-96.2368415,33.0360366
END:VEVENT
END:VCALENDAR