BEGIN:VCALENDAR
VERSION:2.0
PRODID:-//AV8MAPS.COM - ECPv6.15.20//NONSGML v1.0//EN
CALSCALE:GREGORIAN
METHOD:PUBLISH
X-WR-CALNAME:AV8MAPS.COM
X-ORIGINAL-URL:https://av8maps.com
X-WR-CALDESC:Events for AV8MAPS.COM
REFRESH-INTERVAL;VALUE=DURATION:PT1H
X-Robots-Tag:noindex
X-PUBLISHED-TTL:PT1H
BEGIN:VTIMEZONE
TZID:America/New_York
BEGIN:DAYLIGHT
TZOFFSETFROM:-0500
TZOFFSETTO:-0400
TZNAME:EDT
DTSTART:20250309T070000
END:DAYLIGHT
BEGIN:STANDARD
TZOFFSETFROM:-0400
TZOFFSETTO:-0500
TZNAME:EST
DTSTART:20251102T060000
END:STANDARD
BEGIN:DAYLIGHT
TZOFFSETFROM:-0500
TZOFFSETTO:-0400
TZNAME:EDT
DTSTART:20260308T070000
END:DAYLIGHT
BEGIN:STANDARD
TZOFFSETFROM:-0400
TZOFFSETTO:-0500
TZNAME:EST
DTSTART:20261101T060000
END:STANDARD
BEGIN:DAYLIGHT
TZOFFSETFROM:-0500
TZOFFSETTO:-0400
TZNAME:EDT
DTSTART:20270314T070000
END:DAYLIGHT
BEGIN:STANDARD
TZOFFSETFROM:-0400
TZOFFSETTO:-0500
TZNAME:EST
DTSTART:20271107T060000
END:STANDARD
BEGIN:DAYLIGHT
TZOFFSETFROM:-0500
TZOFFSETTO:-0400
TZNAME:EDT
DTSTART:20280312T070000
END:DAYLIGHT
BEGIN:STANDARD
TZOFFSETFROM:-0400
TZOFFSETTO:-0500
TZNAME:EST
DTSTART:20281105T060000
END:STANDARD
BEGIN:DAYLIGHT
TZOFFSETFROM:-0500
TZOFFSETTO:-0400
TZNAME:EDT
DTSTART:20290311T070000
END:DAYLIGHT
BEGIN:STANDARD
TZOFFSETFROM:-0400
TZOFFSETTO:-0500
TZNAME:EST
DTSTART:20291104T060000
END:STANDARD
BEGIN:DAYLIGHT
TZOFFSETFROM:-0500
TZOFFSETTO:-0400
TZNAME:EDT
DTSTART:20300310T070000
END:DAYLIGHT
BEGIN:STANDARD
TZOFFSETFROM:-0400
TZOFFSETTO:-0500
TZNAME:EST
DTSTART:20301103T060000
END:STANDARD
BEGIN:DAYLIGHT
TZOFFSETFROM:-0500
TZOFFSETTO:-0400
TZNAME:EDT
DTSTART:20310309T070000
END:DAYLIGHT
BEGIN:STANDARD
TZOFFSETFROM:-0400
TZOFFSETTO:-0500
TZNAME:EST
DTSTART:20311102T060000
END:STANDARD
END:VTIMEZONE
BEGIN:VEVENT
DTSTART;TZID=America/New_York:20260905T100000
DTEND;TZID=America/New_York:20260905T140000
DTSTAMP:20260423T051605
CREATED:20250523T203404Z
LAST-MODIFIED:20251101T193710Z
UID:10003841-1788602400-1788616800@av8maps.com
SUMMARY:Vendor Fly-in (MO00)
DESCRIPTION:Fly down or drive down and shop!!! Our biggest event of the year!! \nUNICOM:  122.9 \nContact Donna for more info:  1-816-506-5042
URL:https://av8maps.com/event/turkey-mountain-airport-fly-in-breakfast-mo00/2026-09-05/
LOCATION:Turkey Mountain Airport\, 24485 Airport Rd\, Shell Knob\, MO 65747
ATTACH;FMTTYPE=image/jpeg:https://av8maps.com/wp-content/uploads/2025/05/Turkey-Mountain-MO00-Vendor-Fly-in-e1756162332725.jpg
GEO:36.590058;-93.6633271
X-APPLE-STRUCTURED-LOCATION;VALUE=URI;X-ADDRESS=Turkey Mountain Airport 24485 Airport Rd Shell Knob MO 65747;X-APPLE-RADIUS=500;X-TITLE=24485 Airport Rd\, Shell Knob\, MO 65747:geo:-93.6633271,36.590058
END:VEVENT
BEGIN:VEVENT
DTSTART;TZID=America/New_York:20270904T100000
DTEND;TZID=America/New_York:20270904T140000
DTSTAMP:20260423T051605
CREATED:20250523T203404Z
LAST-MODIFIED:20251101T193710Z
UID:10003842-1820052000-1820066400@av8maps.com
SUMMARY:Vendor Fly-in (MO00)
DESCRIPTION:Fly down or drive down and shop!!! Our biggest event of the year!! \nUNICOM:  122.9 \nContact Donna for more info:  1-816-506-5042
URL:https://av8maps.com/event/turkey-mountain-airport-fly-in-breakfast-mo00/2027-09-04/
LOCATION:Turkey Mountain Airport\, 24485 Airport Rd\, Shell Knob\, MO 65747
ATTACH;FMTTYPE=image/jpeg:https://av8maps.com/wp-content/uploads/2025/05/Turkey-Mountain-MO00-Vendor-Fly-in-e1756162332725.jpg
GEO:36.590058;-93.6633271
X-APPLE-STRUCTURED-LOCATION;VALUE=URI;X-ADDRESS=Turkey Mountain Airport 24485 Airport Rd Shell Knob MO 65747;X-APPLE-RADIUS=500;X-TITLE=24485 Airport Rd\, Shell Knob\, MO 65747:geo:-93.6633271,36.590058
END:VEVENT
BEGIN:VEVENT
DTSTART;TZID=America/New_York:20280902T100000
DTEND;TZID=America/New_York:20280902T140000
DTSTAMP:20260423T051605
CREATED:20250523T203404Z
LAST-MODIFIED:20251101T193710Z
UID:10003843-1851501600-1851516000@av8maps.com
SUMMARY:Vendor Fly-in (MO00)
DESCRIPTION:Fly down or drive down and shop!!! Our biggest event of the year!! \nUNICOM:  122.9 \nContact Donna for more info:  1-816-506-5042
URL:https://av8maps.com/event/turkey-mountain-airport-fly-in-breakfast-mo00/2028-09-02/
LOCATION:Turkey Mountain Airport\, 24485 Airport Rd\, Shell Knob\, MO 65747
ATTACH;FMTTYPE=image/jpeg:https://av8maps.com/wp-content/uploads/2025/05/Turkey-Mountain-MO00-Vendor-Fly-in-e1756162332725.jpg
GEO:36.590058;-93.6633271
X-APPLE-STRUCTURED-LOCATION;VALUE=URI;X-ADDRESS=Turkey Mountain Airport 24485 Airport Rd Shell Knob MO 65747;X-APPLE-RADIUS=500;X-TITLE=24485 Airport Rd\, Shell Knob\, MO 65747:geo:-93.6633271,36.590058
END:VEVENT
BEGIN:VEVENT
DTSTART;TZID=America/New_York:20290901T100000
DTEND;TZID=America/New_York:20290901T140000
DTSTAMP:20260423T051605
CREATED:20250523T203404Z
LAST-MODIFIED:20251101T193710Z
UID:10003844-1882951200-1882965600@av8maps.com
SUMMARY:Vendor Fly-in (MO00)
DESCRIPTION:Fly down or drive down and shop!!! Our biggest event of the year!! \nUNICOM:  122.9 \nContact Donna for more info:  1-816-506-5042
URL:https://av8maps.com/event/turkey-mountain-airport-fly-in-breakfast-mo00/2029-09-01/
LOCATION:Turkey Mountain Airport\, 24485 Airport Rd\, Shell Knob\, MO 65747
ATTACH;FMTTYPE=image/jpeg:https://av8maps.com/wp-content/uploads/2025/05/Turkey-Mountain-MO00-Vendor-Fly-in-e1756162332725.jpg
GEO:36.590058;-93.6633271
X-APPLE-STRUCTURED-LOCATION;VALUE=URI;X-ADDRESS=Turkey Mountain Airport 24485 Airport Rd Shell Knob MO 65747;X-APPLE-RADIUS=500;X-TITLE=24485 Airport Rd\, Shell Knob\, MO 65747:geo:-93.6633271,36.590058
END:VEVENT
BEGIN:VEVENT
DTSTART;TZID=America/New_York:20300907T100000
DTEND;TZID=America/New_York:20300907T140000
DTSTAMP:20260423T051605
CREATED:20250523T203404Z
LAST-MODIFIED:20251101T193710Z
UID:10003845-1915005600-1915020000@av8maps.com
SUMMARY:Vendor Fly-in (MO00)
DESCRIPTION:Fly down or drive down and shop!!! Our biggest event of the year!! \nUNICOM:  122.9 \nContact Donna for more info:  1-816-506-5042
URL:https://av8maps.com/event/turkey-mountain-airport-fly-in-breakfast-mo00/2030-09-07/
LOCATION:Turkey Mountain Airport\, 24485 Airport Rd\, Shell Knob\, MO 65747
ATTACH;FMTTYPE=image/jpeg:https://av8maps.com/wp-content/uploads/2025/05/Turkey-Mountain-MO00-Vendor-Fly-in-e1756162332725.jpg
GEO:36.590058;-93.6633271
X-APPLE-STRUCTURED-LOCATION;VALUE=URI;X-ADDRESS=Turkey Mountain Airport 24485 Airport Rd Shell Knob MO 65747;X-APPLE-RADIUS=500;X-TITLE=24485 Airport Rd\, Shell Knob\, MO 65747:geo:-93.6633271,36.590058
END:VEVENT
END:VCALENDAR