BEGIN:VCALENDAR
VERSION:2.0
PRODID:-//AV8MAPS.COM - ECPv6.15.20//NONSGML v1.0//EN
CALSCALE:GREGORIAN
METHOD:PUBLISH
X-WR-CALNAME:AV8MAPS.COM
X-ORIGINAL-URL:https://av8maps.com
X-WR-CALDESC:Events for AV8MAPS.COM
REFRESH-INTERVAL;VALUE=DURATION:PT1H
X-Robots-Tag:noindex
X-PUBLISHED-TTL:PT1H
BEGIN:VTIMEZONE
TZID:America/New_York
BEGIN:DAYLIGHT
TZOFFSETFROM:-0500
TZOFFSETTO:-0400
TZNAME:EDT
DTSTART:20250309T070000
END:DAYLIGHT
BEGIN:STANDARD
TZOFFSETFROM:-0400
TZOFFSETTO:-0500
TZNAME:EST
DTSTART:20251102T060000
END:STANDARD
BEGIN:DAYLIGHT
TZOFFSETFROM:-0500
TZOFFSETTO:-0400
TZNAME:EDT
DTSTART:20260308T070000
END:DAYLIGHT
BEGIN:STANDARD
TZOFFSETFROM:-0400
TZOFFSETTO:-0500
TZNAME:EST
DTSTART:20261101T060000
END:STANDARD
BEGIN:DAYLIGHT
TZOFFSETFROM:-0500
TZOFFSETTO:-0400
TZNAME:EDT
DTSTART:20270314T070000
END:DAYLIGHT
BEGIN:STANDARD
TZOFFSETFROM:-0400
TZOFFSETTO:-0500
TZNAME:EST
DTSTART:20271107T060000
END:STANDARD
BEGIN:DAYLIGHT
TZOFFSETFROM:-0500
TZOFFSETTO:-0400
TZNAME:EDT
DTSTART:20280312T070000
END:DAYLIGHT
BEGIN:STANDARD
TZOFFSETFROM:-0400
TZOFFSETTO:-0500
TZNAME:EST
DTSTART:20281105T060000
END:STANDARD
BEGIN:DAYLIGHT
TZOFFSETFROM:-0500
TZOFFSETTO:-0400
TZNAME:EDT
DTSTART:20290311T070000
END:DAYLIGHT
BEGIN:STANDARD
TZOFFSETFROM:-0400
TZOFFSETTO:-0500
TZNAME:EST
DTSTART:20291104T060000
END:STANDARD
BEGIN:DAYLIGHT
TZOFFSETFROM:-0500
TZOFFSETTO:-0400
TZNAME:EDT
DTSTART:20300310T070000
END:DAYLIGHT
BEGIN:STANDARD
TZOFFSETFROM:-0400
TZOFFSETTO:-0500
TZNAME:EST
DTSTART:20301103T060000
END:STANDARD
BEGIN:DAYLIGHT
TZOFFSETFROM:-0500
TZOFFSETTO:-0400
TZNAME:EDT
DTSTART:20310309T070000
END:DAYLIGHT
BEGIN:STANDARD
TZOFFSETFROM:-0400
TZOFFSETTO:-0500
TZNAME:EST
DTSTART:20311102T060000
END:STANDARD
END:VTIMEZONE
BEGIN:VEVENT
DTSTART;TZID=America/New_York:20260919T100000
DTEND;TZID=America/New_York:20260919T140000
DTSTAMP:20260425T113643
CREATED:20250825T231804Z
LAST-MODIFIED:20251101T193827Z
UID:10003846-1789812000-1789826400@av8maps.com
SUMMARY:Annual Girls in Aviation Day (KOAR)
DESCRIPTION:Calling all future women aviators!\nJoin us for the 11th Annual Girls in Aviation Day — a FREE\, family-friendly event where girls ages 8-18 can discover the exciting world of aviation\, aerospace\, and STEM!\n\n\n Marina Municipal Airport (781 Neeson Rd\, Marina\, CA)\n Saturday\, Sept 20\, 2025\n 10 AM – 2 PM\n Hosted by Joby Aviation\n\n\n Hands-on activities\n Meet industry professionals\n Explore aircraft up close\n\n\nBring your curiosity\, your questions\, and your dreams!\n Register here  marinagiad.com
URL:https://av8maps.com/event/11th-annual-girls-in-aviation-day-koar/2026-09-19/
LOCATION:Marina Municipal Airport\, 761 Neeson Rd\, Marina\, CA 93933
ATTACH;FMTTYPE=image/jpeg:https://av8maps.com/wp-content/uploads/2025/08/Girls-in-Aviation-Marin-Muni-KOAR-e1756163825419.jpg
GEO:36.6790084;-121.7639105
X-APPLE-STRUCTURED-LOCATION;VALUE=URI;X-ADDRESS=Marina Municipal Airport 761 Neeson Rd Marina CA 93933;X-APPLE-RADIUS=500;X-TITLE=761 Neeson Rd\, Marina\, CA 93933:geo:-121.7639105,36.6790084
END:VEVENT
BEGIN:VEVENT
DTSTART;TZID=America/New_York:20270918T100000
DTEND;TZID=America/New_York:20270918T140000
DTSTAMP:20260425T113643
CREATED:20250825T231804Z
LAST-MODIFIED:20251101T193827Z
UID:10003847-1821261600-1821276000@av8maps.com
SUMMARY:Annual Girls in Aviation Day (KOAR)
DESCRIPTION:Calling all future women aviators!\nJoin us for the 11th Annual Girls in Aviation Day — a FREE\, family-friendly event where girls ages 8-18 can discover the exciting world of aviation\, aerospace\, and STEM!\n\n\n Marina Municipal Airport (781 Neeson Rd\, Marina\, CA)\n Saturday\, Sept 20\, 2025\n 10 AM – 2 PM\n Hosted by Joby Aviation\n\n\n Hands-on activities\n Meet industry professionals\n Explore aircraft up close\n\n\nBring your curiosity\, your questions\, and your dreams!\n Register here  marinagiad.com
URL:https://av8maps.com/event/11th-annual-girls-in-aviation-day-koar/2027-09-18/
LOCATION:Marina Municipal Airport\, 761 Neeson Rd\, Marina\, CA 93933
ATTACH;FMTTYPE=image/jpeg:https://av8maps.com/wp-content/uploads/2025/08/Girls-in-Aviation-Marin-Muni-KOAR-e1756163825419.jpg
GEO:36.6790084;-121.7639105
X-APPLE-STRUCTURED-LOCATION;VALUE=URI;X-ADDRESS=Marina Municipal Airport 761 Neeson Rd Marina CA 93933;X-APPLE-RADIUS=500;X-TITLE=761 Neeson Rd\, Marina\, CA 93933:geo:-121.7639105,36.6790084
END:VEVENT
BEGIN:VEVENT
DTSTART;TZID=America/New_York:20280916T100000
DTEND;TZID=America/New_York:20280916T140000
DTSTAMP:20260425T113643
CREATED:20250825T231804Z
LAST-MODIFIED:20251101T193827Z
UID:10003848-1852711200-1852725600@av8maps.com
SUMMARY:Annual Girls in Aviation Day (KOAR)
DESCRIPTION:Calling all future women aviators!\nJoin us for the 11th Annual Girls in Aviation Day — a FREE\, family-friendly event where girls ages 8-18 can discover the exciting world of aviation\, aerospace\, and STEM!\n\n\n Marina Municipal Airport (781 Neeson Rd\, Marina\, CA)\n Saturday\, Sept 20\, 2025\n 10 AM – 2 PM\n Hosted by Joby Aviation\n\n\n Hands-on activities\n Meet industry professionals\n Explore aircraft up close\n\n\nBring your curiosity\, your questions\, and your dreams!\n Register here  marinagiad.com
URL:https://av8maps.com/event/11th-annual-girls-in-aviation-day-koar/2028-09-16/
LOCATION:Marina Municipal Airport\, 761 Neeson Rd\, Marina\, CA 93933
ATTACH;FMTTYPE=image/jpeg:https://av8maps.com/wp-content/uploads/2025/08/Girls-in-Aviation-Marin-Muni-KOAR-e1756163825419.jpg
GEO:36.6790084;-121.7639105
X-APPLE-STRUCTURED-LOCATION;VALUE=URI;X-ADDRESS=Marina Municipal Airport 761 Neeson Rd Marina CA 93933;X-APPLE-RADIUS=500;X-TITLE=761 Neeson Rd\, Marina\, CA 93933:geo:-121.7639105,36.6790084
END:VEVENT
BEGIN:VEVENT
DTSTART;TZID=America/New_York:20290915T100000
DTEND;TZID=America/New_York:20290915T140000
DTSTAMP:20260425T113643
CREATED:20250825T231804Z
LAST-MODIFIED:20251101T193827Z
UID:10003849-1884160800-1884175200@av8maps.com
SUMMARY:Annual Girls in Aviation Day (KOAR)
DESCRIPTION:Calling all future women aviators!\nJoin us for the 11th Annual Girls in Aviation Day — a FREE\, family-friendly event where girls ages 8-18 can discover the exciting world of aviation\, aerospace\, and STEM!\n\n\n Marina Municipal Airport (781 Neeson Rd\, Marina\, CA)\n Saturday\, Sept 20\, 2025\n 10 AM – 2 PM\n Hosted by Joby Aviation\n\n\n Hands-on activities\n Meet industry professionals\n Explore aircraft up close\n\n\nBring your curiosity\, your questions\, and your dreams!\n Register here  marinagiad.com
URL:https://av8maps.com/event/11th-annual-girls-in-aviation-day-koar/2029-09-15/
LOCATION:Marina Municipal Airport\, 761 Neeson Rd\, Marina\, CA 93933
ATTACH;FMTTYPE=image/jpeg:https://av8maps.com/wp-content/uploads/2025/08/Girls-in-Aviation-Marin-Muni-KOAR-e1756163825419.jpg
GEO:36.6790084;-121.7639105
X-APPLE-STRUCTURED-LOCATION;VALUE=URI;X-ADDRESS=Marina Municipal Airport 761 Neeson Rd Marina CA 93933;X-APPLE-RADIUS=500;X-TITLE=761 Neeson Rd\, Marina\, CA 93933:geo:-121.7639105,36.6790084
END:VEVENT
BEGIN:VEVENT
DTSTART;TZID=America/New_York:20300921T100000
DTEND;TZID=America/New_York:20300921T140000
DTSTAMP:20260425T113643
CREATED:20250825T231804Z
LAST-MODIFIED:20251101T193827Z
UID:10003850-1916215200-1916229600@av8maps.com
SUMMARY:Annual Girls in Aviation Day (KOAR)
DESCRIPTION:Calling all future women aviators!\nJoin us for the 11th Annual Girls in Aviation Day — a FREE\, family-friendly event where girls ages 8-18 can discover the exciting world of aviation\, aerospace\, and STEM!\n\n\n Marina Municipal Airport (781 Neeson Rd\, Marina\, CA)\n Saturday\, Sept 20\, 2025\n 10 AM – 2 PM\n Hosted by Joby Aviation\n\n\n Hands-on activities\n Meet industry professionals\n Explore aircraft up close\n\n\nBring your curiosity\, your questions\, and your dreams!\n Register here  marinagiad.com
URL:https://av8maps.com/event/11th-annual-girls-in-aviation-day-koar/2030-09-21/
LOCATION:Marina Municipal Airport\, 761 Neeson Rd\, Marina\, CA 93933
ATTACH;FMTTYPE=image/jpeg:https://av8maps.com/wp-content/uploads/2025/08/Girls-in-Aviation-Marin-Muni-KOAR-e1756163825419.jpg
GEO:36.6790084;-121.7639105
X-APPLE-STRUCTURED-LOCATION;VALUE=URI;X-ADDRESS=Marina Municipal Airport 761 Neeson Rd Marina CA 93933;X-APPLE-RADIUS=500;X-TITLE=761 Neeson Rd\, Marina\, CA 93933:geo:-121.7639105,36.6790084
END:VEVENT
END:VCALENDAR