BEGIN:VCALENDAR
VERSION:2.0
PRODID:-//AV8MAPS.COM - ECPv6.15.20//NONSGML v1.0//EN
CALSCALE:GREGORIAN
METHOD:PUBLISH
X-WR-CALNAME:AV8MAPS.COM
X-ORIGINAL-URL:https://av8maps.com
X-WR-CALDESC:Events for AV8MAPS.COM
REFRESH-INTERVAL;VALUE=DURATION:PT1H
X-Robots-Tag:noindex
X-PUBLISHED-TTL:PT1H
BEGIN:VTIMEZONE
TZID:America/New_York
BEGIN:DAYLIGHT
TZOFFSETFROM:-0500
TZOFFSETTO:-0400
TZNAME:EDT
DTSTART:20250309T070000
END:DAYLIGHT
BEGIN:STANDARD
TZOFFSETFROM:-0400
TZOFFSETTO:-0500
TZNAME:EST
DTSTART:20251102T060000
END:STANDARD
BEGIN:DAYLIGHT
TZOFFSETFROM:-0500
TZOFFSETTO:-0400
TZNAME:EDT
DTSTART:20260308T070000
END:DAYLIGHT
BEGIN:STANDARD
TZOFFSETFROM:-0400
TZOFFSETTO:-0500
TZNAME:EST
DTSTART:20261101T060000
END:STANDARD
BEGIN:DAYLIGHT
TZOFFSETFROM:-0500
TZOFFSETTO:-0400
TZNAME:EDT
DTSTART:20270314T070000
END:DAYLIGHT
BEGIN:STANDARD
TZOFFSETFROM:-0400
TZOFFSETTO:-0500
TZNAME:EST
DTSTART:20271107T060000
END:STANDARD
BEGIN:DAYLIGHT
TZOFFSETFROM:-0500
TZOFFSETTO:-0400
TZNAME:EDT
DTSTART:20280312T070000
END:DAYLIGHT
BEGIN:STANDARD
TZOFFSETFROM:-0400
TZOFFSETTO:-0500
TZNAME:EST
DTSTART:20281105T060000
END:STANDARD
BEGIN:DAYLIGHT
TZOFFSETFROM:-0500
TZOFFSETTO:-0400
TZNAME:EDT
DTSTART:20290311T070000
END:DAYLIGHT
BEGIN:STANDARD
TZOFFSETFROM:-0400
TZOFFSETTO:-0500
TZNAME:EST
DTSTART:20291104T060000
END:STANDARD
BEGIN:DAYLIGHT
TZOFFSETFROM:-0500
TZOFFSETTO:-0400
TZNAME:EDT
DTSTART:20300310T070000
END:DAYLIGHT
BEGIN:STANDARD
TZOFFSETFROM:-0400
TZOFFSETTO:-0500
TZNAME:EST
DTSTART:20301103T060000
END:STANDARD
BEGIN:DAYLIGHT
TZOFFSETFROM:-0500
TZOFFSETTO:-0400
TZNAME:EDT
DTSTART:20310309T070000
END:DAYLIGHT
BEGIN:STANDARD
TZOFFSETFROM:-0400
TZOFFSETTO:-0500
TZNAME:EST
DTSTART:20311102T060000
END:STANDARD
END:VTIMEZONE
BEGIN:VEVENT
DTSTART;TZID=America/New_York:20261107T110000
DTEND;TZID=America/New_York:20261107T150000
DTSTAMP:20260424T202812
CREATED:20251126T205548Z
LAST-MODIFIED:20251126T205550Z
UID:10003851-1794049200-1794063600@av8maps.com
SUMMARY:Annual EAA Chapter 595 Fly-in (KTXW)
DESCRIPTION:Event will be at hangar W-29. \nPlease see parking (plane and car) details on website link below. \n 
URL:https://av8maps.com/event/2nd-annual-eaa-chapter-595-fly-in-ktxw-2/2026-11-07/
LOCATION:Mid-Valley Airport @ Hangar W-29\, 1909 Joe Stephens Ave\, Weslaco\, TX 78599
ATTACH;FMTTYPE=image/jpeg:https://av8maps.com/wp-content/uploads/2025/08/EAA-Chapter-595-1-e1756164503359.jpg
GEO:26.1778399;-97.9705612
X-APPLE-STRUCTURED-LOCATION;VALUE=URI;X-ADDRESS=Mid-Valley Airport @ Hangar W-29 1909 Joe Stephens Ave Weslaco TX 78599;X-APPLE-RADIUS=500;X-TITLE=1909 Joe Stephens Ave\, Weslaco\, TX 78599:geo:-97.9705612,26.1778399
END:VEVENT
BEGIN:VEVENT
DTSTART;TZID=America/New_York:20271106T110000
DTEND;TZID=America/New_York:20271106T150000
DTSTAMP:20260424T202812
CREATED:20251126T205548Z
LAST-MODIFIED:20251126T205550Z
UID:10005541-1825498800-1825513200@av8maps.com
SUMMARY:Annual EAA Chapter 595 Fly-in (KTXW)
DESCRIPTION:Event will be at hangar W-29. \nPlease see parking (plane and car) details on website link below. \n 
URL:https://av8maps.com/event/2nd-annual-eaa-chapter-595-fly-in-ktxw-2/2027-11-06/
LOCATION:Mid-Valley Airport @ Hangar W-29\, 1909 Joe Stephens Ave\, Weslaco\, TX 78599
ATTACH;FMTTYPE=image/jpeg:https://av8maps.com/wp-content/uploads/2025/08/EAA-Chapter-595-1-e1756164503359.jpg
GEO:26.1778399;-97.9705612
X-APPLE-STRUCTURED-LOCATION;VALUE=URI;X-ADDRESS=Mid-Valley Airport @ Hangar W-29 1909 Joe Stephens Ave Weslaco TX 78599;X-APPLE-RADIUS=500;X-TITLE=1909 Joe Stephens Ave\, Weslaco\, TX 78599:geo:-97.9705612,26.1778399
END:VEVENT
BEGIN:VEVENT
DTSTART;TZID=America/New_York:20281104T110000
DTEND;TZID=America/New_York:20281104T150000
DTSTAMP:20260424T202812
CREATED:20251126T205548Z
LAST-MODIFIED:20251126T205550Z
UID:10005542-1856948400-1856962800@av8maps.com
SUMMARY:Annual EAA Chapter 595 Fly-in (KTXW)
DESCRIPTION:Event will be at hangar W-29. \nPlease see parking (plane and car) details on website link below. \n 
URL:https://av8maps.com/event/2nd-annual-eaa-chapter-595-fly-in-ktxw-2/2028-11-04/
LOCATION:Mid-Valley Airport @ Hangar W-29\, 1909 Joe Stephens Ave\, Weslaco\, TX 78599
ATTACH;FMTTYPE=image/jpeg:https://av8maps.com/wp-content/uploads/2025/08/EAA-Chapter-595-1-e1756164503359.jpg
GEO:26.1778399;-97.9705612
X-APPLE-STRUCTURED-LOCATION;VALUE=URI;X-ADDRESS=Mid-Valley Airport @ Hangar W-29 1909 Joe Stephens Ave Weslaco TX 78599;X-APPLE-RADIUS=500;X-TITLE=1909 Joe Stephens Ave\, Weslaco\, TX 78599:geo:-97.9705612,26.1778399
END:VEVENT
BEGIN:VEVENT
DTSTART;TZID=America/New_York:20291103T110000
DTEND;TZID=America/New_York:20291103T150000
DTSTAMP:20260424T202812
CREATED:20251126T205548Z
LAST-MODIFIED:20251126T205550Z
UID:10005543-1888398000-1888412400@av8maps.com
SUMMARY:Annual EAA Chapter 595 Fly-in (KTXW)
DESCRIPTION:Event will be at hangar W-29. \nPlease see parking (plane and car) details on website link below. \n 
URL:https://av8maps.com/event/2nd-annual-eaa-chapter-595-fly-in-ktxw-2/2029-11-03/
LOCATION:Mid-Valley Airport @ Hangar W-29\, 1909 Joe Stephens Ave\, Weslaco\, TX 78599
ATTACH;FMTTYPE=image/jpeg:https://av8maps.com/wp-content/uploads/2025/08/EAA-Chapter-595-1-e1756164503359.jpg
GEO:26.1778399;-97.9705612
X-APPLE-STRUCTURED-LOCATION;VALUE=URI;X-ADDRESS=Mid-Valley Airport @ Hangar W-29 1909 Joe Stephens Ave Weslaco TX 78599;X-APPLE-RADIUS=500;X-TITLE=1909 Joe Stephens Ave\, Weslaco\, TX 78599:geo:-97.9705612,26.1778399
END:VEVENT
BEGIN:VEVENT
DTSTART;TZID=America/New_York:20301102T110000
DTEND;TZID=America/New_York:20301102T150000
DTSTAMP:20260424T202812
CREATED:20251126T205548Z
LAST-MODIFIED:20251126T205550Z
UID:10005544-1919847600-1919862000@av8maps.com
SUMMARY:Annual EAA Chapter 595 Fly-in (KTXW)
DESCRIPTION:Event will be at hangar W-29. \nPlease see parking (plane and car) details on website link below. \n 
URL:https://av8maps.com/event/2nd-annual-eaa-chapter-595-fly-in-ktxw-2/2030-11-02/
LOCATION:Mid-Valley Airport @ Hangar W-29\, 1909 Joe Stephens Ave\, Weslaco\, TX 78599
ATTACH;FMTTYPE=image/jpeg:https://av8maps.com/wp-content/uploads/2025/08/EAA-Chapter-595-1-e1756164503359.jpg
GEO:26.1778399;-97.9705612
X-APPLE-STRUCTURED-LOCATION;VALUE=URI;X-ADDRESS=Mid-Valley Airport @ Hangar W-29 1909 Joe Stephens Ave Weslaco TX 78599;X-APPLE-RADIUS=500;X-TITLE=1909 Joe Stephens Ave\, Weslaco\, TX 78599:geo:-97.9705612,26.1778399
END:VEVENT
END:VCALENDAR