BEGIN:VCALENDAR
VERSION:2.0
PRODID:-//AV8MAPS.COM - ECPv6.15.20//NONSGML v1.0//EN
CALSCALE:GREGORIAN
METHOD:PUBLISH
X-WR-CALNAME:AV8MAPS.COM
X-ORIGINAL-URL:https://av8maps.com
X-WR-CALDESC:Events for AV8MAPS.COM
REFRESH-INTERVAL;VALUE=DURATION:PT1H
X-Robots-Tag:noindex
X-PUBLISHED-TTL:PT1H
BEGIN:VTIMEZONE
TZID:America/New_York
BEGIN:DAYLIGHT
TZOFFSETFROM:-0500
TZOFFSETTO:-0400
TZNAME:EDT
DTSTART:20250309T070000
END:DAYLIGHT
BEGIN:STANDARD
TZOFFSETFROM:-0400
TZOFFSETTO:-0500
TZNAME:EST
DTSTART:20251102T060000
END:STANDARD
BEGIN:DAYLIGHT
TZOFFSETFROM:-0500
TZOFFSETTO:-0400
TZNAME:EDT
DTSTART:20260308T070000
END:DAYLIGHT
BEGIN:STANDARD
TZOFFSETFROM:-0400
TZOFFSETTO:-0500
TZNAME:EST
DTSTART:20261101T060000
END:STANDARD
BEGIN:DAYLIGHT
TZOFFSETFROM:-0500
TZOFFSETTO:-0400
TZNAME:EDT
DTSTART:20270314T070000
END:DAYLIGHT
BEGIN:STANDARD
TZOFFSETFROM:-0400
TZOFFSETTO:-0500
TZNAME:EST
DTSTART:20271107T060000
END:STANDARD
BEGIN:DAYLIGHT
TZOFFSETFROM:-0500
TZOFFSETTO:-0400
TZNAME:EDT
DTSTART:20280312T070000
END:DAYLIGHT
BEGIN:STANDARD
TZOFFSETFROM:-0400
TZOFFSETTO:-0500
TZNAME:EST
DTSTART:20281105T060000
END:STANDARD
BEGIN:DAYLIGHT
TZOFFSETFROM:-0500
TZOFFSETTO:-0400
TZNAME:EDT
DTSTART:20290311T070000
END:DAYLIGHT
BEGIN:STANDARD
TZOFFSETFROM:-0400
TZOFFSETTO:-0500
TZNAME:EST
DTSTART:20291104T060000
END:STANDARD
BEGIN:DAYLIGHT
TZOFFSETFROM:-0500
TZOFFSETTO:-0400
TZNAME:EDT
DTSTART:20300310T070000
END:DAYLIGHT
BEGIN:STANDARD
TZOFFSETFROM:-0400
TZOFFSETTO:-0500
TZNAME:EST
DTSTART:20301103T060000
END:STANDARD
BEGIN:DAYLIGHT
TZOFFSETFROM:-0500
TZOFFSETTO:-0400
TZNAME:EDT
DTSTART:20310309T070000
END:DAYLIGHT
BEGIN:STANDARD
TZOFFSETFROM:-0400
TZOFFSETTO:-0500
TZNAME:EST
DTSTART:20311102T060000
END:STANDARD
END:VTIMEZONE
BEGIN:VEVENT
DTSTART;TZID=America/New_York:20260926T100000
DTEND;TZID=America/New_York:20260926T140000
DTSTAMP:20260425T101347
CREATED:20250826T001643Z
LAST-MODIFIED:20251101T195042Z
UID:10003864-1790416800-1790431200@av8maps.com
SUMMARY:Annual Madisonville Municipal Fly-in & Car Show (51R)
DESCRIPTION:Madisonville Municipal is having its annual Fly-In & Car Show!!! 51R is a short 40 minute flight from Houston. Last year we had a huge turnout and we hope to see even more aviators faces this year! Mark your calendars for September 27th @ 51R!
URL:https://av8maps.com/event/2nd-annual-madisonville-municipal-fly-in-car-show-51r/2026-09-26/
LOCATION:Madisonville Municipal Airport\, 2207 Airport Ln\, Madisonville\, TX 77864
ATTACH;FMTTYPE=image/jpeg:https://av8maps.com/wp-content/uploads/2025/08/Madisonville-Municipal-51R-e1756167389933.jpg
GEO:30.9147215;-95.9505845
X-APPLE-STRUCTURED-LOCATION;VALUE=URI;X-ADDRESS=Madisonville Municipal Airport 2207 Airport Ln Madisonville TX 77864;X-APPLE-RADIUS=500;X-TITLE=2207 Airport Ln\, Madisonville\, TX 77864:geo:-95.9505845,30.9147215
END:VEVENT
BEGIN:VEVENT
DTSTART;TZID=America/New_York:20270925T100000
DTEND;TZID=America/New_York:20270925T140000
DTSTAMP:20260425T101347
CREATED:20250826T001643Z
LAST-MODIFIED:20251101T195042Z
UID:10003865-1821866400-1821880800@av8maps.com
SUMMARY:Annual Madisonville Municipal Fly-in & Car Show (51R)
DESCRIPTION:Madisonville Municipal is having its annual Fly-In & Car Show!!! 51R is a short 40 minute flight from Houston. Last year we had a huge turnout and we hope to see even more aviators faces this year! Mark your calendars for September 27th @ 51R!
URL:https://av8maps.com/event/2nd-annual-madisonville-municipal-fly-in-car-show-51r/2027-09-25/
LOCATION:Madisonville Municipal Airport\, 2207 Airport Ln\, Madisonville\, TX 77864
ATTACH;FMTTYPE=image/jpeg:https://av8maps.com/wp-content/uploads/2025/08/Madisonville-Municipal-51R-e1756167389933.jpg
GEO:30.9147215;-95.9505845
X-APPLE-STRUCTURED-LOCATION;VALUE=URI;X-ADDRESS=Madisonville Municipal Airport 2207 Airport Ln Madisonville TX 77864;X-APPLE-RADIUS=500;X-TITLE=2207 Airport Ln\, Madisonville\, TX 77864:geo:-95.9505845,30.9147215
END:VEVENT
BEGIN:VEVENT
DTSTART;TZID=America/New_York:20280923T100000
DTEND;TZID=America/New_York:20280923T140000
DTSTAMP:20260425T101347
CREATED:20250826T001643Z
LAST-MODIFIED:20251101T195042Z
UID:10003866-1853316000-1853330400@av8maps.com
SUMMARY:Annual Madisonville Municipal Fly-in & Car Show (51R)
DESCRIPTION:Madisonville Municipal is having its annual Fly-In & Car Show!!! 51R is a short 40 minute flight from Houston. Last year we had a huge turnout and we hope to see even more aviators faces this year! Mark your calendars for September 27th @ 51R!
URL:https://av8maps.com/event/2nd-annual-madisonville-municipal-fly-in-car-show-51r/2028-09-23/
LOCATION:Madisonville Municipal Airport\, 2207 Airport Ln\, Madisonville\, TX 77864
ATTACH;FMTTYPE=image/jpeg:https://av8maps.com/wp-content/uploads/2025/08/Madisonville-Municipal-51R-e1756167389933.jpg
GEO:30.9147215;-95.9505845
X-APPLE-STRUCTURED-LOCATION;VALUE=URI;X-ADDRESS=Madisonville Municipal Airport 2207 Airport Ln Madisonville TX 77864;X-APPLE-RADIUS=500;X-TITLE=2207 Airport Ln\, Madisonville\, TX 77864:geo:-95.9505845,30.9147215
END:VEVENT
BEGIN:VEVENT
DTSTART;TZID=America/New_York:20290922T100000
DTEND;TZID=America/New_York:20290922T140000
DTSTAMP:20260425T101347
CREATED:20250826T001643Z
LAST-MODIFIED:20251101T195042Z
UID:10003867-1884765600-1884780000@av8maps.com
SUMMARY:Annual Madisonville Municipal Fly-in & Car Show (51R)
DESCRIPTION:Madisonville Municipal is having its annual Fly-In & Car Show!!! 51R is a short 40 minute flight from Houston. Last year we had a huge turnout and we hope to see even more aviators faces this year! Mark your calendars for September 27th @ 51R!
URL:https://av8maps.com/event/2nd-annual-madisonville-municipal-fly-in-car-show-51r/2029-09-22/
LOCATION:Madisonville Municipal Airport\, 2207 Airport Ln\, Madisonville\, TX 77864
ATTACH;FMTTYPE=image/jpeg:https://av8maps.com/wp-content/uploads/2025/08/Madisonville-Municipal-51R-e1756167389933.jpg
GEO:30.9147215;-95.9505845
X-APPLE-STRUCTURED-LOCATION;VALUE=URI;X-ADDRESS=Madisonville Municipal Airport 2207 Airport Ln Madisonville TX 77864;X-APPLE-RADIUS=500;X-TITLE=2207 Airport Ln\, Madisonville\, TX 77864:geo:-95.9505845,30.9147215
END:VEVENT
BEGIN:VEVENT
DTSTART;TZID=America/New_York:20300928T100000
DTEND;TZID=America/New_York:20300928T140000
DTSTAMP:20260425T101347
CREATED:20250826T001643Z
LAST-MODIFIED:20251101T195042Z
UID:10003868-1916820000-1916834400@av8maps.com
SUMMARY:Annual Madisonville Municipal Fly-in & Car Show (51R)
DESCRIPTION:Madisonville Municipal is having its annual Fly-In & Car Show!!! 51R is a short 40 minute flight from Houston. Last year we had a huge turnout and we hope to see even more aviators faces this year! Mark your calendars for September 27th @ 51R!
URL:https://av8maps.com/event/2nd-annual-madisonville-municipal-fly-in-car-show-51r/2030-09-28/
LOCATION:Madisonville Municipal Airport\, 2207 Airport Ln\, Madisonville\, TX 77864
ATTACH;FMTTYPE=image/jpeg:https://av8maps.com/wp-content/uploads/2025/08/Madisonville-Municipal-51R-e1756167389933.jpg
GEO:30.9147215;-95.9505845
X-APPLE-STRUCTURED-LOCATION;VALUE=URI;X-ADDRESS=Madisonville Municipal Airport 2207 Airport Ln Madisonville TX 77864;X-APPLE-RADIUS=500;X-TITLE=2207 Airport Ln\, Madisonville\, TX 77864:geo:-95.9505845,30.9147215
END:VEVENT
END:VCALENDAR