BEGIN:VCALENDAR
VERSION:2.0
PRODID:-//AV8MAPS.COM - ECPv6.15.20//NONSGML v1.0//EN
CALSCALE:GREGORIAN
METHOD:PUBLISH
X-WR-CALNAME:AV8MAPS.COM
X-ORIGINAL-URL:https://av8maps.com
X-WR-CALDESC:Events for AV8MAPS.COM
REFRESH-INTERVAL;VALUE=DURATION:PT1H
X-Robots-Tag:noindex
X-PUBLISHED-TTL:PT1H
BEGIN:VTIMEZONE
TZID:America/New_York
BEGIN:DAYLIGHT
TZOFFSETFROM:-0500
TZOFFSETTO:-0400
TZNAME:EDT
DTSTART:20250309T070000
END:DAYLIGHT
BEGIN:STANDARD
TZOFFSETFROM:-0400
TZOFFSETTO:-0500
TZNAME:EST
DTSTART:20251102T060000
END:STANDARD
BEGIN:DAYLIGHT
TZOFFSETFROM:-0500
TZOFFSETTO:-0400
TZNAME:EDT
DTSTART:20260308T070000
END:DAYLIGHT
BEGIN:STANDARD
TZOFFSETFROM:-0400
TZOFFSETTO:-0500
TZNAME:EST
DTSTART:20261101T060000
END:STANDARD
BEGIN:DAYLIGHT
TZOFFSETFROM:-0500
TZOFFSETTO:-0400
TZNAME:EDT
DTSTART:20270314T070000
END:DAYLIGHT
BEGIN:STANDARD
TZOFFSETFROM:-0400
TZOFFSETTO:-0500
TZNAME:EST
DTSTART:20271107T060000
END:STANDARD
BEGIN:DAYLIGHT
TZOFFSETFROM:-0500
TZOFFSETTO:-0400
TZNAME:EDT
DTSTART:20280312T070000
END:DAYLIGHT
BEGIN:STANDARD
TZOFFSETFROM:-0400
TZOFFSETTO:-0500
TZNAME:EST
DTSTART:20281105T060000
END:STANDARD
BEGIN:DAYLIGHT
TZOFFSETFROM:-0500
TZOFFSETTO:-0400
TZNAME:EDT
DTSTART:20290311T070000
END:DAYLIGHT
BEGIN:STANDARD
TZOFFSETFROM:-0400
TZOFFSETTO:-0500
TZNAME:EST
DTSTART:20291104T060000
END:STANDARD
BEGIN:DAYLIGHT
TZOFFSETFROM:-0500
TZOFFSETTO:-0400
TZNAME:EDT
DTSTART:20300310T070000
END:DAYLIGHT
BEGIN:STANDARD
TZOFFSETFROM:-0400
TZOFFSETTO:-0500
TZNAME:EST
DTSTART:20301103T060000
END:STANDARD
BEGIN:DAYLIGHT
TZOFFSETFROM:-0500
TZOFFSETTO:-0400
TZNAME:EDT
DTSTART:20310309T070000
END:DAYLIGHT
BEGIN:STANDARD
TZOFFSETFROM:-0400
TZOFFSETTO:-0500
TZNAME:EST
DTSTART:20311102T060000
END:STANDARD
END:VTIMEZONE
BEGIN:VEVENT
DTSTART;TZID=America/New_York:20260905T120000
DTEND;TZID=America/New_York:20260905T170000
DTSTAMP:20260423T014525
CREATED:20250826T015339Z
LAST-MODIFIED:20251101T195335Z
UID:10003884-1788609600-1788627600@av8maps.com
SUMMARY:Clearview Annual Airport Fly-in Drive-In Picnic (2W2)
DESCRIPTION:Join us for the Clearview Flying Club’s Annual Fly-In! This year’s event promises to be a fantastic day for aviation enthusiasts and the whole community. Whether you’re a seasoned pilot or simply love airplanes\, there’s something for everyone.\nEvent Highlights:\n\nAircraft Displays: Get up close with a variety of planes\, from vintage classics to modern marvels.\nScenic Flights: Experience the thrill of flying with short scenic flights offered throughout the day.\nHamburgers\, Hotdogs\, Cake & Refreshments: Enjoy delicious food\, snacks\, and drinks available.\nMeet & Greet: Chat with pilots\, learn about their aircraft\, and hear their flying stories.\nFamily Fun: Kid-friendly activities.\n\nThis is a free event\, open to everyone! Whether you’re flying in or driving in\, we can’t wait to see you there. Don’t forget to invite your friends and family for a day of fun and flying!\n\nFly in and have some fun with us!
URL:https://av8maps.com/event/clearview-airport-fly-in-drive-in-picnic-2w2/2026-09-05/
LOCATION:Clearfield – Lawrence Township Airport\, 801 Airport Rd\, Clearfield\, PA 16830
ATTACH;FMTTYPE=image/jpeg:https://av8maps.com/wp-content/uploads/2025/08/Clearview-Airport-2W2-e1756173200859.jpg
GEO:41.048067;-78.4124329
X-APPLE-STRUCTURED-LOCATION;VALUE=URI;X-ADDRESS=Clearfield – Lawrence Township Airport 801 Airport Rd Clearfield PA 16830;X-APPLE-RADIUS=500;X-TITLE=801 Airport Rd\, Clearfield\, PA 16830:geo:-78.4124329,41.048067
END:VEVENT
BEGIN:VEVENT
DTSTART;TZID=America/New_York:20270904T120000
DTEND;TZID=America/New_York:20270904T170000
DTSTAMP:20260423T014525
CREATED:20250826T015339Z
LAST-MODIFIED:20251101T195335Z
UID:10003885-1820059200-1820077200@av8maps.com
SUMMARY:Clearview Annual Airport Fly-in Drive-In Picnic (2W2)
DESCRIPTION:Join us for the Clearview Flying Club’s Annual Fly-In! This year’s event promises to be a fantastic day for aviation enthusiasts and the whole community. Whether you’re a seasoned pilot or simply love airplanes\, there’s something for everyone.\nEvent Highlights:\n\nAircraft Displays: Get up close with a variety of planes\, from vintage classics to modern marvels.\nScenic Flights: Experience the thrill of flying with short scenic flights offered throughout the day.\nHamburgers\, Hotdogs\, Cake & Refreshments: Enjoy delicious food\, snacks\, and drinks available.\nMeet & Greet: Chat with pilots\, learn about their aircraft\, and hear their flying stories.\nFamily Fun: Kid-friendly activities.\n\nThis is a free event\, open to everyone! Whether you’re flying in or driving in\, we can’t wait to see you there. Don’t forget to invite your friends and family for a day of fun and flying!\n\nFly in and have some fun with us!
URL:https://av8maps.com/event/clearview-airport-fly-in-drive-in-picnic-2w2/2027-09-04/
LOCATION:Clearfield – Lawrence Township Airport\, 801 Airport Rd\, Clearfield\, PA 16830
ATTACH;FMTTYPE=image/jpeg:https://av8maps.com/wp-content/uploads/2025/08/Clearview-Airport-2W2-e1756173200859.jpg
GEO:41.048067;-78.4124329
X-APPLE-STRUCTURED-LOCATION;VALUE=URI;X-ADDRESS=Clearfield – Lawrence Township Airport 801 Airport Rd Clearfield PA 16830;X-APPLE-RADIUS=500;X-TITLE=801 Airport Rd\, Clearfield\, PA 16830:geo:-78.4124329,41.048067
END:VEVENT
BEGIN:VEVENT
DTSTART;TZID=America/New_York:20280902T120000
DTEND;TZID=America/New_York:20280902T170000
DTSTAMP:20260423T014525
CREATED:20250826T015339Z
LAST-MODIFIED:20251101T195335Z
UID:10003886-1851508800-1851526800@av8maps.com
SUMMARY:Clearview Annual Airport Fly-in Drive-In Picnic (2W2)
DESCRIPTION:Join us for the Clearview Flying Club’s Annual Fly-In! This year’s event promises to be a fantastic day for aviation enthusiasts and the whole community. Whether you’re a seasoned pilot or simply love airplanes\, there’s something for everyone.\nEvent Highlights:\n\nAircraft Displays: Get up close with a variety of planes\, from vintage classics to modern marvels.\nScenic Flights: Experience the thrill of flying with short scenic flights offered throughout the day.\nHamburgers\, Hotdogs\, Cake & Refreshments: Enjoy delicious food\, snacks\, and drinks available.\nMeet & Greet: Chat with pilots\, learn about their aircraft\, and hear their flying stories.\nFamily Fun: Kid-friendly activities.\n\nThis is a free event\, open to everyone! Whether you’re flying in or driving in\, we can’t wait to see you there. Don’t forget to invite your friends and family for a day of fun and flying!\n\nFly in and have some fun with us!
URL:https://av8maps.com/event/clearview-airport-fly-in-drive-in-picnic-2w2/2028-09-02/
LOCATION:Clearfield – Lawrence Township Airport\, 801 Airport Rd\, Clearfield\, PA 16830
ATTACH;FMTTYPE=image/jpeg:https://av8maps.com/wp-content/uploads/2025/08/Clearview-Airport-2W2-e1756173200859.jpg
GEO:41.048067;-78.4124329
X-APPLE-STRUCTURED-LOCATION;VALUE=URI;X-ADDRESS=Clearfield – Lawrence Township Airport 801 Airport Rd Clearfield PA 16830;X-APPLE-RADIUS=500;X-TITLE=801 Airport Rd\, Clearfield\, PA 16830:geo:-78.4124329,41.048067
END:VEVENT
BEGIN:VEVENT
DTSTART;TZID=America/New_York:20290901T120000
DTEND;TZID=America/New_York:20290901T170000
DTSTAMP:20260423T014525
CREATED:20250826T015339Z
LAST-MODIFIED:20251101T195335Z
UID:10003887-1882958400-1882976400@av8maps.com
SUMMARY:Clearview Annual Airport Fly-in Drive-In Picnic (2W2)
DESCRIPTION:Join us for the Clearview Flying Club’s Annual Fly-In! This year’s event promises to be a fantastic day for aviation enthusiasts and the whole community. Whether you’re a seasoned pilot or simply love airplanes\, there’s something for everyone.\nEvent Highlights:\n\nAircraft Displays: Get up close with a variety of planes\, from vintage classics to modern marvels.\nScenic Flights: Experience the thrill of flying with short scenic flights offered throughout the day.\nHamburgers\, Hotdogs\, Cake & Refreshments: Enjoy delicious food\, snacks\, and drinks available.\nMeet & Greet: Chat with pilots\, learn about their aircraft\, and hear their flying stories.\nFamily Fun: Kid-friendly activities.\n\nThis is a free event\, open to everyone! Whether you’re flying in or driving in\, we can’t wait to see you there. Don’t forget to invite your friends and family for a day of fun and flying!\n\nFly in and have some fun with us!
URL:https://av8maps.com/event/clearview-airport-fly-in-drive-in-picnic-2w2/2029-09-01/
LOCATION:Clearfield – Lawrence Township Airport\, 801 Airport Rd\, Clearfield\, PA 16830
ATTACH;FMTTYPE=image/jpeg:https://av8maps.com/wp-content/uploads/2025/08/Clearview-Airport-2W2-e1756173200859.jpg
GEO:41.048067;-78.4124329
X-APPLE-STRUCTURED-LOCATION;VALUE=URI;X-ADDRESS=Clearfield – Lawrence Township Airport 801 Airport Rd Clearfield PA 16830;X-APPLE-RADIUS=500;X-TITLE=801 Airport Rd\, Clearfield\, PA 16830:geo:-78.4124329,41.048067
END:VEVENT
BEGIN:VEVENT
DTSTART;TZID=America/New_York:20300907T120000
DTEND;TZID=America/New_York:20300907T170000
DTSTAMP:20260423T014525
CREATED:20250826T015339Z
LAST-MODIFIED:20251101T195335Z
UID:10003888-1915012800-1915030800@av8maps.com
SUMMARY:Clearview Annual Airport Fly-in Drive-In Picnic (2W2)
DESCRIPTION:Join us for the Clearview Flying Club’s Annual Fly-In! This year’s event promises to be a fantastic day for aviation enthusiasts and the whole community. Whether you’re a seasoned pilot or simply love airplanes\, there’s something for everyone.\nEvent Highlights:\n\nAircraft Displays: Get up close with a variety of planes\, from vintage classics to modern marvels.\nScenic Flights: Experience the thrill of flying with short scenic flights offered throughout the day.\nHamburgers\, Hotdogs\, Cake & Refreshments: Enjoy delicious food\, snacks\, and drinks available.\nMeet & Greet: Chat with pilots\, learn about their aircraft\, and hear their flying stories.\nFamily Fun: Kid-friendly activities.\n\nThis is a free event\, open to everyone! Whether you’re flying in or driving in\, we can’t wait to see you there. Don’t forget to invite your friends and family for a day of fun and flying!\n\nFly in and have some fun with us!
URL:https://av8maps.com/event/clearview-airport-fly-in-drive-in-picnic-2w2/2030-09-07/
LOCATION:Clearfield – Lawrence Township Airport\, 801 Airport Rd\, Clearfield\, PA 16830
ATTACH;FMTTYPE=image/jpeg:https://av8maps.com/wp-content/uploads/2025/08/Clearview-Airport-2W2-e1756173200859.jpg
GEO:41.048067;-78.4124329
X-APPLE-STRUCTURED-LOCATION;VALUE=URI;X-ADDRESS=Clearfield – Lawrence Township Airport 801 Airport Rd Clearfield PA 16830;X-APPLE-RADIUS=500;X-TITLE=801 Airport Rd\, Clearfield\, PA 16830:geo:-78.4124329,41.048067
END:VEVENT
END:VCALENDAR