BEGIN:VCALENDAR
VERSION:2.0
PRODID:-//AV8MAPS.COM - ECPv6.15.20//NONSGML v1.0//EN
CALSCALE:GREGORIAN
METHOD:PUBLISH
X-WR-CALNAME:AV8MAPS.COM
X-ORIGINAL-URL:https://av8maps.com
X-WR-CALDESC:Events for AV8MAPS.COM
REFRESH-INTERVAL;VALUE=DURATION:PT1H
X-Robots-Tag:noindex
X-PUBLISHED-TTL:PT1H
BEGIN:VTIMEZONE
TZID:America/New_York
BEGIN:DAYLIGHT
TZOFFSETFROM:-0500
TZOFFSETTO:-0400
TZNAME:EDT
DTSTART:20250309T070000
END:DAYLIGHT
BEGIN:STANDARD
TZOFFSETFROM:-0400
TZOFFSETTO:-0500
TZNAME:EST
DTSTART:20251102T060000
END:STANDARD
BEGIN:DAYLIGHT
TZOFFSETFROM:-0500
TZOFFSETTO:-0400
TZNAME:EDT
DTSTART:20260308T070000
END:DAYLIGHT
BEGIN:STANDARD
TZOFFSETFROM:-0400
TZOFFSETTO:-0500
TZNAME:EST
DTSTART:20261101T060000
END:STANDARD
BEGIN:DAYLIGHT
TZOFFSETFROM:-0500
TZOFFSETTO:-0400
TZNAME:EDT
DTSTART:20270314T070000
END:DAYLIGHT
BEGIN:STANDARD
TZOFFSETFROM:-0400
TZOFFSETTO:-0500
TZNAME:EST
DTSTART:20271107T060000
END:STANDARD
BEGIN:DAYLIGHT
TZOFFSETFROM:-0500
TZOFFSETTO:-0400
TZNAME:EDT
DTSTART:20280312T070000
END:DAYLIGHT
BEGIN:STANDARD
TZOFFSETFROM:-0400
TZOFFSETTO:-0500
TZNAME:EST
DTSTART:20281105T060000
END:STANDARD
BEGIN:DAYLIGHT
TZOFFSETFROM:-0500
TZOFFSETTO:-0400
TZNAME:EDT
DTSTART:20290311T070000
END:DAYLIGHT
BEGIN:STANDARD
TZOFFSETFROM:-0400
TZOFFSETTO:-0500
TZNAME:EST
DTSTART:20291104T060000
END:STANDARD
BEGIN:DAYLIGHT
TZOFFSETFROM:-0500
TZOFFSETTO:-0400
TZNAME:EDT
DTSTART:20300310T070000
END:DAYLIGHT
BEGIN:STANDARD
TZOFFSETFROM:-0400
TZOFFSETTO:-0500
TZNAME:EST
DTSTART:20301103T060000
END:STANDARD
BEGIN:DAYLIGHT
TZOFFSETFROM:-0500
TZOFFSETTO:-0400
TZNAME:EDT
DTSTART:20310309T070000
END:DAYLIGHT
BEGIN:STANDARD
TZOFFSETFROM:-0400
TZOFFSETTO:-0500
TZNAME:EST
DTSTART:20311102T060000
END:STANDARD
END:VTIMEZONE
BEGIN:VEVENT
DTSTART;TZID=America/New_York:20261113T090000
DTEND;TZID=America/New_York:20261115T170000
DTSTAMP:20260423T193330
CREATED:20260420T120927Z
LAST-MODIFIED:20260420T121551Z
UID:10003889-1794560400-1794762000@av8maps.com
SUMMARY:Annual Affordable Flying Expo (KLAL)
DESCRIPTION:Aero-News Network\, creators of the SportPlane Resource Guide\, is once again teaming up with SUN ’n FUN Aerospace Expo and key industry partners to bring the next generation of winter aviation expos to life. \nFollowing a strong debut\, the second annual event is officially scheduled for November 13–15\, 2026\, at Lakeland Linder International Airport in Lakeland\, Florida\, home of the legendary SUN ’n FUN Aerospace Expo. While SUN ’n FUN is providing valuable support and expertise\, they are not the primary organizer\, as they continue to manage their own world-class programs throughout the year. \nWith a prime location\, exceptional industry backing\, and a continued focus on hands-on engagement\, this event is becoming a must-attend gathering for aviation enthusiasts and the sport aviation community.
URL:https://av8maps.com/event/affordable-flying-expo-3/2026-11-13/
LOCATION:Lakeland Linder Intl Airport\, 4157 Medulla Rd\, Lakeland\, FL\, 33811
ATTACH;FMTTYPE=image/jpeg:https://av8maps.com/wp-content/uploads/2025/08/affordable-Flying-Expo.jpg-e1756254191521.jpg
ORGANIZER;CN="Aero News Network":MAILTO:mktg@aero-news.net
GEO:27.9820006;-82.0308576
X-APPLE-STRUCTURED-LOCATION;VALUE=URI;X-ADDRESS=Lakeland Linder Intl Airport 4157 Medulla Rd Lakeland FL 33811;X-APPLE-RADIUS=500;X-TITLE=4157 Medulla Rd:geo:-82.0308576,27.9820006
END:VEVENT
BEGIN:VEVENT
DTSTART;TZID=America/New_York:20271112T090000
DTEND;TZID=America/New_York:20271114T170000
DTSTAMP:20260423T193330
CREATED:20260420T120927Z
LAST-MODIFIED:20260420T121551Z
UID:10006609-1826010000-1826211600@av8maps.com
SUMMARY:Annual Affordable Flying Expo (KLAL)
DESCRIPTION:Aero-News Network\, creators of the SportPlane Resource Guide\, is once again teaming up with SUN ’n FUN Aerospace Expo and key industry partners to bring the next generation of winter aviation expos to life. \nFollowing a strong debut\, the second annual event is officially scheduled for November 13–15\, 2026\, at Lakeland Linder International Airport in Lakeland\, Florida\, home of the legendary SUN ’n FUN Aerospace Expo. While SUN ’n FUN is providing valuable support and expertise\, they are not the primary organizer\, as they continue to manage their own world-class programs throughout the year. \nWith a prime location\, exceptional industry backing\, and a continued focus on hands-on engagement\, this event is becoming a must-attend gathering for aviation enthusiasts and the sport aviation community.
URL:https://av8maps.com/event/affordable-flying-expo-3/2027-11-12/
LOCATION:Lakeland Linder Intl Airport\, 4157 Medulla Rd\, Lakeland\, FL\, 33811
ATTACH;FMTTYPE=image/jpeg:https://av8maps.com/wp-content/uploads/2025/08/affordable-Flying-Expo.jpg-e1756254191521.jpg
ORGANIZER;CN="Aero News Network":MAILTO:mktg@aero-news.net
GEO:27.9820006;-82.0308576
X-APPLE-STRUCTURED-LOCATION;VALUE=URI;X-ADDRESS=Lakeland Linder Intl Airport 4157 Medulla Rd Lakeland FL 33811;X-APPLE-RADIUS=500;X-TITLE=4157 Medulla Rd:geo:-82.0308576,27.9820006
END:VEVENT
BEGIN:VEVENT
DTSTART;TZID=America/New_York:20281110T090000
DTEND;TZID=America/New_York:20281112T170000
DTSTAMP:20260423T193330
CREATED:20260420T120927Z
LAST-MODIFIED:20260420T121551Z
UID:10006610-1857459600-1857661200@av8maps.com
SUMMARY:Annual Affordable Flying Expo (KLAL)
DESCRIPTION:Aero-News Network\, creators of the SportPlane Resource Guide\, is once again teaming up with SUN ’n FUN Aerospace Expo and key industry partners to bring the next generation of winter aviation expos to life. \nFollowing a strong debut\, the second annual event is officially scheduled for November 13–15\, 2026\, at Lakeland Linder International Airport in Lakeland\, Florida\, home of the legendary SUN ’n FUN Aerospace Expo. While SUN ’n FUN is providing valuable support and expertise\, they are not the primary organizer\, as they continue to manage their own world-class programs throughout the year. \nWith a prime location\, exceptional industry backing\, and a continued focus on hands-on engagement\, this event is becoming a must-attend gathering for aviation enthusiasts and the sport aviation community.
URL:https://av8maps.com/event/affordable-flying-expo-3/2028-11-10/
LOCATION:Lakeland Linder Intl Airport\, 4157 Medulla Rd\, Lakeland\, FL\, 33811
ATTACH;FMTTYPE=image/jpeg:https://av8maps.com/wp-content/uploads/2025/08/affordable-Flying-Expo.jpg-e1756254191521.jpg
ORGANIZER;CN="Aero News Network":MAILTO:mktg@aero-news.net
GEO:27.9820006;-82.0308576
X-APPLE-STRUCTURED-LOCATION;VALUE=URI;X-ADDRESS=Lakeland Linder Intl Airport 4157 Medulla Rd Lakeland FL 33811;X-APPLE-RADIUS=500;X-TITLE=4157 Medulla Rd:geo:-82.0308576,27.9820006
END:VEVENT
BEGIN:VEVENT
DTSTART;TZID=America/New_York:20291109T090000
DTEND;TZID=America/New_York:20291111T170000
DTSTAMP:20260423T193330
CREATED:20260420T120927Z
LAST-MODIFIED:20260420T121551Z
UID:10006611-1888909200-1889110800@av8maps.com
SUMMARY:Annual Affordable Flying Expo (KLAL)
DESCRIPTION:Aero-News Network\, creators of the SportPlane Resource Guide\, is once again teaming up with SUN ’n FUN Aerospace Expo and key industry partners to bring the next generation of winter aviation expos to life. \nFollowing a strong debut\, the second annual event is officially scheduled for November 13–15\, 2026\, at Lakeland Linder International Airport in Lakeland\, Florida\, home of the legendary SUN ’n FUN Aerospace Expo. While SUN ’n FUN is providing valuable support and expertise\, they are not the primary organizer\, as they continue to manage their own world-class programs throughout the year. \nWith a prime location\, exceptional industry backing\, and a continued focus on hands-on engagement\, this event is becoming a must-attend gathering for aviation enthusiasts and the sport aviation community.
URL:https://av8maps.com/event/affordable-flying-expo-3/2029-11-09/
LOCATION:Lakeland Linder Intl Airport\, 4157 Medulla Rd\, Lakeland\, FL\, 33811
ATTACH;FMTTYPE=image/jpeg:https://av8maps.com/wp-content/uploads/2025/08/affordable-Flying-Expo.jpg-e1756254191521.jpg
ORGANIZER;CN="Aero News Network":MAILTO:mktg@aero-news.net
GEO:27.9820006;-82.0308576
X-APPLE-STRUCTURED-LOCATION;VALUE=URI;X-ADDRESS=Lakeland Linder Intl Airport 4157 Medulla Rd Lakeland FL 33811;X-APPLE-RADIUS=500;X-TITLE=4157 Medulla Rd:geo:-82.0308576,27.9820006
END:VEVENT
BEGIN:VEVENT
DTSTART;TZID=America/New_York:20301108T090000
DTEND;TZID=America/New_York:20301110T170000
DTSTAMP:20260423T193330
CREATED:20260420T120927Z
LAST-MODIFIED:20260420T121551Z
UID:10006612-1920358800-1920560400@av8maps.com
SUMMARY:Annual Affordable Flying Expo (KLAL)
DESCRIPTION:Aero-News Network\, creators of the SportPlane Resource Guide\, is once again teaming up with SUN ’n FUN Aerospace Expo and key industry partners to bring the next generation of winter aviation expos to life. \nFollowing a strong debut\, the second annual event is officially scheduled for November 13–15\, 2026\, at Lakeland Linder International Airport in Lakeland\, Florida\, home of the legendary SUN ’n FUN Aerospace Expo. While SUN ’n FUN is providing valuable support and expertise\, they are not the primary organizer\, as they continue to manage their own world-class programs throughout the year. \nWith a prime location\, exceptional industry backing\, and a continued focus on hands-on engagement\, this event is becoming a must-attend gathering for aviation enthusiasts and the sport aviation community.
URL:https://av8maps.com/event/affordable-flying-expo-3/2030-11-08/
LOCATION:Lakeland Linder Intl Airport\, 4157 Medulla Rd\, Lakeland\, FL\, 33811
ATTACH;FMTTYPE=image/jpeg:https://av8maps.com/wp-content/uploads/2025/08/affordable-Flying-Expo.jpg-e1756254191521.jpg
ORGANIZER;CN="Aero News Network":MAILTO:mktg@aero-news.net
GEO:27.9820006;-82.0308576
X-APPLE-STRUCTURED-LOCATION;VALUE=URI;X-ADDRESS=Lakeland Linder Intl Airport 4157 Medulla Rd Lakeland FL 33811;X-APPLE-RADIUS=500;X-TITLE=4157 Medulla Rd:geo:-82.0308576,27.9820006
END:VEVENT
END:VCALENDAR