BEGIN:VCALENDAR
VERSION:2.0
PRODID:-//AV8MAPS.COM - ECPv6.15.20//NONSGML v1.0//EN
CALSCALE:GREGORIAN
METHOD:PUBLISH
X-WR-CALNAME:AV8MAPS.COM
X-ORIGINAL-URL:https://av8maps.com
X-WR-CALDESC:Events for AV8MAPS.COM
REFRESH-INTERVAL;VALUE=DURATION:PT1H
X-Robots-Tag:noindex
X-PUBLISHED-TTL:PT1H
BEGIN:VTIMEZONE
TZID:America/New_York
BEGIN:DAYLIGHT
TZOFFSETFROM:-0500
TZOFFSETTO:-0400
TZNAME:EDT
DTSTART:20250309T070000
END:DAYLIGHT
BEGIN:STANDARD
TZOFFSETFROM:-0400
TZOFFSETTO:-0500
TZNAME:EST
DTSTART:20251102T060000
END:STANDARD
BEGIN:DAYLIGHT
TZOFFSETFROM:-0500
TZOFFSETTO:-0400
TZNAME:EDT
DTSTART:20260308T070000
END:DAYLIGHT
BEGIN:STANDARD
TZOFFSETFROM:-0400
TZOFFSETTO:-0500
TZNAME:EST
DTSTART:20261101T060000
END:STANDARD
BEGIN:DAYLIGHT
TZOFFSETFROM:-0500
TZOFFSETTO:-0400
TZNAME:EDT
DTSTART:20270314T070000
END:DAYLIGHT
BEGIN:STANDARD
TZOFFSETFROM:-0400
TZOFFSETTO:-0500
TZNAME:EST
DTSTART:20271107T060000
END:STANDARD
BEGIN:DAYLIGHT
TZOFFSETFROM:-0500
TZOFFSETTO:-0400
TZNAME:EDT
DTSTART:20280312T070000
END:DAYLIGHT
BEGIN:STANDARD
TZOFFSETFROM:-0400
TZOFFSETTO:-0500
TZNAME:EST
DTSTART:20281105T060000
END:STANDARD
BEGIN:DAYLIGHT
TZOFFSETFROM:-0500
TZOFFSETTO:-0400
TZNAME:EDT
DTSTART:20290311T070000
END:DAYLIGHT
BEGIN:STANDARD
TZOFFSETFROM:-0400
TZOFFSETTO:-0500
TZNAME:EST
DTSTART:20291104T060000
END:STANDARD
BEGIN:DAYLIGHT
TZOFFSETFROM:-0500
TZOFFSETTO:-0400
TZNAME:EDT
DTSTART:20300310T070000
END:DAYLIGHT
BEGIN:STANDARD
TZOFFSETFROM:-0400
TZOFFSETTO:-0500
TZNAME:EST
DTSTART:20301103T060000
END:STANDARD
END:VTIMEZONE
BEGIN:VEVENT
DTSTART;TZID=America/New_York:20261112T080000
DTEND;TZID=America/New_York:20261114T130000
DTSTAMP:20260423T021001
CREATED:20250819T160210Z
LAST-MODIFIED:20251101T200632Z
UID:10004166-1794470400-1794661200@av8maps.com
SUMMARY:The Annual Navajo Christmas Airlift (KGUP)
DESCRIPTION:📅 Mark Your Calendar\nNovember 13–15\, 2025 • Gallup Airport (KGUP)\nDaily operations: 8 AM – 1 PM MST\nThe Southwest Indian Foundation has told us time and again how much they value the generosity and reliability of this aviation community. The donations we bring are vital — warm clothing\, household goods\, food\, and other necessities that go directly to families living in third-world conditions right here in the U.S.\nWhat to Bring (same as in prior years):\nCold-weather clothing (new or gently used\, all sizes)\nBlankets\, linens\, pillows\, towels\nGood-condition toys (working order)\nToiletries: soap\, shampoo\, toothpaste\, brushes\, lotion\, etc.\nCleaning supplies: bleach\, disinfectant\, wipes\nNon-perishables: canned meats\, beans\, flour\, sugar\, cooking oil\, etc.\nPaper goods: plates\, paper towels\, toilet paper\, etc.\nSchool supplies\nYour mission: fill your aircraft with as much as it can safely carry.\nDonations often come easily from friends\, family\, schools\, churches\, and businesses who are eager to help. The cost of your flight and your donated items are tax-deductible — you’ll receive the proper form after the airlift.\nIf you collect more than you can carry\, we’ve arranged overflow storage near Deer Valley and will coordinate with pilots who have extra capacity.\nLet’s make this year another unforgettable success. Please RSVP your participation to: rusty@desertjags.com so we can track aircraft and capacity.\nQuestions? Reach out by DM or email rusty@desertjags.com.\nThank you for keeping this mission alive and strong for over four decades. Let’s make the 41st Airlift our biggest yet!
URL:https://av8maps.com/event/the-41st-annual-navajo-christmas-airlift/2026-11-12/
LOCATION:Gallup Municipal Airport
ATTACH;FMTTYPE=image/jpeg:https://av8maps.com/wp-content/uploads/2025/08/Navajo-Nation-Airlift-KGUP-e1756759755605.jpg
END:VEVENT
BEGIN:VEVENT
DTSTART;TZID=America/New_York:20271111T080000
DTEND;TZID=America/New_York:20271113T130000
DTSTAMP:20260423T021001
CREATED:20250819T160210Z
LAST-MODIFIED:20251101T200632Z
UID:10004167-1825920000-1826110800@av8maps.com
SUMMARY:The Annual Navajo Christmas Airlift (KGUP)
DESCRIPTION:📅 Mark Your Calendar\nNovember 13–15\, 2025 • Gallup Airport (KGUP)\nDaily operations: 8 AM – 1 PM MST\nThe Southwest Indian Foundation has told us time and again how much they value the generosity and reliability of this aviation community. The donations we bring are vital — warm clothing\, household goods\, food\, and other necessities that go directly to families living in third-world conditions right here in the U.S.\nWhat to Bring (same as in prior years):\nCold-weather clothing (new or gently used\, all sizes)\nBlankets\, linens\, pillows\, towels\nGood-condition toys (working order)\nToiletries: soap\, shampoo\, toothpaste\, brushes\, lotion\, etc.\nCleaning supplies: bleach\, disinfectant\, wipes\nNon-perishables: canned meats\, beans\, flour\, sugar\, cooking oil\, etc.\nPaper goods: plates\, paper towels\, toilet paper\, etc.\nSchool supplies\nYour mission: fill your aircraft with as much as it can safely carry.\nDonations often come easily from friends\, family\, schools\, churches\, and businesses who are eager to help. The cost of your flight and your donated items are tax-deductible — you’ll receive the proper form after the airlift.\nIf you collect more than you can carry\, we’ve arranged overflow storage near Deer Valley and will coordinate with pilots who have extra capacity.\nLet’s make this year another unforgettable success. Please RSVP your participation to: rusty@desertjags.com so we can track aircraft and capacity.\nQuestions? Reach out by DM or email rusty@desertjags.com.\nThank you for keeping this mission alive and strong for over four decades. Let’s make the 41st Airlift our biggest yet!
URL:https://av8maps.com/event/the-41st-annual-navajo-christmas-airlift/2027-11-11/
LOCATION:Gallup Municipal Airport
ATTACH;FMTTYPE=image/jpeg:https://av8maps.com/wp-content/uploads/2025/08/Navajo-Nation-Airlift-KGUP-e1756759755605.jpg
END:VEVENT
BEGIN:VEVENT
DTSTART;TZID=America/New_York:20281109T080000
DTEND;TZID=America/New_York:20281111T130000
DTSTAMP:20260423T021001
CREATED:20250819T160210Z
LAST-MODIFIED:20251101T200632Z
UID:10004168-1857369600-1857560400@av8maps.com
SUMMARY:The Annual Navajo Christmas Airlift (KGUP)
DESCRIPTION:📅 Mark Your Calendar\nNovember 13–15\, 2025 • Gallup Airport (KGUP)\nDaily operations: 8 AM – 1 PM MST\nThe Southwest Indian Foundation has told us time and again how much they value the generosity and reliability of this aviation community. The donations we bring are vital — warm clothing\, household goods\, food\, and other necessities that go directly to families living in third-world conditions right here in the U.S.\nWhat to Bring (same as in prior years):\nCold-weather clothing (new or gently used\, all sizes)\nBlankets\, linens\, pillows\, towels\nGood-condition toys (working order)\nToiletries: soap\, shampoo\, toothpaste\, brushes\, lotion\, etc.\nCleaning supplies: bleach\, disinfectant\, wipes\nNon-perishables: canned meats\, beans\, flour\, sugar\, cooking oil\, etc.\nPaper goods: plates\, paper towels\, toilet paper\, etc.\nSchool supplies\nYour mission: fill your aircraft with as much as it can safely carry.\nDonations often come easily from friends\, family\, schools\, churches\, and businesses who are eager to help. The cost of your flight and your donated items are tax-deductible — you’ll receive the proper form after the airlift.\nIf you collect more than you can carry\, we’ve arranged overflow storage near Deer Valley and will coordinate with pilots who have extra capacity.\nLet’s make this year another unforgettable success. Please RSVP your participation to: rusty@desertjags.com so we can track aircraft and capacity.\nQuestions? Reach out by DM or email rusty@desertjags.com.\nThank you for keeping this mission alive and strong for over four decades. Let’s make the 41st Airlift our biggest yet!
URL:https://av8maps.com/event/the-41st-annual-navajo-christmas-airlift/2028-11-09/
LOCATION:Gallup Municipal Airport
ATTACH;FMTTYPE=image/jpeg:https://av8maps.com/wp-content/uploads/2025/08/Navajo-Nation-Airlift-KGUP-e1756759755605.jpg
END:VEVENT
BEGIN:VEVENT
DTSTART;TZID=America/New_York:20291108T080000
DTEND;TZID=America/New_York:20291110T130000
DTSTAMP:20260423T021001
CREATED:20250819T160210Z
LAST-MODIFIED:20251101T200632Z
UID:10004169-1888819200-1889010000@av8maps.com
SUMMARY:The Annual Navajo Christmas Airlift (KGUP)
DESCRIPTION:📅 Mark Your Calendar\nNovember 13–15\, 2025 • Gallup Airport (KGUP)\nDaily operations: 8 AM – 1 PM MST\nThe Southwest Indian Foundation has told us time and again how much they value the generosity and reliability of this aviation community. The donations we bring are vital — warm clothing\, household goods\, food\, and other necessities that go directly to families living in third-world conditions right here in the U.S.\nWhat to Bring (same as in prior years):\nCold-weather clothing (new or gently used\, all sizes)\nBlankets\, linens\, pillows\, towels\nGood-condition toys (working order)\nToiletries: soap\, shampoo\, toothpaste\, brushes\, lotion\, etc.\nCleaning supplies: bleach\, disinfectant\, wipes\nNon-perishables: canned meats\, beans\, flour\, sugar\, cooking oil\, etc.\nPaper goods: plates\, paper towels\, toilet paper\, etc.\nSchool supplies\nYour mission: fill your aircraft with as much as it can safely carry.\nDonations often come easily from friends\, family\, schools\, churches\, and businesses who are eager to help. The cost of your flight and your donated items are tax-deductible — you’ll receive the proper form after the airlift.\nIf you collect more than you can carry\, we’ve arranged overflow storage near Deer Valley and will coordinate with pilots who have extra capacity.\nLet’s make this year another unforgettable success. Please RSVP your participation to: rusty@desertjags.com so we can track aircraft and capacity.\nQuestions? Reach out by DM or email rusty@desertjags.com.\nThank you for keeping this mission alive and strong for over four decades. Let’s make the 41st Airlift our biggest yet!
URL:https://av8maps.com/event/the-41st-annual-navajo-christmas-airlift/2029-11-08/
LOCATION:Gallup Municipal Airport
ATTACH;FMTTYPE=image/jpeg:https://av8maps.com/wp-content/uploads/2025/08/Navajo-Nation-Airlift-KGUP-e1756759755605.jpg
END:VEVENT
END:VCALENDAR