BEGIN:VCALENDAR
VERSION:2.0
PRODID:-//AV8MAPS.COM - ECPv6.15.20//NONSGML v1.0//EN
CALSCALE:GREGORIAN
METHOD:PUBLISH
X-WR-CALNAME:AV8MAPS.COM
X-ORIGINAL-URL:https://av8maps.com
X-WR-CALDESC:Events for AV8MAPS.COM
REFRESH-INTERVAL;VALUE=DURATION:PT1H
X-Robots-Tag:noindex
X-PUBLISHED-TTL:PT1H
BEGIN:VTIMEZONE
TZID:America/New_York
BEGIN:DAYLIGHT
TZOFFSETFROM:-0500
TZOFFSETTO:-0400
TZNAME:EDT
DTSTART:20250309T070000
END:DAYLIGHT
BEGIN:STANDARD
TZOFFSETFROM:-0400
TZOFFSETTO:-0500
TZNAME:EST
DTSTART:20251102T060000
END:STANDARD
BEGIN:DAYLIGHT
TZOFFSETFROM:-0500
TZOFFSETTO:-0400
TZNAME:EDT
DTSTART:20260308T070000
END:DAYLIGHT
BEGIN:STANDARD
TZOFFSETFROM:-0400
TZOFFSETTO:-0500
TZNAME:EST
DTSTART:20261101T060000
END:STANDARD
BEGIN:DAYLIGHT
TZOFFSETFROM:-0500
TZOFFSETTO:-0400
TZNAME:EDT
DTSTART:20270314T070000
END:DAYLIGHT
BEGIN:STANDARD
TZOFFSETFROM:-0400
TZOFFSETTO:-0500
TZNAME:EST
DTSTART:20271107T060000
END:STANDARD
END:VTIMEZONE
BEGIN:VEVENT
DTSTART;TZID=America/New_York:20260503T110000
DTEND;TZID=America/New_York:20260503T150000
DTSTAMP:20260423T062515
CREATED:20250523T173446Z
LAST-MODIFIED:20260408T002914Z
UID:10004170-1777806000-1777820400@av8maps.com
SUMMARY:Salinas Food & Fly-in (KSNS)
DESCRIPTION:Are you ready for the Food Truck Fly In?!\n\n\nBring the whole family for an afternoon of music\, spectacular planes and cars\, delicious food and handcrafted items!\n\n\n\n\n\nDiscounted fuel for folks flying in! Make sure to mention to GateOne/JetWest that you are flying in for the event!
URL:https://av8maps.com/event/salinas-food-fly-in-ksns/
LOCATION:Salinas Municipal Airport\, 30 Mortensen Ave\, Salinas\, CA\, 93905
ATTACH;FMTTYPE=image/jpeg:https://av8maps.com/wp-content/uploads/2025/05/Salinas-Food-and-Fly-in-5032026-e1775607914972.jpg
GEO:36.6655265;-121.6120224
X-APPLE-STRUCTURED-LOCATION;VALUE=URI;X-ADDRESS=Salinas Municipal Airport 30 Mortensen Ave Salinas CA 93905;X-APPLE-RADIUS=500;X-TITLE=30 Mortensen Ave:geo:-121.6120224,36.6655265
END:VEVENT
END:VCALENDAR