BEGIN:VCALENDAR
VERSION:2.0
PRODID:-//AV8MAPS.COM - ECPv6.15.20//NONSGML v1.0//EN
CALSCALE:GREGORIAN
METHOD:PUBLISH
X-WR-CALNAME:AV8MAPS.COM
X-ORIGINAL-URL:https://av8maps.com
X-WR-CALDESC:Events for AV8MAPS.COM
REFRESH-INTERVAL;VALUE=DURATION:PT1H
X-Robots-Tag:noindex
X-PUBLISHED-TTL:PT1H
BEGIN:VTIMEZONE
TZID:America/New_York
BEGIN:DAYLIGHT
TZOFFSETFROM:-0500
TZOFFSETTO:-0400
TZNAME:EDT
DTSTART:20250309T070000
END:DAYLIGHT
BEGIN:STANDARD
TZOFFSETFROM:-0400
TZOFFSETTO:-0500
TZNAME:EST
DTSTART:20251102T060000
END:STANDARD
BEGIN:DAYLIGHT
TZOFFSETFROM:-0500
TZOFFSETTO:-0400
TZNAME:EDT
DTSTART:20260308T070000
END:DAYLIGHT
BEGIN:STANDARD
TZOFFSETFROM:-0400
TZOFFSETTO:-0500
TZNAME:EST
DTSTART:20261101T060000
END:STANDARD
BEGIN:DAYLIGHT
TZOFFSETFROM:-0500
TZOFFSETTO:-0400
TZNAME:EDT
DTSTART:20270314T070000
END:DAYLIGHT
BEGIN:STANDARD
TZOFFSETFROM:-0400
TZOFFSETTO:-0500
TZNAME:EST
DTSTART:20271107T060000
END:STANDARD
BEGIN:DAYLIGHT
TZOFFSETFROM:-0500
TZOFFSETTO:-0400
TZNAME:EDT
DTSTART:20280312T070000
END:DAYLIGHT
BEGIN:STANDARD
TZOFFSETFROM:-0400
TZOFFSETTO:-0500
TZNAME:EST
DTSTART:20281105T060000
END:STANDARD
BEGIN:DAYLIGHT
TZOFFSETFROM:-0500
TZOFFSETTO:-0400
TZNAME:EDT
DTSTART:20290311T070000
END:DAYLIGHT
BEGIN:STANDARD
TZOFFSETFROM:-0400
TZOFFSETTO:-0500
TZNAME:EST
DTSTART:20291104T060000
END:STANDARD
BEGIN:DAYLIGHT
TZOFFSETFROM:-0500
TZOFFSETTO:-0400
TZNAME:EDT
DTSTART:20300310T070000
END:DAYLIGHT
BEGIN:STANDARD
TZOFFSETFROM:-0400
TZOFFSETTO:-0500
TZNAME:EST
DTSTART:20301103T060000
END:STANDARD
BEGIN:DAYLIGHT
TZOFFSETFROM:-0500
TZOFFSETTO:-0400
TZNAME:EDT
DTSTART:20310309T070000
END:DAYLIGHT
BEGIN:STANDARD
TZOFFSETFROM:-0400
TZOFFSETTO:-0500
TZNAME:EST
DTSTART:20311102T060000
END:STANDARD
END:VTIMEZONE
BEGIN:VEVENT
DTSTART;TZID=America/New_York:20260912T160000
DTEND;TZID=America/New_York:20260912T190000
DTSTAMP:20260423T065237
CREATED:20250904T010353Z
LAST-MODIFIED:20251101T201747Z
UID:10004190-1789228800-1789239600@av8maps.com
SUMMARY:Iosco County Airport Annual Fish Fry Fly-in (6D9)
DESCRIPTION:Iosco County Airport and Iosco Flying Club is hosting their Annual Fish Fry for interested pilots.
URL:https://av8maps.com/event/iosco-county-airport-2nd-annual-fish-fry-fly-in-6d9/2026-09-12/
LOCATION:Iosco County Airport\, 1131 Aulerich Rd\, East Tawas\, MI 48730
ATTACH;FMTTYPE=image/jpeg:https://av8maps.com/wp-content/uploads/2025/09/Iosco-County-Airport-2nd-Annual-Fish-Fry-e1756947700328.jpg
GEO:44.3121627;-83.4223286
X-APPLE-STRUCTURED-LOCATION;VALUE=URI;X-ADDRESS=Iosco County Airport 1131 Aulerich Rd East Tawas MI 48730;X-APPLE-RADIUS=500;X-TITLE=1131 Aulerich Rd\, East Tawas\, MI 48730:geo:-83.4223286,44.3121627
END:VEVENT
BEGIN:VEVENT
DTSTART;TZID=America/New_York:20270911T160000
DTEND;TZID=America/New_York:20270911T190000
DTSTAMP:20260423T065237
CREATED:20250904T010353Z
LAST-MODIFIED:20251101T201747Z
UID:10004191-1820678400-1820689200@av8maps.com
SUMMARY:Iosco County Airport Annual Fish Fry Fly-in (6D9)
DESCRIPTION:Iosco County Airport and Iosco Flying Club is hosting their Annual Fish Fry for interested pilots.
URL:https://av8maps.com/event/iosco-county-airport-2nd-annual-fish-fry-fly-in-6d9/2027-09-11/
LOCATION:Iosco County Airport\, 1131 Aulerich Rd\, East Tawas\, MI 48730
ATTACH;FMTTYPE=image/jpeg:https://av8maps.com/wp-content/uploads/2025/09/Iosco-County-Airport-2nd-Annual-Fish-Fry-e1756947700328.jpg
GEO:44.3121627;-83.4223286
X-APPLE-STRUCTURED-LOCATION;VALUE=URI;X-ADDRESS=Iosco County Airport 1131 Aulerich Rd East Tawas MI 48730;X-APPLE-RADIUS=500;X-TITLE=1131 Aulerich Rd\, East Tawas\, MI 48730:geo:-83.4223286,44.3121627
END:VEVENT
BEGIN:VEVENT
DTSTART;TZID=America/New_York:20280909T160000
DTEND;TZID=America/New_York:20280909T190000
DTSTAMP:20260423T065237
CREATED:20250904T010353Z
LAST-MODIFIED:20251101T201747Z
UID:10004192-1852128000-1852138800@av8maps.com
SUMMARY:Iosco County Airport Annual Fish Fry Fly-in (6D9)
DESCRIPTION:Iosco County Airport and Iosco Flying Club is hosting their Annual Fish Fry for interested pilots.
URL:https://av8maps.com/event/iosco-county-airport-2nd-annual-fish-fry-fly-in-6d9/2028-09-09/
LOCATION:Iosco County Airport\, 1131 Aulerich Rd\, East Tawas\, MI 48730
ATTACH;FMTTYPE=image/jpeg:https://av8maps.com/wp-content/uploads/2025/09/Iosco-County-Airport-2nd-Annual-Fish-Fry-e1756947700328.jpg
GEO:44.3121627;-83.4223286
X-APPLE-STRUCTURED-LOCATION;VALUE=URI;X-ADDRESS=Iosco County Airport 1131 Aulerich Rd East Tawas MI 48730;X-APPLE-RADIUS=500;X-TITLE=1131 Aulerich Rd\, East Tawas\, MI 48730:geo:-83.4223286,44.3121627
END:VEVENT
BEGIN:VEVENT
DTSTART;TZID=America/New_York:20290908T160000
DTEND;TZID=America/New_York:20290908T190000
DTSTAMP:20260423T065237
CREATED:20250904T010353Z
LAST-MODIFIED:20251101T201747Z
UID:10004193-1883577600-1883588400@av8maps.com
SUMMARY:Iosco County Airport Annual Fish Fry Fly-in (6D9)
DESCRIPTION:Iosco County Airport and Iosco Flying Club is hosting their Annual Fish Fry for interested pilots.
URL:https://av8maps.com/event/iosco-county-airport-2nd-annual-fish-fry-fly-in-6d9/2029-09-08/
LOCATION:Iosco County Airport\, 1131 Aulerich Rd\, East Tawas\, MI 48730
ATTACH;FMTTYPE=image/jpeg:https://av8maps.com/wp-content/uploads/2025/09/Iosco-County-Airport-2nd-Annual-Fish-Fry-e1756947700328.jpg
GEO:44.3121627;-83.4223286
X-APPLE-STRUCTURED-LOCATION;VALUE=URI;X-ADDRESS=Iosco County Airport 1131 Aulerich Rd East Tawas MI 48730;X-APPLE-RADIUS=500;X-TITLE=1131 Aulerich Rd\, East Tawas\, MI 48730:geo:-83.4223286,44.3121627
END:VEVENT
BEGIN:VEVENT
DTSTART;TZID=America/New_York:20300914T160000
DTEND;TZID=America/New_York:20300914T190000
DTSTAMP:20260423T065237
CREATED:20250904T010353Z
LAST-MODIFIED:20251101T201747Z
UID:10004194-1915632000-1915642800@av8maps.com
SUMMARY:Iosco County Airport Annual Fish Fry Fly-in (6D9)
DESCRIPTION:Iosco County Airport and Iosco Flying Club is hosting their Annual Fish Fry for interested pilots.
URL:https://av8maps.com/event/iosco-county-airport-2nd-annual-fish-fry-fly-in-6d9/2030-09-14/
LOCATION:Iosco County Airport\, 1131 Aulerich Rd\, East Tawas\, MI 48730
ATTACH;FMTTYPE=image/jpeg:https://av8maps.com/wp-content/uploads/2025/09/Iosco-County-Airport-2nd-Annual-Fish-Fry-e1756947700328.jpg
GEO:44.3121627;-83.4223286
X-APPLE-STRUCTURED-LOCATION;VALUE=URI;X-ADDRESS=Iosco County Airport 1131 Aulerich Rd East Tawas MI 48730;X-APPLE-RADIUS=500;X-TITLE=1131 Aulerich Rd\, East Tawas\, MI 48730:geo:-83.4223286,44.3121627
END:VEVENT
END:VCALENDAR