BEGIN:VCALENDAR
VERSION:2.0
PRODID:-//AV8MAPS.COM - ECPv6.15.20//NONSGML v1.0//EN
CALSCALE:GREGORIAN
METHOD:PUBLISH
X-WR-CALNAME:AV8MAPS.COM
X-ORIGINAL-URL:https://av8maps.com
X-WR-CALDESC:Events for AV8MAPS.COM
REFRESH-INTERVAL;VALUE=DURATION:PT1H
X-Robots-Tag:noindex
X-PUBLISHED-TTL:PT1H
BEGIN:VTIMEZONE
TZID:America/New_York
BEGIN:DAYLIGHT
TZOFFSETFROM:-0500
TZOFFSETTO:-0400
TZNAME:EDT
DTSTART:20250309T070000
END:DAYLIGHT
BEGIN:STANDARD
TZOFFSETFROM:-0400
TZOFFSETTO:-0500
TZNAME:EST
DTSTART:20251102T060000
END:STANDARD
BEGIN:DAYLIGHT
TZOFFSETFROM:-0500
TZOFFSETTO:-0400
TZNAME:EDT
DTSTART:20260308T070000
END:DAYLIGHT
BEGIN:STANDARD
TZOFFSETFROM:-0400
TZOFFSETTO:-0500
TZNAME:EST
DTSTART:20261101T060000
END:STANDARD
BEGIN:DAYLIGHT
TZOFFSETFROM:-0500
TZOFFSETTO:-0400
TZNAME:EDT
DTSTART:20270314T070000
END:DAYLIGHT
BEGIN:STANDARD
TZOFFSETFROM:-0400
TZOFFSETTO:-0500
TZNAME:EST
DTSTART:20271107T060000
END:STANDARD
BEGIN:DAYLIGHT
TZOFFSETFROM:-0500
TZOFFSETTO:-0400
TZNAME:EDT
DTSTART:20280312T070000
END:DAYLIGHT
BEGIN:STANDARD
TZOFFSETFROM:-0400
TZOFFSETTO:-0500
TZNAME:EST
DTSTART:20281105T060000
END:STANDARD
BEGIN:DAYLIGHT
TZOFFSETFROM:-0500
TZOFFSETTO:-0400
TZNAME:EDT
DTSTART:20290311T070000
END:DAYLIGHT
BEGIN:STANDARD
TZOFFSETFROM:-0400
TZOFFSETTO:-0500
TZNAME:EST
DTSTART:20291104T060000
END:STANDARD
BEGIN:DAYLIGHT
TZOFFSETFROM:-0500
TZOFFSETTO:-0400
TZNAME:EDT
DTSTART:20300310T070000
END:DAYLIGHT
BEGIN:STANDARD
TZOFFSETFROM:-0400
TZOFFSETTO:-0500
TZNAME:EST
DTSTART:20301103T060000
END:STANDARD
BEGIN:DAYLIGHT
TZOFFSETFROM:-0500
TZOFFSETTO:-0400
TZNAME:EDT
DTSTART:20310309T070000
END:DAYLIGHT
BEGIN:STANDARD
TZOFFSETFROM:-0400
TZOFFSETTO:-0500
TZNAME:EST
DTSTART:20311102T060000
END:STANDARD
END:VTIMEZONE
BEGIN:VEVENT
DTSTART;TZID=America/New_York:20261017T090000
DTEND;TZID=America/New_York:20261017T113000
DTSTAMP:20260423T193337
CREATED:20250905T002031Z
LAST-MODIFIED:20251101T202206Z
UID:10004199-1792227600-1792236600@av8maps.com
SUMMARY:Big T Airpark Annual Pancake Breakfast Fly-Mart & Poker Run (64GA)
DESCRIPTION:Pumpkin Pancakes Breakfast\, Bacon\, Sausage and Coffee starts at 9am-11:30am \nPoker Run to Follow departs at 11:45am \nContact Koffy @ 1-818-398-6791 to sign up for poker run \nCTAF:  122.85
URL:https://av8maps.com/event/big-t-airpark-annual-pancake-breakfast-fly-mart-poker-run-64ga/2026-10-17/
LOCATION:Big T Airpark\, 78 Tinsley Way\, Senoia\, GA 30276
ATTACH;FMTTYPE=image/jpeg:https://av8maps.com/wp-content/uploads/2025/09/Big-T-Airpark-e1757031301100.jpg
GEO:33.281646;-84.5386287
X-APPLE-STRUCTURED-LOCATION;VALUE=URI;X-ADDRESS=Big T Airpark 78 Tinsley Way Senoia GA 30276;X-APPLE-RADIUS=500;X-TITLE=78 Tinsley Way\, Senoia\, GA 30276:geo:-84.5386287,33.281646
END:VEVENT
BEGIN:VEVENT
DTSTART;TZID=America/New_York:20271016T090000
DTEND;TZID=America/New_York:20271016T113000
DTSTAMP:20260423T193337
CREATED:20250905T002031Z
LAST-MODIFIED:20251101T202206Z
UID:10004200-1823677200-1823686200@av8maps.com
SUMMARY:Big T Airpark Annual Pancake Breakfast Fly-Mart & Poker Run (64GA)
DESCRIPTION:Pumpkin Pancakes Breakfast\, Bacon\, Sausage and Coffee starts at 9am-11:30am \nPoker Run to Follow departs at 11:45am \nContact Koffy @ 1-818-398-6791 to sign up for poker run \nCTAF:  122.85
URL:https://av8maps.com/event/big-t-airpark-annual-pancake-breakfast-fly-mart-poker-run-64ga/2027-10-16/
LOCATION:Big T Airpark\, 78 Tinsley Way\, Senoia\, GA 30276
ATTACH;FMTTYPE=image/jpeg:https://av8maps.com/wp-content/uploads/2025/09/Big-T-Airpark-e1757031301100.jpg
GEO:33.281646;-84.5386287
X-APPLE-STRUCTURED-LOCATION;VALUE=URI;X-ADDRESS=Big T Airpark 78 Tinsley Way Senoia GA 30276;X-APPLE-RADIUS=500;X-TITLE=78 Tinsley Way\, Senoia\, GA 30276:geo:-84.5386287,33.281646
END:VEVENT
BEGIN:VEVENT
DTSTART;TZID=America/New_York:20281021T090000
DTEND;TZID=America/New_York:20281021T113000
DTSTAMP:20260423T193337
CREATED:20250905T002031Z
LAST-MODIFIED:20251101T202206Z
UID:10004201-1855731600-1855740600@av8maps.com
SUMMARY:Big T Airpark Annual Pancake Breakfast Fly-Mart & Poker Run (64GA)
DESCRIPTION:Pumpkin Pancakes Breakfast\, Bacon\, Sausage and Coffee starts at 9am-11:30am \nPoker Run to Follow departs at 11:45am \nContact Koffy @ 1-818-398-6791 to sign up for poker run \nCTAF:  122.85
URL:https://av8maps.com/event/big-t-airpark-annual-pancake-breakfast-fly-mart-poker-run-64ga/2028-10-21/
LOCATION:Big T Airpark\, 78 Tinsley Way\, Senoia\, GA 30276
ATTACH;FMTTYPE=image/jpeg:https://av8maps.com/wp-content/uploads/2025/09/Big-T-Airpark-e1757031301100.jpg
GEO:33.281646;-84.5386287
X-APPLE-STRUCTURED-LOCATION;VALUE=URI;X-ADDRESS=Big T Airpark 78 Tinsley Way Senoia GA 30276;X-APPLE-RADIUS=500;X-TITLE=78 Tinsley Way\, Senoia\, GA 30276:geo:-84.5386287,33.281646
END:VEVENT
BEGIN:VEVENT
DTSTART;TZID=America/New_York:20291020T090000
DTEND;TZID=America/New_York:20291020T113000
DTSTAMP:20260423T193337
CREATED:20250905T002031Z
LAST-MODIFIED:20251101T202206Z
UID:10004202-1887181200-1887190200@av8maps.com
SUMMARY:Big T Airpark Annual Pancake Breakfast Fly-Mart & Poker Run (64GA)
DESCRIPTION:Pumpkin Pancakes Breakfast\, Bacon\, Sausage and Coffee starts at 9am-11:30am \nPoker Run to Follow departs at 11:45am \nContact Koffy @ 1-818-398-6791 to sign up for poker run \nCTAF:  122.85
URL:https://av8maps.com/event/big-t-airpark-annual-pancake-breakfast-fly-mart-poker-run-64ga/2029-10-20/
LOCATION:Big T Airpark\, 78 Tinsley Way\, Senoia\, GA 30276
ATTACH;FMTTYPE=image/jpeg:https://av8maps.com/wp-content/uploads/2025/09/Big-T-Airpark-e1757031301100.jpg
GEO:33.281646;-84.5386287
X-APPLE-STRUCTURED-LOCATION;VALUE=URI;X-ADDRESS=Big T Airpark 78 Tinsley Way Senoia GA 30276;X-APPLE-RADIUS=500;X-TITLE=78 Tinsley Way\, Senoia\, GA 30276:geo:-84.5386287,33.281646
END:VEVENT
BEGIN:VEVENT
DTSTART;TZID=America/New_York:20301019T090000
DTEND;TZID=America/New_York:20301019T113000
DTSTAMP:20260423T193337
CREATED:20250905T002031Z
LAST-MODIFIED:20251101T202206Z
UID:10004203-1918630800-1918639800@av8maps.com
SUMMARY:Big T Airpark Annual Pancake Breakfast Fly-Mart & Poker Run (64GA)
DESCRIPTION:Pumpkin Pancakes Breakfast\, Bacon\, Sausage and Coffee starts at 9am-11:30am \nPoker Run to Follow departs at 11:45am \nContact Koffy @ 1-818-398-6791 to sign up for poker run \nCTAF:  122.85
URL:https://av8maps.com/event/big-t-airpark-annual-pancake-breakfast-fly-mart-poker-run-64ga/2030-10-19/
LOCATION:Big T Airpark\, 78 Tinsley Way\, Senoia\, GA 30276
ATTACH;FMTTYPE=image/jpeg:https://av8maps.com/wp-content/uploads/2025/09/Big-T-Airpark-e1757031301100.jpg
GEO:33.281646;-84.5386287
X-APPLE-STRUCTURED-LOCATION;VALUE=URI;X-ADDRESS=Big T Airpark 78 Tinsley Way Senoia GA 30276;X-APPLE-RADIUS=500;X-TITLE=78 Tinsley Way\, Senoia\, GA 30276:geo:-84.5386287,33.281646
END:VEVENT
END:VCALENDAR