BEGIN:VCALENDAR
VERSION:2.0
PRODID:-//AV8MAPS.COM - ECPv6.15.20//NONSGML v1.0//EN
CALSCALE:GREGORIAN
METHOD:PUBLISH
X-WR-CALNAME:AV8MAPS.COM
X-ORIGINAL-URL:https://av8maps.com
X-WR-CALDESC:Events for AV8MAPS.COM
REFRESH-INTERVAL;VALUE=DURATION:PT1H
X-Robots-Tag:noindex
X-PUBLISHED-TTL:PT1H
BEGIN:VTIMEZONE
TZID:America/New_York
BEGIN:DAYLIGHT
TZOFFSETFROM:-0500
TZOFFSETTO:-0400
TZNAME:EDT
DTSTART:20250309T070000
END:DAYLIGHT
BEGIN:STANDARD
TZOFFSETFROM:-0400
TZOFFSETTO:-0500
TZNAME:EST
DTSTART:20251102T060000
END:STANDARD
BEGIN:DAYLIGHT
TZOFFSETFROM:-0500
TZOFFSETTO:-0400
TZNAME:EDT
DTSTART:20260308T070000
END:DAYLIGHT
BEGIN:STANDARD
TZOFFSETFROM:-0400
TZOFFSETTO:-0500
TZNAME:EST
DTSTART:20261101T060000
END:STANDARD
BEGIN:DAYLIGHT
TZOFFSETFROM:-0500
TZOFFSETTO:-0400
TZNAME:EDT
DTSTART:20270314T070000
END:DAYLIGHT
BEGIN:STANDARD
TZOFFSETFROM:-0400
TZOFFSETTO:-0500
TZNAME:EST
DTSTART:20271107T060000
END:STANDARD
BEGIN:DAYLIGHT
TZOFFSETFROM:-0500
TZOFFSETTO:-0400
TZNAME:EDT
DTSTART:20280312T070000
END:DAYLIGHT
BEGIN:STANDARD
TZOFFSETFROM:-0400
TZOFFSETTO:-0500
TZNAME:EST
DTSTART:20281105T060000
END:STANDARD
BEGIN:DAYLIGHT
TZOFFSETFROM:-0500
TZOFFSETTO:-0400
TZNAME:EDT
DTSTART:20290311T070000
END:DAYLIGHT
BEGIN:STANDARD
TZOFFSETFROM:-0400
TZOFFSETTO:-0500
TZNAME:EST
DTSTART:20291104T060000
END:STANDARD
BEGIN:DAYLIGHT
TZOFFSETFROM:-0500
TZOFFSETTO:-0400
TZNAME:EDT
DTSTART:20300310T070000
END:DAYLIGHT
BEGIN:STANDARD
TZOFFSETFROM:-0400
TZOFFSETTO:-0500
TZNAME:EST
DTSTART:20301103T060000
END:STANDARD
BEGIN:DAYLIGHT
TZOFFSETFROM:-0500
TZOFFSETTO:-0400
TZNAME:EDT
DTSTART:20310309T070000
END:DAYLIGHT
BEGIN:STANDARD
TZOFFSETFROM:-0400
TZOFFSETTO:-0500
TZNAME:EST
DTSTART:20311102T060000
END:STANDARD
END:VTIMEZONE
BEGIN:VEVENT
DTSTART;TZID=America/New_York:20260926T090000
DTEND;TZID=America/New_York:20260926T123000
DTSTAMP:20260425T131124
CREATED:20250907T185813Z
LAST-MODIFIED:20251101T202649Z
UID:10004209-1790413200-1790425800@av8maps.com
SUMMARY:Annual Poker Run (S78)
DESCRIPTION:Join us for the Annual Poker Run at the Emmett Airport (S78) on Saturday\, September 27. It’s a great chance for aviators to get together before the weather changes.\n\n\nStart Location: Emmett Municipal Airport (S78) End Location\, Lunch & Awards: Emmett Municipal Airport (S78) Join us for a thrilling day of food\, flying\, fellowship\, and poker! Fly to 4 different airports\, collect a card at each stop\, and compete for the best (5 Card) poker hand. All aircraft and pilot experience levels welcome! Entry Fee: $25 per aircraft (includes pilot + 1 Poker Hand) Additional hands: $10 each (No Max) Lunch: Lunch will be available ($10.00) after the Poker Run (BBQ Hamburgers\, Hot Dogs\, Chips and Drink) 50/50 : There will be a 50/50 Drawing during lunch – Tickets are $1.00 each. Trophy Award Categories: – Best Hand\, Worst Hand\, Oldest Pilot Proceeds benefit: Emmett Airport Pilot Projects RSVP: Please RSVP to s78advisoryboard@gmail.com letting us know how many in your party will be eating lunch.
URL:https://av8maps.com/event/1st-annual-poker-run-s78/2026-09-26/
LOCATION:Emmett Municipal Airport\, 2000-2428\, 2102 W Sales Yard Rd\, Emmett\, ID 83617
ATTACH;FMTTYPE=image/jpeg:https://av8maps.com/wp-content/uploads/2025/09/1st-Annual-Poker-Run-S78-e1757271483373.jpg
GEO:43.8512112;-116.5360634
X-APPLE-STRUCTURED-LOCATION;VALUE=URI;X-ADDRESS=Emmett Municipal Airport 2000-2428 2102 W Sales Yard Rd Emmett ID 83617;X-APPLE-RADIUS=500;X-TITLE=2000-2428\, 2102 W Sales Yard Rd\, Emmett\, ID 83617:geo:-116.5360634,43.8512112
END:VEVENT
BEGIN:VEVENT
DTSTART;TZID=America/New_York:20270925T090000
DTEND;TZID=America/New_York:20270925T123000
DTSTAMP:20260425T131124
CREATED:20250907T185813Z
LAST-MODIFIED:20251101T202649Z
UID:10004210-1821862800-1821875400@av8maps.com
SUMMARY:Annual Poker Run (S78)
DESCRIPTION:Join us for the Annual Poker Run at the Emmett Airport (S78) on Saturday\, September 27. It’s a great chance for aviators to get together before the weather changes.\n\n\nStart Location: Emmett Municipal Airport (S78) End Location\, Lunch & Awards: Emmett Municipal Airport (S78) Join us for a thrilling day of food\, flying\, fellowship\, and poker! Fly to 4 different airports\, collect a card at each stop\, and compete for the best (5 Card) poker hand. All aircraft and pilot experience levels welcome! Entry Fee: $25 per aircraft (includes pilot + 1 Poker Hand) Additional hands: $10 each (No Max) Lunch: Lunch will be available ($10.00) after the Poker Run (BBQ Hamburgers\, Hot Dogs\, Chips and Drink) 50/50 : There will be a 50/50 Drawing during lunch – Tickets are $1.00 each. Trophy Award Categories: – Best Hand\, Worst Hand\, Oldest Pilot Proceeds benefit: Emmett Airport Pilot Projects RSVP: Please RSVP to s78advisoryboard@gmail.com letting us know how many in your party will be eating lunch.
URL:https://av8maps.com/event/1st-annual-poker-run-s78/2027-09-25/
LOCATION:Emmett Municipal Airport\, 2000-2428\, 2102 W Sales Yard Rd\, Emmett\, ID 83617
ATTACH;FMTTYPE=image/jpeg:https://av8maps.com/wp-content/uploads/2025/09/1st-Annual-Poker-Run-S78-e1757271483373.jpg
GEO:43.8512112;-116.5360634
X-APPLE-STRUCTURED-LOCATION;VALUE=URI;X-ADDRESS=Emmett Municipal Airport 2000-2428 2102 W Sales Yard Rd Emmett ID 83617;X-APPLE-RADIUS=500;X-TITLE=2000-2428\, 2102 W Sales Yard Rd\, Emmett\, ID 83617:geo:-116.5360634,43.8512112
END:VEVENT
BEGIN:VEVENT
DTSTART;TZID=America/New_York:20280923T090000
DTEND;TZID=America/New_York:20280923T123000
DTSTAMP:20260425T131124
CREATED:20250907T185813Z
LAST-MODIFIED:20251101T202649Z
UID:10004211-1853312400-1853325000@av8maps.com
SUMMARY:Annual Poker Run (S78)
DESCRIPTION:Join us for the Annual Poker Run at the Emmett Airport (S78) on Saturday\, September 27. It’s a great chance for aviators to get together before the weather changes.\n\n\nStart Location: Emmett Municipal Airport (S78) End Location\, Lunch & Awards: Emmett Municipal Airport (S78) Join us for a thrilling day of food\, flying\, fellowship\, and poker! Fly to 4 different airports\, collect a card at each stop\, and compete for the best (5 Card) poker hand. All aircraft and pilot experience levels welcome! Entry Fee: $25 per aircraft (includes pilot + 1 Poker Hand) Additional hands: $10 each (No Max) Lunch: Lunch will be available ($10.00) after the Poker Run (BBQ Hamburgers\, Hot Dogs\, Chips and Drink) 50/50 : There will be a 50/50 Drawing during lunch – Tickets are $1.00 each. Trophy Award Categories: – Best Hand\, Worst Hand\, Oldest Pilot Proceeds benefit: Emmett Airport Pilot Projects RSVP: Please RSVP to s78advisoryboard@gmail.com letting us know how many in your party will be eating lunch.
URL:https://av8maps.com/event/1st-annual-poker-run-s78/2028-09-23/
LOCATION:Emmett Municipal Airport\, 2000-2428\, 2102 W Sales Yard Rd\, Emmett\, ID 83617
ATTACH;FMTTYPE=image/jpeg:https://av8maps.com/wp-content/uploads/2025/09/1st-Annual-Poker-Run-S78-e1757271483373.jpg
GEO:43.8512112;-116.5360634
X-APPLE-STRUCTURED-LOCATION;VALUE=URI;X-ADDRESS=Emmett Municipal Airport 2000-2428 2102 W Sales Yard Rd Emmett ID 83617;X-APPLE-RADIUS=500;X-TITLE=2000-2428\, 2102 W Sales Yard Rd\, Emmett\, ID 83617:geo:-116.5360634,43.8512112
END:VEVENT
BEGIN:VEVENT
DTSTART;TZID=America/New_York:20290922T090000
DTEND;TZID=America/New_York:20290922T123000
DTSTAMP:20260425T131124
CREATED:20250907T185813Z
LAST-MODIFIED:20251101T202649Z
UID:10004212-1884762000-1884774600@av8maps.com
SUMMARY:Annual Poker Run (S78)
DESCRIPTION:Join us for the Annual Poker Run at the Emmett Airport (S78) on Saturday\, September 27. It’s a great chance for aviators to get together before the weather changes.\n\n\nStart Location: Emmett Municipal Airport (S78) End Location\, Lunch & Awards: Emmett Municipal Airport (S78) Join us for a thrilling day of food\, flying\, fellowship\, and poker! Fly to 4 different airports\, collect a card at each stop\, and compete for the best (5 Card) poker hand. All aircraft and pilot experience levels welcome! Entry Fee: $25 per aircraft (includes pilot + 1 Poker Hand) Additional hands: $10 each (No Max) Lunch: Lunch will be available ($10.00) after the Poker Run (BBQ Hamburgers\, Hot Dogs\, Chips and Drink) 50/50 : There will be a 50/50 Drawing during lunch – Tickets are $1.00 each. Trophy Award Categories: – Best Hand\, Worst Hand\, Oldest Pilot Proceeds benefit: Emmett Airport Pilot Projects RSVP: Please RSVP to s78advisoryboard@gmail.com letting us know how many in your party will be eating lunch.
URL:https://av8maps.com/event/1st-annual-poker-run-s78/2029-09-22/
LOCATION:Emmett Municipal Airport\, 2000-2428\, 2102 W Sales Yard Rd\, Emmett\, ID 83617
ATTACH;FMTTYPE=image/jpeg:https://av8maps.com/wp-content/uploads/2025/09/1st-Annual-Poker-Run-S78-e1757271483373.jpg
GEO:43.8512112;-116.5360634
X-APPLE-STRUCTURED-LOCATION;VALUE=URI;X-ADDRESS=Emmett Municipal Airport 2000-2428 2102 W Sales Yard Rd Emmett ID 83617;X-APPLE-RADIUS=500;X-TITLE=2000-2428\, 2102 W Sales Yard Rd\, Emmett\, ID 83617:geo:-116.5360634,43.8512112
END:VEVENT
BEGIN:VEVENT
DTSTART;TZID=America/New_York:20300928T090000
DTEND;TZID=America/New_York:20300928T123000
DTSTAMP:20260425T131124
CREATED:20250907T185813Z
LAST-MODIFIED:20251101T202649Z
UID:10004213-1916816400-1916829000@av8maps.com
SUMMARY:Annual Poker Run (S78)
DESCRIPTION:Join us for the Annual Poker Run at the Emmett Airport (S78) on Saturday\, September 27. It’s a great chance for aviators to get together before the weather changes.\n\n\nStart Location: Emmett Municipal Airport (S78) End Location\, Lunch & Awards: Emmett Municipal Airport (S78) Join us for a thrilling day of food\, flying\, fellowship\, and poker! Fly to 4 different airports\, collect a card at each stop\, and compete for the best (5 Card) poker hand. All aircraft and pilot experience levels welcome! Entry Fee: $25 per aircraft (includes pilot + 1 Poker Hand) Additional hands: $10 each (No Max) Lunch: Lunch will be available ($10.00) after the Poker Run (BBQ Hamburgers\, Hot Dogs\, Chips and Drink) 50/50 : There will be a 50/50 Drawing during lunch – Tickets are $1.00 each. Trophy Award Categories: – Best Hand\, Worst Hand\, Oldest Pilot Proceeds benefit: Emmett Airport Pilot Projects RSVP: Please RSVP to s78advisoryboard@gmail.com letting us know how many in your party will be eating lunch.
URL:https://av8maps.com/event/1st-annual-poker-run-s78/2030-09-28/
LOCATION:Emmett Municipal Airport\, 2000-2428\, 2102 W Sales Yard Rd\, Emmett\, ID 83617
ATTACH;FMTTYPE=image/jpeg:https://av8maps.com/wp-content/uploads/2025/09/1st-Annual-Poker-Run-S78-e1757271483373.jpg
GEO:43.8512112;-116.5360634
X-APPLE-STRUCTURED-LOCATION;VALUE=URI;X-ADDRESS=Emmett Municipal Airport 2000-2428 2102 W Sales Yard Rd Emmett ID 83617;X-APPLE-RADIUS=500;X-TITLE=2000-2428\, 2102 W Sales Yard Rd\, Emmett\, ID 83617:geo:-116.5360634,43.8512112
END:VEVENT
END:VCALENDAR