BEGIN:VCALENDAR
VERSION:2.0
PRODID:-//AV8MAPS.COM - ECPv6.15.20//NONSGML v1.0//EN
CALSCALE:GREGORIAN
METHOD:PUBLISH
X-WR-CALNAME:AV8MAPS.COM
X-ORIGINAL-URL:https://av8maps.com
X-WR-CALDESC:Events for AV8MAPS.COM
REFRESH-INTERVAL;VALUE=DURATION:PT1H
X-Robots-Tag:noindex
X-PUBLISHED-TTL:PT1H
BEGIN:VTIMEZONE
TZID:America/New_York
BEGIN:DAYLIGHT
TZOFFSETFROM:-0500
TZOFFSETTO:-0400
TZNAME:EDT
DTSTART:20250309T070000
END:DAYLIGHT
BEGIN:STANDARD
TZOFFSETFROM:-0400
TZOFFSETTO:-0500
TZNAME:EST
DTSTART:20251102T060000
END:STANDARD
BEGIN:DAYLIGHT
TZOFFSETFROM:-0500
TZOFFSETTO:-0400
TZNAME:EDT
DTSTART:20260308T070000
END:DAYLIGHT
BEGIN:STANDARD
TZOFFSETFROM:-0400
TZOFFSETTO:-0500
TZNAME:EST
DTSTART:20261101T060000
END:STANDARD
BEGIN:DAYLIGHT
TZOFFSETFROM:-0500
TZOFFSETTO:-0400
TZNAME:EDT
DTSTART:20270314T070000
END:DAYLIGHT
BEGIN:STANDARD
TZOFFSETFROM:-0400
TZOFFSETTO:-0500
TZNAME:EST
DTSTART:20271107T060000
END:STANDARD
BEGIN:DAYLIGHT
TZOFFSETFROM:-0500
TZOFFSETTO:-0400
TZNAME:EDT
DTSTART:20280312T070000
END:DAYLIGHT
BEGIN:STANDARD
TZOFFSETFROM:-0400
TZOFFSETTO:-0500
TZNAME:EST
DTSTART:20281105T060000
END:STANDARD
BEGIN:DAYLIGHT
TZOFFSETFROM:-0500
TZOFFSETTO:-0400
TZNAME:EDT
DTSTART:20290311T070000
END:DAYLIGHT
BEGIN:STANDARD
TZOFFSETFROM:-0400
TZOFFSETTO:-0500
TZNAME:EST
DTSTART:20291104T060000
END:STANDARD
BEGIN:DAYLIGHT
TZOFFSETFROM:-0500
TZOFFSETTO:-0400
TZNAME:EDT
DTSTART:20300310T070000
END:DAYLIGHT
BEGIN:STANDARD
TZOFFSETFROM:-0400
TZOFFSETTO:-0500
TZNAME:EST
DTSTART:20301103T060000
END:STANDARD
BEGIN:DAYLIGHT
TZOFFSETFROM:-0500
TZOFFSETTO:-0400
TZNAME:EDT
DTSTART:20310309T070000
END:DAYLIGHT
BEGIN:STANDARD
TZOFFSETFROM:-0400
TZOFFSETTO:-0500
TZNAME:EST
DTSTART:20311102T060000
END:STANDARD
END:VTIMEZONE
BEGIN:VEVENT
DTSTART;TZID=America/New_York:20261003T090000
DTEND;TZID=America/New_York:20261003T160000
DTSTAMP:20260423T022558
CREATED:20250907T201904Z
LAST-MODIFIED:20251101T202858Z
UID:10004219-1791018000-1791043200@av8maps.com
SUMMARY:Annual Fall Colors Fly-in (KOGM)
DESCRIPTION:Please join us for our annual Fall Color Fly-in/Drive-in; hoping for some beautiful weather and fall colors.
URL:https://av8maps.com/event/5th-annual-fall-colors-fly-in-kogm/2026-10-03/
LOCATION:Ontonagon County Airport\, 35932 Airport Rd\, Ontonagon\, MI 49953
ATTACH;FMTTYPE=image/jpeg:https://av8maps.com/wp-content/uploads/2025/09/5th-Annual-Fall-Color-Fly-in-KOGM-e1757276291740.jpg
GEO:46.8747359;-89.2923631
X-APPLE-STRUCTURED-LOCATION;VALUE=URI;X-ADDRESS=Ontonagon County Airport 35932 Airport Rd Ontonagon MI 49953;X-APPLE-RADIUS=500;X-TITLE=35932 Airport Rd\, Ontonagon\, MI 49953:geo:-89.2923631,46.8747359
END:VEVENT
BEGIN:VEVENT
DTSTART;TZID=America/New_York:20271002T090000
DTEND;TZID=America/New_York:20271002T160000
DTSTAMP:20260423T022558
CREATED:20250907T201904Z
LAST-MODIFIED:20251101T202858Z
UID:10004220-1822467600-1822492800@av8maps.com
SUMMARY:Annual Fall Colors Fly-in (KOGM)
DESCRIPTION:Please join us for our annual Fall Color Fly-in/Drive-in; hoping for some beautiful weather and fall colors.
URL:https://av8maps.com/event/5th-annual-fall-colors-fly-in-kogm/2027-10-02/
LOCATION:Ontonagon County Airport\, 35932 Airport Rd\, Ontonagon\, MI 49953
ATTACH;FMTTYPE=image/jpeg:https://av8maps.com/wp-content/uploads/2025/09/5th-Annual-Fall-Color-Fly-in-KOGM-e1757276291740.jpg
GEO:46.8747359;-89.2923631
X-APPLE-STRUCTURED-LOCATION;VALUE=URI;X-ADDRESS=Ontonagon County Airport 35932 Airport Rd Ontonagon MI 49953;X-APPLE-RADIUS=500;X-TITLE=35932 Airport Rd\, Ontonagon\, MI 49953:geo:-89.2923631,46.8747359
END:VEVENT
BEGIN:VEVENT
DTSTART;TZID=America/New_York:20281007T090000
DTEND;TZID=America/New_York:20281007T160000
DTSTAMP:20260423T022558
CREATED:20250907T201904Z
LAST-MODIFIED:20251101T202858Z
UID:10004221-1854522000-1854547200@av8maps.com
SUMMARY:Annual Fall Colors Fly-in (KOGM)
DESCRIPTION:Please join us for our annual Fall Color Fly-in/Drive-in; hoping for some beautiful weather and fall colors.
URL:https://av8maps.com/event/5th-annual-fall-colors-fly-in-kogm/2028-10-07/
LOCATION:Ontonagon County Airport\, 35932 Airport Rd\, Ontonagon\, MI 49953
ATTACH;FMTTYPE=image/jpeg:https://av8maps.com/wp-content/uploads/2025/09/5th-Annual-Fall-Color-Fly-in-KOGM-e1757276291740.jpg
GEO:46.8747359;-89.2923631
X-APPLE-STRUCTURED-LOCATION;VALUE=URI;X-ADDRESS=Ontonagon County Airport 35932 Airport Rd Ontonagon MI 49953;X-APPLE-RADIUS=500;X-TITLE=35932 Airport Rd\, Ontonagon\, MI 49953:geo:-89.2923631,46.8747359
END:VEVENT
BEGIN:VEVENT
DTSTART;TZID=America/New_York:20291006T090000
DTEND;TZID=America/New_York:20291006T160000
DTSTAMP:20260423T022558
CREATED:20250907T201904Z
LAST-MODIFIED:20251101T202858Z
UID:10004222-1885971600-1885996800@av8maps.com
SUMMARY:Annual Fall Colors Fly-in (KOGM)
DESCRIPTION:Please join us for our annual Fall Color Fly-in/Drive-in; hoping for some beautiful weather and fall colors.
URL:https://av8maps.com/event/5th-annual-fall-colors-fly-in-kogm/2029-10-06/
LOCATION:Ontonagon County Airport\, 35932 Airport Rd\, Ontonagon\, MI 49953
ATTACH;FMTTYPE=image/jpeg:https://av8maps.com/wp-content/uploads/2025/09/5th-Annual-Fall-Color-Fly-in-KOGM-e1757276291740.jpg
GEO:46.8747359;-89.2923631
X-APPLE-STRUCTURED-LOCATION;VALUE=URI;X-ADDRESS=Ontonagon County Airport 35932 Airport Rd Ontonagon MI 49953;X-APPLE-RADIUS=500;X-TITLE=35932 Airport Rd\, Ontonagon\, MI 49953:geo:-89.2923631,46.8747359
END:VEVENT
BEGIN:VEVENT
DTSTART;TZID=America/New_York:20301005T090000
DTEND;TZID=America/New_York:20301005T160000
DTSTAMP:20260423T022559
CREATED:20250907T201904Z
LAST-MODIFIED:20251101T202858Z
UID:10004223-1917421200-1917446400@av8maps.com
SUMMARY:Annual Fall Colors Fly-in (KOGM)
DESCRIPTION:Please join us for our annual Fall Color Fly-in/Drive-in; hoping for some beautiful weather and fall colors.
URL:https://av8maps.com/event/5th-annual-fall-colors-fly-in-kogm/2030-10-05/
LOCATION:Ontonagon County Airport\, 35932 Airport Rd\, Ontonagon\, MI 49953
ATTACH;FMTTYPE=image/jpeg:https://av8maps.com/wp-content/uploads/2025/09/5th-Annual-Fall-Color-Fly-in-KOGM-e1757276291740.jpg
GEO:46.8747359;-89.2923631
X-APPLE-STRUCTURED-LOCATION;VALUE=URI;X-ADDRESS=Ontonagon County Airport 35932 Airport Rd Ontonagon MI 49953;X-APPLE-RADIUS=500;X-TITLE=35932 Airport Rd\, Ontonagon\, MI 49953:geo:-89.2923631,46.8747359
END:VEVENT
END:VCALENDAR