BEGIN:VCALENDAR
VERSION:2.0
PRODID:-//AV8MAPS.COM - ECPv6.15.20//NONSGML v1.0//EN
CALSCALE:GREGORIAN
METHOD:PUBLISH
X-WR-CALNAME:AV8MAPS.COM
X-ORIGINAL-URL:https://av8maps.com
X-WR-CALDESC:Events for AV8MAPS.COM
REFRESH-INTERVAL;VALUE=DURATION:PT1H
X-Robots-Tag:noindex
X-PUBLISHED-TTL:PT1H
BEGIN:VTIMEZONE
TZID:America/New_York
BEGIN:DAYLIGHT
TZOFFSETFROM:-0500
TZOFFSETTO:-0400
TZNAME:EDT
DTSTART:20250309T070000
END:DAYLIGHT
BEGIN:STANDARD
TZOFFSETFROM:-0400
TZOFFSETTO:-0500
TZNAME:EST
DTSTART:20251102T060000
END:STANDARD
BEGIN:DAYLIGHT
TZOFFSETFROM:-0500
TZOFFSETTO:-0400
TZNAME:EDT
DTSTART:20260308T070000
END:DAYLIGHT
BEGIN:STANDARD
TZOFFSETFROM:-0400
TZOFFSETTO:-0500
TZNAME:EST
DTSTART:20261101T060000
END:STANDARD
BEGIN:DAYLIGHT
TZOFFSETFROM:-0500
TZOFFSETTO:-0400
TZNAME:EDT
DTSTART:20270314T070000
END:DAYLIGHT
BEGIN:STANDARD
TZOFFSETFROM:-0400
TZOFFSETTO:-0500
TZNAME:EST
DTSTART:20271107T060000
END:STANDARD
BEGIN:DAYLIGHT
TZOFFSETFROM:-0500
TZOFFSETTO:-0400
TZNAME:EDT
DTSTART:20280312T070000
END:DAYLIGHT
BEGIN:STANDARD
TZOFFSETFROM:-0400
TZOFFSETTO:-0500
TZNAME:EST
DTSTART:20281105T060000
END:STANDARD
BEGIN:DAYLIGHT
TZOFFSETFROM:-0500
TZOFFSETTO:-0400
TZNAME:EDT
DTSTART:20290311T070000
END:DAYLIGHT
BEGIN:STANDARD
TZOFFSETFROM:-0400
TZOFFSETTO:-0500
TZNAME:EST
DTSTART:20291104T060000
END:STANDARD
BEGIN:DAYLIGHT
TZOFFSETFROM:-0500
TZOFFSETTO:-0400
TZNAME:EDT
DTSTART:20300310T070000
END:DAYLIGHT
BEGIN:STANDARD
TZOFFSETFROM:-0400
TZOFFSETTO:-0500
TZNAME:EST
DTSTART:20301103T060000
END:STANDARD
BEGIN:DAYLIGHT
TZOFFSETFROM:-0500
TZOFFSETTO:-0400
TZNAME:EDT
DTSTART:20310309T070000
END:DAYLIGHT
BEGIN:STANDARD
TZOFFSETFROM:-0400
TZOFFSETTO:-0500
TZNAME:EST
DTSTART:20311102T060000
END:STANDARD
END:VTIMEZONE
BEGIN:VEVENT
DTSTART;TZID=America/New_York:20260912T073000
DTEND;TZID=America/New_York:20260912T110000
DTSTAMP:20260423T021919
CREATED:20250908T213936Z
LAST-MODIFIED:20251101T202950Z
UID:10004224-1789198200-1789210800@av8maps.com
SUMMARY:Fall Fun Day Pancake Breakfast (KOSH)
DESCRIPTION:The EAA Chapter 252 Fall Pancake Breakfast and Young Eagle Rally is less than one week away. \nWe hope you can join us in Oshkosh! YE Rally is at capacity with a waitlist\, but we have plenty of pancakes for everyone! \nFly or drive in.
URL:https://av8maps.com/event/fall-fun-day-pancake-breakfast-kosh/2026-09-12/
LOCATION:Wittman Regional Airport\, 525 W 20th Ave\, Oshkosh\, WI 54902
ATTACH;FMTTYPE=image/jpeg:https://av8maps.com/wp-content/uploads/2025/09/EAA-Chapter-252-e1757367561950.jpg
GEO:43.9942751;-88.5521024
X-APPLE-STRUCTURED-LOCATION;VALUE=URI;X-ADDRESS=Wittman Regional Airport 525 W 20th Ave Oshkosh WI 54902;X-APPLE-RADIUS=500;X-TITLE=525 W 20th Ave\, Oshkosh\, WI 54902:geo:-88.5521024,43.9942751
END:VEVENT
BEGIN:VEVENT
DTSTART;TZID=America/New_York:20270911T073000
DTEND;TZID=America/New_York:20270911T110000
DTSTAMP:20260423T021919
CREATED:20250908T213936Z
LAST-MODIFIED:20251101T202950Z
UID:10004225-1820647800-1820660400@av8maps.com
SUMMARY:Fall Fun Day Pancake Breakfast (KOSH)
DESCRIPTION:The EAA Chapter 252 Fall Pancake Breakfast and Young Eagle Rally is less than one week away. \nWe hope you can join us in Oshkosh! YE Rally is at capacity with a waitlist\, but we have plenty of pancakes for everyone! \nFly or drive in.
URL:https://av8maps.com/event/fall-fun-day-pancake-breakfast-kosh/2027-09-11/
LOCATION:Wittman Regional Airport\, 525 W 20th Ave\, Oshkosh\, WI 54902
ATTACH;FMTTYPE=image/jpeg:https://av8maps.com/wp-content/uploads/2025/09/EAA-Chapter-252-e1757367561950.jpg
GEO:43.9942751;-88.5521024
X-APPLE-STRUCTURED-LOCATION;VALUE=URI;X-ADDRESS=Wittman Regional Airport 525 W 20th Ave Oshkosh WI 54902;X-APPLE-RADIUS=500;X-TITLE=525 W 20th Ave\, Oshkosh\, WI 54902:geo:-88.5521024,43.9942751
END:VEVENT
BEGIN:VEVENT
DTSTART;TZID=America/New_York:20280909T073000
DTEND;TZID=America/New_York:20280909T110000
DTSTAMP:20260423T021919
CREATED:20250908T213936Z
LAST-MODIFIED:20251101T202950Z
UID:10004226-1852097400-1852110000@av8maps.com
SUMMARY:Fall Fun Day Pancake Breakfast (KOSH)
DESCRIPTION:The EAA Chapter 252 Fall Pancake Breakfast and Young Eagle Rally is less than one week away. \nWe hope you can join us in Oshkosh! YE Rally is at capacity with a waitlist\, but we have plenty of pancakes for everyone! \nFly or drive in.
URL:https://av8maps.com/event/fall-fun-day-pancake-breakfast-kosh/2028-09-09/
LOCATION:Wittman Regional Airport\, 525 W 20th Ave\, Oshkosh\, WI 54902
ATTACH;FMTTYPE=image/jpeg:https://av8maps.com/wp-content/uploads/2025/09/EAA-Chapter-252-e1757367561950.jpg
GEO:43.9942751;-88.5521024
X-APPLE-STRUCTURED-LOCATION;VALUE=URI;X-ADDRESS=Wittman Regional Airport 525 W 20th Ave Oshkosh WI 54902;X-APPLE-RADIUS=500;X-TITLE=525 W 20th Ave\, Oshkosh\, WI 54902:geo:-88.5521024,43.9942751
END:VEVENT
BEGIN:VEVENT
DTSTART;TZID=America/New_York:20290908T073000
DTEND;TZID=America/New_York:20290908T110000
DTSTAMP:20260423T021919
CREATED:20250908T213936Z
LAST-MODIFIED:20251101T202950Z
UID:10004227-1883547000-1883559600@av8maps.com
SUMMARY:Fall Fun Day Pancake Breakfast (KOSH)
DESCRIPTION:The EAA Chapter 252 Fall Pancake Breakfast and Young Eagle Rally is less than one week away. \nWe hope you can join us in Oshkosh! YE Rally is at capacity with a waitlist\, but we have plenty of pancakes for everyone! \nFly or drive in.
URL:https://av8maps.com/event/fall-fun-day-pancake-breakfast-kosh/2029-09-08/
LOCATION:Wittman Regional Airport\, 525 W 20th Ave\, Oshkosh\, WI 54902
ATTACH;FMTTYPE=image/jpeg:https://av8maps.com/wp-content/uploads/2025/09/EAA-Chapter-252-e1757367561950.jpg
GEO:43.9942751;-88.5521024
X-APPLE-STRUCTURED-LOCATION;VALUE=URI;X-ADDRESS=Wittman Regional Airport 525 W 20th Ave Oshkosh WI 54902;X-APPLE-RADIUS=500;X-TITLE=525 W 20th Ave\, Oshkosh\, WI 54902:geo:-88.5521024,43.9942751
END:VEVENT
BEGIN:VEVENT
DTSTART;TZID=America/New_York:20300914T073000
DTEND;TZID=America/New_York:20300914T110000
DTSTAMP:20260423T021919
CREATED:20250908T213936Z
LAST-MODIFIED:20251101T202950Z
UID:10004228-1915601400-1915614000@av8maps.com
SUMMARY:Fall Fun Day Pancake Breakfast (KOSH)
DESCRIPTION:The EAA Chapter 252 Fall Pancake Breakfast and Young Eagle Rally is less than one week away. \nWe hope you can join us in Oshkosh! YE Rally is at capacity with a waitlist\, but we have plenty of pancakes for everyone! \nFly or drive in.
URL:https://av8maps.com/event/fall-fun-day-pancake-breakfast-kosh/2030-09-14/
LOCATION:Wittman Regional Airport\, 525 W 20th Ave\, Oshkosh\, WI 54902
ATTACH;FMTTYPE=image/jpeg:https://av8maps.com/wp-content/uploads/2025/09/EAA-Chapter-252-e1757367561950.jpg
GEO:43.9942751;-88.5521024
X-APPLE-STRUCTURED-LOCATION;VALUE=URI;X-ADDRESS=Wittman Regional Airport 525 W 20th Ave Oshkosh WI 54902;X-APPLE-RADIUS=500;X-TITLE=525 W 20th Ave\, Oshkosh\, WI 54902:geo:-88.5521024,43.9942751
END:VEVENT
END:VCALENDAR