BEGIN:VCALENDAR
VERSION:2.0
PRODID:-//AV8MAPS.COM - ECPv6.15.20//NONSGML v1.0//EN
CALSCALE:GREGORIAN
METHOD:PUBLISH
X-WR-CALNAME:AV8MAPS.COM
X-ORIGINAL-URL:https://av8maps.com
X-WR-CALDESC:Events for AV8MAPS.COM
REFRESH-INTERVAL;VALUE=DURATION:PT1H
X-Robots-Tag:noindex
X-PUBLISHED-TTL:PT1H
BEGIN:VTIMEZONE
TZID:America/New_York
BEGIN:DAYLIGHT
TZOFFSETFROM:-0500
TZOFFSETTO:-0400
TZNAME:EDT
DTSTART:20250309T070000
END:DAYLIGHT
BEGIN:STANDARD
TZOFFSETFROM:-0400
TZOFFSETTO:-0500
TZNAME:EST
DTSTART:20251102T060000
END:STANDARD
BEGIN:DAYLIGHT
TZOFFSETFROM:-0500
TZOFFSETTO:-0400
TZNAME:EDT
DTSTART:20260308T070000
END:DAYLIGHT
BEGIN:STANDARD
TZOFFSETFROM:-0400
TZOFFSETTO:-0500
TZNAME:EST
DTSTART:20261101T060000
END:STANDARD
BEGIN:DAYLIGHT
TZOFFSETFROM:-0500
TZOFFSETTO:-0400
TZNAME:EDT
DTSTART:20270314T070000
END:DAYLIGHT
BEGIN:STANDARD
TZOFFSETFROM:-0400
TZOFFSETTO:-0500
TZNAME:EST
DTSTART:20271107T060000
END:STANDARD
BEGIN:DAYLIGHT
TZOFFSETFROM:-0500
TZOFFSETTO:-0400
TZNAME:EDT
DTSTART:20280312T070000
END:DAYLIGHT
BEGIN:STANDARD
TZOFFSETFROM:-0400
TZOFFSETTO:-0500
TZNAME:EST
DTSTART:20281105T060000
END:STANDARD
BEGIN:DAYLIGHT
TZOFFSETFROM:-0500
TZOFFSETTO:-0400
TZNAME:EDT
DTSTART:20290311T070000
END:DAYLIGHT
BEGIN:STANDARD
TZOFFSETFROM:-0400
TZOFFSETTO:-0500
TZNAME:EST
DTSTART:20291104T060000
END:STANDARD
BEGIN:DAYLIGHT
TZOFFSETFROM:-0500
TZOFFSETTO:-0400
TZNAME:EDT
DTSTART:20300310T070000
END:DAYLIGHT
BEGIN:STANDARD
TZOFFSETFROM:-0400
TZOFFSETTO:-0500
TZNAME:EST
DTSTART:20301103T060000
END:STANDARD
BEGIN:DAYLIGHT
TZOFFSETFROM:-0500
TZOFFSETTO:-0400
TZNAME:EDT
DTSTART:20310309T070000
END:DAYLIGHT
BEGIN:STANDARD
TZOFFSETFROM:-0400
TZOFFSETTO:-0500
TZNAME:EST
DTSTART:20311102T060000
END:STANDARD
END:VTIMEZONE
BEGIN:VEVENT
DTSTART;TZID=America/New_York:20260926T100000
DTEND;TZID=America/New_York:20260926T150000
DTSTAMP:20260423T060900
CREATED:20250908T233055Z
LAST-MODIFIED:20251101T203655Z
UID:10000844-1790416800-1790434800@av8maps.com
SUMMARY:Fall Colours Fly-in (CND4)
DESCRIPTION:Overnight camping is available for pilots only on Friday 9/26. \nFor more information\, call Airport Coordinator Kaylee Francis-Carroll at 1-705-457-0806
URL:https://av8maps.com/event/fall-colours-fly-in-cnd4/2026-09-26/
LOCATION:Haliburton/ Stanhope Municipal Airport\, 1168 Stanhope Airport Rd\, Algonquin Highlands\, ON K0M 1J1\, Canada
ATTACH;FMTTYPE=image/jpeg:https://av8maps.com/wp-content/uploads/2025/09/Fall-Colors-Fly-in-CND4-e1757374244706.jpg
GEO:45.1117302;-78.6436556
X-APPLE-STRUCTURED-LOCATION;VALUE=URI;X-ADDRESS=Haliburton/ Stanhope Municipal Airport 1168 Stanhope Airport Rd Algonquin Highlands ON K0M 1J1 Canada;X-APPLE-RADIUS=500;X-TITLE=1168 Stanhope Airport Rd\, Algonquin Highlands\, ON K0M 1J1:geo:-78.6436556,45.1117302
END:VEVENT
BEGIN:VEVENT
DTSTART;TZID=America/New_York:20270925T100000
DTEND;TZID=America/New_York:20270925T150000
DTSTAMP:20260423T060900
CREATED:20250908T233055Z
LAST-MODIFIED:20251101T203655Z
UID:10004239-1821866400-1821884400@av8maps.com
SUMMARY:Fall Colours Fly-in (CND4)
DESCRIPTION:Overnight camping is available for pilots only on Friday 9/26. \nFor more information\, call Airport Coordinator Kaylee Francis-Carroll at 1-705-457-0806
URL:https://av8maps.com/event/fall-colours-fly-in-cnd4/2027-09-25/
LOCATION:Haliburton/ Stanhope Municipal Airport\, 1168 Stanhope Airport Rd\, Algonquin Highlands\, ON K0M 1J1\, Canada
ATTACH;FMTTYPE=image/jpeg:https://av8maps.com/wp-content/uploads/2025/09/Fall-Colors-Fly-in-CND4-e1757374244706.jpg
GEO:45.1117302;-78.6436556
X-APPLE-STRUCTURED-LOCATION;VALUE=URI;X-ADDRESS=Haliburton/ Stanhope Municipal Airport 1168 Stanhope Airport Rd Algonquin Highlands ON K0M 1J1 Canada;X-APPLE-RADIUS=500;X-TITLE=1168 Stanhope Airport Rd\, Algonquin Highlands\, ON K0M 1J1:geo:-78.6436556,45.1117302
END:VEVENT
BEGIN:VEVENT
DTSTART;TZID=America/New_York:20280923T100000
DTEND;TZID=America/New_York:20280923T150000
DTSTAMP:20260423T060900
CREATED:20250908T233055Z
LAST-MODIFIED:20251101T203655Z
UID:10004240-1853316000-1853334000@av8maps.com
SUMMARY:Fall Colours Fly-in (CND4)
DESCRIPTION:Overnight camping is available for pilots only on Friday 9/26. \nFor more information\, call Airport Coordinator Kaylee Francis-Carroll at 1-705-457-0806
URL:https://av8maps.com/event/fall-colours-fly-in-cnd4/2028-09-23/
LOCATION:Haliburton/ Stanhope Municipal Airport\, 1168 Stanhope Airport Rd\, Algonquin Highlands\, ON K0M 1J1\, Canada
ATTACH;FMTTYPE=image/jpeg:https://av8maps.com/wp-content/uploads/2025/09/Fall-Colors-Fly-in-CND4-e1757374244706.jpg
GEO:45.1117302;-78.6436556
X-APPLE-STRUCTURED-LOCATION;VALUE=URI;X-ADDRESS=Haliburton/ Stanhope Municipal Airport 1168 Stanhope Airport Rd Algonquin Highlands ON K0M 1J1 Canada;X-APPLE-RADIUS=500;X-TITLE=1168 Stanhope Airport Rd\, Algonquin Highlands\, ON K0M 1J1:geo:-78.6436556,45.1117302
END:VEVENT
BEGIN:VEVENT
DTSTART;TZID=America/New_York:20290922T100000
DTEND;TZID=America/New_York:20290922T150000
DTSTAMP:20260423T060900
CREATED:20250908T233055Z
LAST-MODIFIED:20251101T203655Z
UID:10004241-1884765600-1884783600@av8maps.com
SUMMARY:Fall Colours Fly-in (CND4)
DESCRIPTION:Overnight camping is available for pilots only on Friday 9/26. \nFor more information\, call Airport Coordinator Kaylee Francis-Carroll at 1-705-457-0806
URL:https://av8maps.com/event/fall-colours-fly-in-cnd4/2029-09-22/
LOCATION:Haliburton/ Stanhope Municipal Airport\, 1168 Stanhope Airport Rd\, Algonquin Highlands\, ON K0M 1J1\, Canada
ATTACH;FMTTYPE=image/jpeg:https://av8maps.com/wp-content/uploads/2025/09/Fall-Colors-Fly-in-CND4-e1757374244706.jpg
GEO:45.1117302;-78.6436556
X-APPLE-STRUCTURED-LOCATION;VALUE=URI;X-ADDRESS=Haliburton/ Stanhope Municipal Airport 1168 Stanhope Airport Rd Algonquin Highlands ON K0M 1J1 Canada;X-APPLE-RADIUS=500;X-TITLE=1168 Stanhope Airport Rd\, Algonquin Highlands\, ON K0M 1J1:geo:-78.6436556,45.1117302
END:VEVENT
BEGIN:VEVENT
DTSTART;TZID=America/New_York:20300928T100000
DTEND;TZID=America/New_York:20300928T150000
DTSTAMP:20260423T060900
CREATED:20250908T233055Z
LAST-MODIFIED:20251101T203655Z
UID:10004242-1916820000-1916838000@av8maps.com
SUMMARY:Fall Colours Fly-in (CND4)
DESCRIPTION:Overnight camping is available for pilots only on Friday 9/26. \nFor more information\, call Airport Coordinator Kaylee Francis-Carroll at 1-705-457-0806
URL:https://av8maps.com/event/fall-colours-fly-in-cnd4/2030-09-28/
LOCATION:Haliburton/ Stanhope Municipal Airport\, 1168 Stanhope Airport Rd\, Algonquin Highlands\, ON K0M 1J1\, Canada
ATTACH;FMTTYPE=image/jpeg:https://av8maps.com/wp-content/uploads/2025/09/Fall-Colors-Fly-in-CND4-e1757374244706.jpg
GEO:45.1117302;-78.6436556
X-APPLE-STRUCTURED-LOCATION;VALUE=URI;X-ADDRESS=Haliburton/ Stanhope Municipal Airport 1168 Stanhope Airport Rd Algonquin Highlands ON K0M 1J1 Canada;X-APPLE-RADIUS=500;X-TITLE=1168 Stanhope Airport Rd\, Algonquin Highlands\, ON K0M 1J1:geo:-78.6436556,45.1117302
END:VEVENT
END:VCALENDAR