BEGIN:VCALENDAR
VERSION:2.0
PRODID:-//AV8MAPS.COM - ECPv6.15.20//NONSGML v1.0//EN
CALSCALE:GREGORIAN
METHOD:PUBLISH
X-WR-CALNAME:AV8MAPS.COM
X-ORIGINAL-URL:https://av8maps.com
X-WR-CALDESC:Events for AV8MAPS.COM
REFRESH-INTERVAL;VALUE=DURATION:PT1H
X-Robots-Tag:noindex
X-PUBLISHED-TTL:PT1H
BEGIN:VTIMEZONE
TZID:America/New_York
BEGIN:DAYLIGHT
TZOFFSETFROM:-0500
TZOFFSETTO:-0400
TZNAME:EDT
DTSTART:20250309T070000
END:DAYLIGHT
BEGIN:STANDARD
TZOFFSETFROM:-0400
TZOFFSETTO:-0500
TZNAME:EST
DTSTART:20251102T060000
END:STANDARD
BEGIN:DAYLIGHT
TZOFFSETFROM:-0500
TZOFFSETTO:-0400
TZNAME:EDT
DTSTART:20260308T070000
END:DAYLIGHT
BEGIN:STANDARD
TZOFFSETFROM:-0400
TZOFFSETTO:-0500
TZNAME:EST
DTSTART:20261101T060000
END:STANDARD
BEGIN:DAYLIGHT
TZOFFSETFROM:-0500
TZOFFSETTO:-0400
TZNAME:EDT
DTSTART:20270314T070000
END:DAYLIGHT
BEGIN:STANDARD
TZOFFSETFROM:-0400
TZOFFSETTO:-0500
TZNAME:EST
DTSTART:20271107T060000
END:STANDARD
BEGIN:DAYLIGHT
TZOFFSETFROM:-0500
TZOFFSETTO:-0400
TZNAME:EDT
DTSTART:20280312T070000
END:DAYLIGHT
BEGIN:STANDARD
TZOFFSETFROM:-0400
TZOFFSETTO:-0500
TZNAME:EST
DTSTART:20281105T060000
END:STANDARD
BEGIN:DAYLIGHT
TZOFFSETFROM:-0500
TZOFFSETTO:-0400
TZNAME:EDT
DTSTART:20290311T070000
END:DAYLIGHT
BEGIN:STANDARD
TZOFFSETFROM:-0400
TZOFFSETTO:-0500
TZNAME:EST
DTSTART:20291104T060000
END:STANDARD
BEGIN:DAYLIGHT
TZOFFSETFROM:-0500
TZOFFSETTO:-0400
TZNAME:EDT
DTSTART:20300310T070000
END:DAYLIGHT
BEGIN:STANDARD
TZOFFSETFROM:-0400
TZOFFSETTO:-0500
TZNAME:EST
DTSTART:20301103T060000
END:STANDARD
BEGIN:DAYLIGHT
TZOFFSETFROM:-0500
TZOFFSETTO:-0400
TZNAME:EDT
DTSTART:20310309T070000
END:DAYLIGHT
BEGIN:STANDARD
TZOFFSETFROM:-0400
TZOFFSETTO:-0500
TZNAME:EST
DTSTART:20311102T060000
END:STANDARD
END:VTIMEZONE
BEGIN:VEVENT
DTSTART;TZID=America/New_York:20260926T090000
DTEND;TZID=America/New_York:20260926T113000
DTSTAMP:20260425T113639
CREATED:20250908T233859Z
LAST-MODIFIED:20251101T204631Z
UID:10004243-1790413200-1790422200@av8maps.com
SUMMARY:EAA Chapter 534 Pancake Breakfast (KLEE)
DESCRIPTION:All you can eat pancake breakfast. Fly-in or Drive-in.
URL:https://av8maps.com/event/eaa-chapter-534-pancake-breakfast-klee/2026-09-26/
LOCATION:Leesburg International Airport\, 8742 Airport Blvd\, Leesburg\, Florida\, 34788
ATTACH;FMTTYPE=image/jpeg:https://av8maps.com/wp-content/uploads/2025/09/EAA-Chapter-534-e1757374691900.jpg
GEO:28.8280612;-81.8110836
X-APPLE-STRUCTURED-LOCATION;VALUE=URI;X-ADDRESS=Leesburg International Airport 8742 Airport Blvd Leesburg Florida 34788;X-APPLE-RADIUS=500;X-TITLE=8742 Airport Blvd:geo:-81.8110836,28.8280612
END:VEVENT
BEGIN:VEVENT
DTSTART;TZID=America/New_York:20270925T090000
DTEND;TZID=America/New_York:20270925T113000
DTSTAMP:20260425T113639
CREATED:20250908T233859Z
LAST-MODIFIED:20251101T204631Z
UID:10004244-1821862800-1821871800@av8maps.com
SUMMARY:EAA Chapter 534 Pancake Breakfast (KLEE)
DESCRIPTION:All you can eat pancake breakfast. Fly-in or Drive-in.
URL:https://av8maps.com/event/eaa-chapter-534-pancake-breakfast-klee/2027-09-25/
LOCATION:Leesburg International Airport\, 8742 Airport Blvd\, Leesburg\, Florida\, 34788
ATTACH;FMTTYPE=image/jpeg:https://av8maps.com/wp-content/uploads/2025/09/EAA-Chapter-534-e1757374691900.jpg
GEO:28.8280612;-81.8110836
X-APPLE-STRUCTURED-LOCATION;VALUE=URI;X-ADDRESS=Leesburg International Airport 8742 Airport Blvd Leesburg Florida 34788;X-APPLE-RADIUS=500;X-TITLE=8742 Airport Blvd:geo:-81.8110836,28.8280612
END:VEVENT
BEGIN:VEVENT
DTSTART;TZID=America/New_York:20280923T090000
DTEND;TZID=America/New_York:20280923T113000
DTSTAMP:20260425T113639
CREATED:20250908T233859Z
LAST-MODIFIED:20251101T204631Z
UID:10004245-1853312400-1853321400@av8maps.com
SUMMARY:EAA Chapter 534 Pancake Breakfast (KLEE)
DESCRIPTION:All you can eat pancake breakfast. Fly-in or Drive-in.
URL:https://av8maps.com/event/eaa-chapter-534-pancake-breakfast-klee/2028-09-23/
LOCATION:Leesburg International Airport\, 8742 Airport Blvd\, Leesburg\, Florida\, 34788
ATTACH;FMTTYPE=image/jpeg:https://av8maps.com/wp-content/uploads/2025/09/EAA-Chapter-534-e1757374691900.jpg
GEO:28.8280612;-81.8110836
X-APPLE-STRUCTURED-LOCATION;VALUE=URI;X-ADDRESS=Leesburg International Airport 8742 Airport Blvd Leesburg Florida 34788;X-APPLE-RADIUS=500;X-TITLE=8742 Airport Blvd:geo:-81.8110836,28.8280612
END:VEVENT
BEGIN:VEVENT
DTSTART;TZID=America/New_York:20290922T090000
DTEND;TZID=America/New_York:20290922T113000
DTSTAMP:20260425T113639
CREATED:20250908T233859Z
LAST-MODIFIED:20251101T204631Z
UID:10004246-1884762000-1884771000@av8maps.com
SUMMARY:EAA Chapter 534 Pancake Breakfast (KLEE)
DESCRIPTION:All you can eat pancake breakfast. Fly-in or Drive-in.
URL:https://av8maps.com/event/eaa-chapter-534-pancake-breakfast-klee/2029-09-22/
LOCATION:Leesburg International Airport\, 8742 Airport Blvd\, Leesburg\, Florida\, 34788
ATTACH;FMTTYPE=image/jpeg:https://av8maps.com/wp-content/uploads/2025/09/EAA-Chapter-534-e1757374691900.jpg
GEO:28.8280612;-81.8110836
X-APPLE-STRUCTURED-LOCATION;VALUE=URI;X-ADDRESS=Leesburg International Airport 8742 Airport Blvd Leesburg Florida 34788;X-APPLE-RADIUS=500;X-TITLE=8742 Airport Blvd:geo:-81.8110836,28.8280612
END:VEVENT
BEGIN:VEVENT
DTSTART;TZID=America/New_York:20300928T090000
DTEND;TZID=America/New_York:20300928T113000
DTSTAMP:20260425T113639
CREATED:20250908T233859Z
LAST-MODIFIED:20251101T204631Z
UID:10004247-1916816400-1916825400@av8maps.com
SUMMARY:EAA Chapter 534 Pancake Breakfast (KLEE)
DESCRIPTION:All you can eat pancake breakfast. Fly-in or Drive-in.
URL:https://av8maps.com/event/eaa-chapter-534-pancake-breakfast-klee/2030-09-28/
LOCATION:Leesburg International Airport\, 8742 Airport Blvd\, Leesburg\, Florida\, 34788
ATTACH;FMTTYPE=image/jpeg:https://av8maps.com/wp-content/uploads/2025/09/EAA-Chapter-534-e1757374691900.jpg
GEO:28.8280612;-81.8110836
X-APPLE-STRUCTURED-LOCATION;VALUE=URI;X-ADDRESS=Leesburg International Airport 8742 Airport Blvd Leesburg Florida 34788;X-APPLE-RADIUS=500;X-TITLE=8742 Airport Blvd:geo:-81.8110836,28.8280612
END:VEVENT
END:VCALENDAR