BEGIN:VCALENDAR
VERSION:2.0
PRODID:-//AV8MAPS.COM - ECPv6.15.20//NONSGML v1.0//EN
CALSCALE:GREGORIAN
METHOD:PUBLISH
X-WR-CALNAME:AV8MAPS.COM
X-ORIGINAL-URL:https://av8maps.com
X-WR-CALDESC:Events for AV8MAPS.COM
REFRESH-INTERVAL;VALUE=DURATION:PT1H
X-Robots-Tag:noindex
X-PUBLISHED-TTL:PT1H
BEGIN:VTIMEZONE
TZID:America/New_York
BEGIN:DAYLIGHT
TZOFFSETFROM:-0500
TZOFFSETTO:-0400
TZNAME:EDT
DTSTART:20250309T070000
END:DAYLIGHT
BEGIN:STANDARD
TZOFFSETFROM:-0400
TZOFFSETTO:-0500
TZNAME:EST
DTSTART:20251102T060000
END:STANDARD
BEGIN:DAYLIGHT
TZOFFSETFROM:-0500
TZOFFSETTO:-0400
TZNAME:EDT
DTSTART:20260308T070000
END:DAYLIGHT
BEGIN:STANDARD
TZOFFSETFROM:-0400
TZOFFSETTO:-0500
TZNAME:EST
DTSTART:20261101T060000
END:STANDARD
BEGIN:DAYLIGHT
TZOFFSETFROM:-0500
TZOFFSETTO:-0400
TZNAME:EDT
DTSTART:20270314T070000
END:DAYLIGHT
BEGIN:STANDARD
TZOFFSETFROM:-0400
TZOFFSETTO:-0500
TZNAME:EST
DTSTART:20271107T060000
END:STANDARD
BEGIN:DAYLIGHT
TZOFFSETFROM:-0500
TZOFFSETTO:-0400
TZNAME:EDT
DTSTART:20280312T070000
END:DAYLIGHT
BEGIN:STANDARD
TZOFFSETFROM:-0400
TZOFFSETTO:-0500
TZNAME:EST
DTSTART:20281105T060000
END:STANDARD
BEGIN:DAYLIGHT
TZOFFSETFROM:-0500
TZOFFSETTO:-0400
TZNAME:EDT
DTSTART:20290311T070000
END:DAYLIGHT
BEGIN:STANDARD
TZOFFSETFROM:-0400
TZOFFSETTO:-0500
TZNAME:EST
DTSTART:20291104T060000
END:STANDARD
BEGIN:DAYLIGHT
TZOFFSETFROM:-0500
TZOFFSETTO:-0400
TZNAME:EDT
DTSTART:20300310T070000
END:DAYLIGHT
BEGIN:STANDARD
TZOFFSETFROM:-0400
TZOFFSETTO:-0500
TZNAME:EST
DTSTART:20301103T060000
END:STANDARD
BEGIN:DAYLIGHT
TZOFFSETFROM:-0500
TZOFFSETTO:-0400
TZNAME:EDT
DTSTART:20310309T070000
END:DAYLIGHT
BEGIN:STANDARD
TZOFFSETFROM:-0400
TZOFFSETTO:-0500
TZNAME:EST
DTSTART:20311102T060000
END:STANDARD
END:VTIMEZONE
BEGIN:VEVENT
DTSTART;TZID=America/New_York:20260925T000000
DTEND;TZID=America/New_York:20260927T235959
DTSTAMP:20260423T104234
CREATED:20250909T001107Z
LAST-MODIFIED:20251101T204755Z
UID:10004248-1790294400-1790553599@av8maps.com
SUMMARY:Gold Country Fly-in and Camp (O22)
DESCRIPTION:Hello friends!! We are happy to share our next West Coast Flyers fly in campout event. It is coming up September 26-28 at Columbia CA. This is the best airport campground west of the Rockies. We are going to have a blast. Space is very limited so register quickly. We are requiring pre registration and pre pay to secure your spot. Details on flyer. Please use QR code to register.
URL:https://av8maps.com/event/gold-country-fly-in-and-camp-o22/2026-09-25/
LOCATION:Columbia Airport\, 10723 Airport Rd\, Columbia\, CA 95310
ATTACH;FMTTYPE=image/jpeg:https://av8maps.com/wp-content/uploads/2025/09/Gold-Country-Fly-in-O22-e1757376382250.jpg
GEO:38.0294955;-120.4119958
X-APPLE-STRUCTURED-LOCATION;VALUE=URI;X-ADDRESS=Columbia Airport 10723 Airport Rd Columbia CA 95310;X-APPLE-RADIUS=500;X-TITLE=10723 Airport Rd\, Columbia\, CA 95310:geo:-120.4119958,38.0294955
END:VEVENT
BEGIN:VEVENT
DTSTART;TZID=America/New_York:20270924T000000
DTEND;TZID=America/New_York:20270926T235959
DTSTAMP:20260423T104234
CREATED:20250909T001107Z
LAST-MODIFIED:20251101T204755Z
UID:10004249-1821744000-1822003199@av8maps.com
SUMMARY:Gold Country Fly-in and Camp (O22)
DESCRIPTION:Hello friends!! We are happy to share our next West Coast Flyers fly in campout event. It is coming up September 26-28 at Columbia CA. This is the best airport campground west of the Rockies. We are going to have a blast. Space is very limited so register quickly. We are requiring pre registration and pre pay to secure your spot. Details on flyer. Please use QR code to register.
URL:https://av8maps.com/event/gold-country-fly-in-and-camp-o22/2027-09-24/
LOCATION:Columbia Airport\, 10723 Airport Rd\, Columbia\, CA 95310
ATTACH;FMTTYPE=image/jpeg:https://av8maps.com/wp-content/uploads/2025/09/Gold-Country-Fly-in-O22-e1757376382250.jpg
GEO:38.0294955;-120.4119958
X-APPLE-STRUCTURED-LOCATION;VALUE=URI;X-ADDRESS=Columbia Airport 10723 Airport Rd Columbia CA 95310;X-APPLE-RADIUS=500;X-TITLE=10723 Airport Rd\, Columbia\, CA 95310:geo:-120.4119958,38.0294955
END:VEVENT
BEGIN:VEVENT
DTSTART;TZID=America/New_York:20280922T000000
DTEND;TZID=America/New_York:20280924T235959
DTSTAMP:20260423T104234
CREATED:20250909T001107Z
LAST-MODIFIED:20251101T204755Z
UID:10004250-1853193600-1853452799@av8maps.com
SUMMARY:Gold Country Fly-in and Camp (O22)
DESCRIPTION:Hello friends!! We are happy to share our next West Coast Flyers fly in campout event. It is coming up September 26-28 at Columbia CA. This is the best airport campground west of the Rockies. We are going to have a blast. Space is very limited so register quickly. We are requiring pre registration and pre pay to secure your spot. Details on flyer. Please use QR code to register.
URL:https://av8maps.com/event/gold-country-fly-in-and-camp-o22/2028-09-22/
LOCATION:Columbia Airport\, 10723 Airport Rd\, Columbia\, CA 95310
ATTACH;FMTTYPE=image/jpeg:https://av8maps.com/wp-content/uploads/2025/09/Gold-Country-Fly-in-O22-e1757376382250.jpg
GEO:38.0294955;-120.4119958
X-APPLE-STRUCTURED-LOCATION;VALUE=URI;X-ADDRESS=Columbia Airport 10723 Airport Rd Columbia CA 95310;X-APPLE-RADIUS=500;X-TITLE=10723 Airport Rd\, Columbia\, CA 95310:geo:-120.4119958,38.0294955
END:VEVENT
BEGIN:VEVENT
DTSTART;TZID=America/New_York:20290928T000000
DTEND;TZID=America/New_York:20290930T235959
DTSTAMP:20260423T104234
CREATED:20250909T001107Z
LAST-MODIFIED:20251101T204755Z
UID:10004251-1885248000-1885507199@av8maps.com
SUMMARY:Gold Country Fly-in and Camp (O22)
DESCRIPTION:Hello friends!! We are happy to share our next West Coast Flyers fly in campout event. It is coming up September 26-28 at Columbia CA. This is the best airport campground west of the Rockies. We are going to have a blast. Space is very limited so register quickly. We are requiring pre registration and pre pay to secure your spot. Details on flyer. Please use QR code to register.
URL:https://av8maps.com/event/gold-country-fly-in-and-camp-o22/2029-09-28/
LOCATION:Columbia Airport\, 10723 Airport Rd\, Columbia\, CA 95310
ATTACH;FMTTYPE=image/jpeg:https://av8maps.com/wp-content/uploads/2025/09/Gold-Country-Fly-in-O22-e1757376382250.jpg
GEO:38.0294955;-120.4119958
X-APPLE-STRUCTURED-LOCATION;VALUE=URI;X-ADDRESS=Columbia Airport 10723 Airport Rd Columbia CA 95310;X-APPLE-RADIUS=500;X-TITLE=10723 Airport Rd\, Columbia\, CA 95310:geo:-120.4119958,38.0294955
END:VEVENT
BEGIN:VEVENT
DTSTART;TZID=America/New_York:20300927T000000
DTEND;TZID=America/New_York:20300929T235959
DTSTAMP:20260423T104234
CREATED:20250909T001107Z
LAST-MODIFIED:20251101T204755Z
UID:10004252-1916697600-1916956799@av8maps.com
SUMMARY:Gold Country Fly-in and Camp (O22)
DESCRIPTION:Hello friends!! We are happy to share our next West Coast Flyers fly in campout event. It is coming up September 26-28 at Columbia CA. This is the best airport campground west of the Rockies. We are going to have a blast. Space is very limited so register quickly. We are requiring pre registration and pre pay to secure your spot. Details on flyer. Please use QR code to register.
URL:https://av8maps.com/event/gold-country-fly-in-and-camp-o22/2030-09-27/
LOCATION:Columbia Airport\, 10723 Airport Rd\, Columbia\, CA 95310
ATTACH;FMTTYPE=image/jpeg:https://av8maps.com/wp-content/uploads/2025/09/Gold-Country-Fly-in-O22-e1757376382250.jpg
GEO:38.0294955;-120.4119958
X-APPLE-STRUCTURED-LOCATION;VALUE=URI;X-ADDRESS=Columbia Airport 10723 Airport Rd Columbia CA 95310;X-APPLE-RADIUS=500;X-TITLE=10723 Airport Rd\, Columbia\, CA 95310:geo:-120.4119958,38.0294955
END:VEVENT
END:VCALENDAR