BEGIN:VCALENDAR
VERSION:2.0
PRODID:-//AV8MAPS.COM - ECPv6.15.20//NONSGML v1.0//EN
CALSCALE:GREGORIAN
METHOD:PUBLISH
X-WR-CALNAME:AV8MAPS.COM
X-ORIGINAL-URL:https://av8maps.com
X-WR-CALDESC:Events for AV8MAPS.COM
REFRESH-INTERVAL;VALUE=DURATION:PT1H
X-Robots-Tag:noindex
X-PUBLISHED-TTL:PT1H
BEGIN:VTIMEZONE
TZID:America/New_York
BEGIN:DAYLIGHT
TZOFFSETFROM:-0500
TZOFFSETTO:-0400
TZNAME:EDT
DTSTART:20250309T070000
END:DAYLIGHT
BEGIN:STANDARD
TZOFFSETFROM:-0400
TZOFFSETTO:-0500
TZNAME:EST
DTSTART:20251102T060000
END:STANDARD
BEGIN:DAYLIGHT
TZOFFSETFROM:-0500
TZOFFSETTO:-0400
TZNAME:EDT
DTSTART:20260308T070000
END:DAYLIGHT
BEGIN:STANDARD
TZOFFSETFROM:-0400
TZOFFSETTO:-0500
TZNAME:EST
DTSTART:20261101T060000
END:STANDARD
BEGIN:DAYLIGHT
TZOFFSETFROM:-0500
TZOFFSETTO:-0400
TZNAME:EDT
DTSTART:20270314T070000
END:DAYLIGHT
BEGIN:STANDARD
TZOFFSETFROM:-0400
TZOFFSETTO:-0500
TZNAME:EST
DTSTART:20271107T060000
END:STANDARD
BEGIN:DAYLIGHT
TZOFFSETFROM:-0500
TZOFFSETTO:-0400
TZNAME:EDT
DTSTART:20280312T070000
END:DAYLIGHT
BEGIN:STANDARD
TZOFFSETFROM:-0400
TZOFFSETTO:-0500
TZNAME:EST
DTSTART:20281105T060000
END:STANDARD
BEGIN:DAYLIGHT
TZOFFSETFROM:-0500
TZOFFSETTO:-0400
TZNAME:EDT
DTSTART:20290311T070000
END:DAYLIGHT
BEGIN:STANDARD
TZOFFSETFROM:-0400
TZOFFSETTO:-0500
TZNAME:EST
DTSTART:20291104T060000
END:STANDARD
BEGIN:DAYLIGHT
TZOFFSETFROM:-0500
TZOFFSETTO:-0400
TZNAME:EDT
DTSTART:20300310T070000
END:DAYLIGHT
BEGIN:STANDARD
TZOFFSETFROM:-0400
TZOFFSETTO:-0500
TZNAME:EST
DTSTART:20301103T060000
END:STANDARD
BEGIN:DAYLIGHT
TZOFFSETFROM:-0500
TZOFFSETTO:-0400
TZNAME:EDT
DTSTART:20310309T070000
END:DAYLIGHT
BEGIN:STANDARD
TZOFFSETFROM:-0400
TZOFFSETTO:-0500
TZNAME:EST
DTSTART:20311102T060000
END:STANDARD
END:VTIMEZONE
BEGIN:VEVENT
DTSTART;TZID=America/New_York:20261003T110000
DTEND;TZID=America/New_York:20261003T150000
DTSTAMP:20260425T070200
CREATED:20250910T212259Z
LAST-MODIFIED:20251101T205649Z
UID:10004253-1791025200-1791039600@av8maps.com
SUMMARY:Annual Fall Fling Fly-in (KLOT)
DESCRIPTION:Save the date and spread the word!
URL:https://av8maps.com/event/2nd-annual-fall-fling-fly-in-klot/2026-10-03/
LOCATION:Lewis University Airport\, 3 Tom Lambrecht Dr\,\, Romeoville\, IL\, 60446
ATTACH;FMTTYPE=image/jpeg:https://av8maps.com/wp-content/uploads/2025/09/EAA-Chapter-15-Fall-Fly-in-e1757539359405.jpg
GEO:41.6049833;-88.0903678
X-APPLE-STRUCTURED-LOCATION;VALUE=URI;X-ADDRESS=Lewis University Airport 3 Tom Lambrecht Dr Romeoville IL 60446;X-APPLE-RADIUS=500;X-TITLE=3 Tom Lambrecht Dr\,:geo:-88.0903678,41.6049833
END:VEVENT
BEGIN:VEVENT
DTSTART;TZID=America/New_York:20271002T110000
DTEND;TZID=America/New_York:20271002T150000
DTSTAMP:20260425T070200
CREATED:20250910T212259Z
LAST-MODIFIED:20251101T205649Z
UID:10004254-1822474800-1822489200@av8maps.com
SUMMARY:Annual Fall Fling Fly-in (KLOT)
DESCRIPTION:Save the date and spread the word!
URL:https://av8maps.com/event/2nd-annual-fall-fling-fly-in-klot/2027-10-02/
LOCATION:Lewis University Airport\, 3 Tom Lambrecht Dr\,\, Romeoville\, IL\, 60446
ATTACH;FMTTYPE=image/jpeg:https://av8maps.com/wp-content/uploads/2025/09/EAA-Chapter-15-Fall-Fly-in-e1757539359405.jpg
GEO:41.6049833;-88.0903678
X-APPLE-STRUCTURED-LOCATION;VALUE=URI;X-ADDRESS=Lewis University Airport 3 Tom Lambrecht Dr Romeoville IL 60446;X-APPLE-RADIUS=500;X-TITLE=3 Tom Lambrecht Dr\,:geo:-88.0903678,41.6049833
END:VEVENT
BEGIN:VEVENT
DTSTART;TZID=America/New_York:20281007T110000
DTEND;TZID=America/New_York:20281007T150000
DTSTAMP:20260425T070200
CREATED:20250910T212259Z
LAST-MODIFIED:20251101T205649Z
UID:10004255-1854529200-1854543600@av8maps.com
SUMMARY:Annual Fall Fling Fly-in (KLOT)
DESCRIPTION:Save the date and spread the word!
URL:https://av8maps.com/event/2nd-annual-fall-fling-fly-in-klot/2028-10-07/
LOCATION:Lewis University Airport\, 3 Tom Lambrecht Dr\,\, Romeoville\, IL\, 60446
ATTACH;FMTTYPE=image/jpeg:https://av8maps.com/wp-content/uploads/2025/09/EAA-Chapter-15-Fall-Fly-in-e1757539359405.jpg
GEO:41.6049833;-88.0903678
X-APPLE-STRUCTURED-LOCATION;VALUE=URI;X-ADDRESS=Lewis University Airport 3 Tom Lambrecht Dr Romeoville IL 60446;X-APPLE-RADIUS=500;X-TITLE=3 Tom Lambrecht Dr\,:geo:-88.0903678,41.6049833
END:VEVENT
BEGIN:VEVENT
DTSTART;TZID=America/New_York:20291006T110000
DTEND;TZID=America/New_York:20291006T150000
DTSTAMP:20260425T070200
CREATED:20250910T212259Z
LAST-MODIFIED:20251101T205649Z
UID:10004256-1885978800-1885993200@av8maps.com
SUMMARY:Annual Fall Fling Fly-in (KLOT)
DESCRIPTION:Save the date and spread the word!
URL:https://av8maps.com/event/2nd-annual-fall-fling-fly-in-klot/2029-10-06/
LOCATION:Lewis University Airport\, 3 Tom Lambrecht Dr\,\, Romeoville\, IL\, 60446
ATTACH;FMTTYPE=image/jpeg:https://av8maps.com/wp-content/uploads/2025/09/EAA-Chapter-15-Fall-Fly-in-e1757539359405.jpg
GEO:41.6049833;-88.0903678
X-APPLE-STRUCTURED-LOCATION;VALUE=URI;X-ADDRESS=Lewis University Airport 3 Tom Lambrecht Dr Romeoville IL 60446;X-APPLE-RADIUS=500;X-TITLE=3 Tom Lambrecht Dr\,:geo:-88.0903678,41.6049833
END:VEVENT
BEGIN:VEVENT
DTSTART;TZID=America/New_York:20301005T110000
DTEND;TZID=America/New_York:20301005T150000
DTSTAMP:20260425T070200
CREATED:20250910T212259Z
LAST-MODIFIED:20251101T205649Z
UID:10004257-1917428400-1917442800@av8maps.com
SUMMARY:Annual Fall Fling Fly-in (KLOT)
DESCRIPTION:Save the date and spread the word!
URL:https://av8maps.com/event/2nd-annual-fall-fling-fly-in-klot/2030-10-05/
LOCATION:Lewis University Airport\, 3 Tom Lambrecht Dr\,\, Romeoville\, IL\, 60446
ATTACH;FMTTYPE=image/jpeg:https://av8maps.com/wp-content/uploads/2025/09/EAA-Chapter-15-Fall-Fly-in-e1757539359405.jpg
GEO:41.6049833;-88.0903678
X-APPLE-STRUCTURED-LOCATION;VALUE=URI;X-ADDRESS=Lewis University Airport 3 Tom Lambrecht Dr Romeoville IL 60446;X-APPLE-RADIUS=500;X-TITLE=3 Tom Lambrecht Dr\,:geo:-88.0903678,41.6049833
END:VEVENT
END:VCALENDAR