BEGIN:VCALENDAR
VERSION:2.0
PRODID:-//AV8MAPS.COM - ECPv6.15.20//NONSGML v1.0//EN
CALSCALE:GREGORIAN
METHOD:PUBLISH
X-WR-CALNAME:AV8MAPS.COM
X-ORIGINAL-URL:https://av8maps.com
X-WR-CALDESC:Events for AV8MAPS.COM
REFRESH-INTERVAL;VALUE=DURATION:PT1H
X-Robots-Tag:noindex
X-PUBLISHED-TTL:PT1H
BEGIN:VTIMEZONE
TZID:America/New_York
BEGIN:DAYLIGHT
TZOFFSETFROM:-0500
TZOFFSETTO:-0400
TZNAME:EDT
DTSTART:20250309T070000
END:DAYLIGHT
BEGIN:STANDARD
TZOFFSETFROM:-0400
TZOFFSETTO:-0500
TZNAME:EST
DTSTART:20251102T060000
END:STANDARD
BEGIN:DAYLIGHT
TZOFFSETFROM:-0500
TZOFFSETTO:-0400
TZNAME:EDT
DTSTART:20260308T070000
END:DAYLIGHT
BEGIN:STANDARD
TZOFFSETFROM:-0400
TZOFFSETTO:-0500
TZNAME:EST
DTSTART:20261101T060000
END:STANDARD
BEGIN:DAYLIGHT
TZOFFSETFROM:-0500
TZOFFSETTO:-0400
TZNAME:EDT
DTSTART:20270314T070000
END:DAYLIGHT
BEGIN:STANDARD
TZOFFSETFROM:-0400
TZOFFSETTO:-0500
TZNAME:EST
DTSTART:20271107T060000
END:STANDARD
BEGIN:DAYLIGHT
TZOFFSETFROM:-0500
TZOFFSETTO:-0400
TZNAME:EDT
DTSTART:20280312T070000
END:DAYLIGHT
BEGIN:STANDARD
TZOFFSETFROM:-0400
TZOFFSETTO:-0500
TZNAME:EST
DTSTART:20281105T060000
END:STANDARD
BEGIN:DAYLIGHT
TZOFFSETFROM:-0500
TZOFFSETTO:-0400
TZNAME:EDT
DTSTART:20290311T070000
END:DAYLIGHT
BEGIN:STANDARD
TZOFFSETFROM:-0400
TZOFFSETTO:-0500
TZNAME:EST
DTSTART:20291104T060000
END:STANDARD
BEGIN:DAYLIGHT
TZOFFSETFROM:-0500
TZOFFSETTO:-0400
TZNAME:EDT
DTSTART:20300310T070000
END:DAYLIGHT
BEGIN:STANDARD
TZOFFSETFROM:-0400
TZOFFSETTO:-0500
TZNAME:EST
DTSTART:20301103T060000
END:STANDARD
BEGIN:DAYLIGHT
TZOFFSETFROM:-0500
TZOFFSETTO:-0400
TZNAME:EDT
DTSTART:20310309T070000
END:DAYLIGHT
BEGIN:STANDARD
TZOFFSETFROM:-0400
TZOFFSETTO:-0500
TZNAME:EST
DTSTART:20311102T060000
END:STANDARD
END:VTIMEZONE
BEGIN:VEVENT
DTSTART;TZID=America/New_York:20260926T080000
DTEND;TZID=America/New_York:20260926T130000
DTSTAMP:20260425T113758
CREATED:20250910T212941Z
LAST-MODIFIED:20251101T205744Z
UID:10004258-1790409600-1790427600@av8maps.com
SUMMARY:Annual WACO Aircraft fly-in (KBTL)
DESCRIPTION:We’re excited to welcome aviators from near and far to our upcoming Fly-In Event at WACO Aircraft Corp. located at KBTL (Battle Creek Executive Airport)!\n\n\nAll aircraft are welcome — whether you’re flying a jet\, piston\, turboprop\, or something experimental\, we’d love to have you join us.\n\n\nSee you on the ramp!\n\n\nBattle Creek Executive Airport (KBTL)\n\n\nCentennial Ramp\n\n\n#wacoaircraft\n#flyins\, #fly-ins\n#KBTL#Biplanes
URL:https://av8maps.com/event/1st-annual-waco-aircraft-fly-in-kbtl/2026-09-26/
LOCATION:Battle Creek Executive Airport\, 15745 Airport Road\, \, MI\, Battle Creek\, MI\, 49015
ATTACH;FMTTYPE=image/jpeg:https://av8maps.com/wp-content/uploads/2025/09/1st-Annual-WACO-Aircraft-Fly-in-e1757539774217.jpg
GEO:42.3006847;-85.2552336
X-APPLE-STRUCTURED-LOCATION;VALUE=URI;X-ADDRESS=Battle Creek Executive Airport 15745 Airport Road  MI Battle Creek MI 49015;X-APPLE-RADIUS=500;X-TITLE=15745 Airport Road\, \, MI:geo:-85.2552336,42.3006847
END:VEVENT
BEGIN:VEVENT
DTSTART;TZID=America/New_York:20270925T080000
DTEND;TZID=America/New_York:20270925T130000
DTSTAMP:20260425T113758
CREATED:20250910T212941Z
LAST-MODIFIED:20251101T205744Z
UID:10004259-1821859200-1821877200@av8maps.com
SUMMARY:Annual WACO Aircraft fly-in (KBTL)
DESCRIPTION:We’re excited to welcome aviators from near and far to our upcoming Fly-In Event at WACO Aircraft Corp. located at KBTL (Battle Creek Executive Airport)!\n\n\nAll aircraft are welcome — whether you’re flying a jet\, piston\, turboprop\, or something experimental\, we’d love to have you join us.\n\n\nSee you on the ramp!\n\n\nBattle Creek Executive Airport (KBTL)\n\n\nCentennial Ramp\n\n\n#wacoaircraft\n#flyins\, #fly-ins\n#KBTL#Biplanes
URL:https://av8maps.com/event/1st-annual-waco-aircraft-fly-in-kbtl/2027-09-25/
LOCATION:Battle Creek Executive Airport\, 15745 Airport Road\, \, MI\, Battle Creek\, MI\, 49015
ATTACH;FMTTYPE=image/jpeg:https://av8maps.com/wp-content/uploads/2025/09/1st-Annual-WACO-Aircraft-Fly-in-e1757539774217.jpg
GEO:42.3006847;-85.2552336
X-APPLE-STRUCTURED-LOCATION;VALUE=URI;X-ADDRESS=Battle Creek Executive Airport 15745 Airport Road  MI Battle Creek MI 49015;X-APPLE-RADIUS=500;X-TITLE=15745 Airport Road\, \, MI:geo:-85.2552336,42.3006847
END:VEVENT
BEGIN:VEVENT
DTSTART;TZID=America/New_York:20280923T080000
DTEND;TZID=America/New_York:20280923T130000
DTSTAMP:20260425T113758
CREATED:20250910T212941Z
LAST-MODIFIED:20251101T205744Z
UID:10004260-1853308800-1853326800@av8maps.com
SUMMARY:Annual WACO Aircraft fly-in (KBTL)
DESCRIPTION:We’re excited to welcome aviators from near and far to our upcoming Fly-In Event at WACO Aircraft Corp. located at KBTL (Battle Creek Executive Airport)!\n\n\nAll aircraft are welcome — whether you’re flying a jet\, piston\, turboprop\, or something experimental\, we’d love to have you join us.\n\n\nSee you on the ramp!\n\n\nBattle Creek Executive Airport (KBTL)\n\n\nCentennial Ramp\n\n\n#wacoaircraft\n#flyins\, #fly-ins\n#KBTL#Biplanes
URL:https://av8maps.com/event/1st-annual-waco-aircraft-fly-in-kbtl/2028-09-23/
LOCATION:Battle Creek Executive Airport\, 15745 Airport Road\, \, MI\, Battle Creek\, MI\, 49015
ATTACH;FMTTYPE=image/jpeg:https://av8maps.com/wp-content/uploads/2025/09/1st-Annual-WACO-Aircraft-Fly-in-e1757539774217.jpg
GEO:42.3006847;-85.2552336
X-APPLE-STRUCTURED-LOCATION;VALUE=URI;X-ADDRESS=Battle Creek Executive Airport 15745 Airport Road  MI Battle Creek MI 49015;X-APPLE-RADIUS=500;X-TITLE=15745 Airport Road\, \, MI:geo:-85.2552336,42.3006847
END:VEVENT
BEGIN:VEVENT
DTSTART;TZID=America/New_York:20290922T080000
DTEND;TZID=America/New_York:20290922T130000
DTSTAMP:20260425T113758
CREATED:20250910T212941Z
LAST-MODIFIED:20251101T205744Z
UID:10004261-1884758400-1884776400@av8maps.com
SUMMARY:Annual WACO Aircraft fly-in (KBTL)
DESCRIPTION:We’re excited to welcome aviators from near and far to our upcoming Fly-In Event at WACO Aircraft Corp. located at KBTL (Battle Creek Executive Airport)!\n\n\nAll aircraft are welcome — whether you’re flying a jet\, piston\, turboprop\, or something experimental\, we’d love to have you join us.\n\n\nSee you on the ramp!\n\n\nBattle Creek Executive Airport (KBTL)\n\n\nCentennial Ramp\n\n\n#wacoaircraft\n#flyins\, #fly-ins\n#KBTL#Biplanes
URL:https://av8maps.com/event/1st-annual-waco-aircraft-fly-in-kbtl/2029-09-22/
LOCATION:Battle Creek Executive Airport\, 15745 Airport Road\, \, MI\, Battle Creek\, MI\, 49015
ATTACH;FMTTYPE=image/jpeg:https://av8maps.com/wp-content/uploads/2025/09/1st-Annual-WACO-Aircraft-Fly-in-e1757539774217.jpg
GEO:42.3006847;-85.2552336
X-APPLE-STRUCTURED-LOCATION;VALUE=URI;X-ADDRESS=Battle Creek Executive Airport 15745 Airport Road  MI Battle Creek MI 49015;X-APPLE-RADIUS=500;X-TITLE=15745 Airport Road\, \, MI:geo:-85.2552336,42.3006847
END:VEVENT
BEGIN:VEVENT
DTSTART;TZID=America/New_York:20300928T080000
DTEND;TZID=America/New_York:20300928T130000
DTSTAMP:20260425T113758
CREATED:20250910T212941Z
LAST-MODIFIED:20251101T205744Z
UID:10004262-1916812800-1916830800@av8maps.com
SUMMARY:Annual WACO Aircraft fly-in (KBTL)
DESCRIPTION:We’re excited to welcome aviators from near and far to our upcoming Fly-In Event at WACO Aircraft Corp. located at KBTL (Battle Creek Executive Airport)!\n\n\nAll aircraft are welcome — whether you’re flying a jet\, piston\, turboprop\, or something experimental\, we’d love to have you join us.\n\n\nSee you on the ramp!\n\n\nBattle Creek Executive Airport (KBTL)\n\n\nCentennial Ramp\n\n\n#wacoaircraft\n#flyins\, #fly-ins\n#KBTL#Biplanes
URL:https://av8maps.com/event/1st-annual-waco-aircraft-fly-in-kbtl/2030-09-28/
LOCATION:Battle Creek Executive Airport\, 15745 Airport Road\, \, MI\, Battle Creek\, MI\, 49015
ATTACH;FMTTYPE=image/jpeg:https://av8maps.com/wp-content/uploads/2025/09/1st-Annual-WACO-Aircraft-Fly-in-e1757539774217.jpg
GEO:42.3006847;-85.2552336
X-APPLE-STRUCTURED-LOCATION;VALUE=URI;X-ADDRESS=Battle Creek Executive Airport 15745 Airport Road  MI Battle Creek MI 49015;X-APPLE-RADIUS=500;X-TITLE=15745 Airport Road\, \, MI:geo:-85.2552336,42.3006847
END:VEVENT
END:VCALENDAR