BEGIN:VCALENDAR
VERSION:2.0
PRODID:-//AV8MAPS.COM - ECPv6.15.20//NONSGML v1.0//EN
CALSCALE:GREGORIAN
METHOD:PUBLISH
X-WR-CALNAME:AV8MAPS.COM
X-ORIGINAL-URL:https://av8maps.com
X-WR-CALDESC:Events for AV8MAPS.COM
REFRESH-INTERVAL;VALUE=DURATION:PT1H
X-Robots-Tag:noindex
X-PUBLISHED-TTL:PT1H
BEGIN:VTIMEZONE
TZID:America/New_York
BEGIN:DAYLIGHT
TZOFFSETFROM:-0500
TZOFFSETTO:-0400
TZNAME:EDT
DTSTART:20250309T070000
END:DAYLIGHT
BEGIN:STANDARD
TZOFFSETFROM:-0400
TZOFFSETTO:-0500
TZNAME:EST
DTSTART:20251102T060000
END:STANDARD
BEGIN:DAYLIGHT
TZOFFSETFROM:-0500
TZOFFSETTO:-0400
TZNAME:EDT
DTSTART:20260308T070000
END:DAYLIGHT
BEGIN:STANDARD
TZOFFSETFROM:-0400
TZOFFSETTO:-0500
TZNAME:EST
DTSTART:20261101T060000
END:STANDARD
BEGIN:DAYLIGHT
TZOFFSETFROM:-0500
TZOFFSETTO:-0400
TZNAME:EDT
DTSTART:20270314T070000
END:DAYLIGHT
BEGIN:STANDARD
TZOFFSETFROM:-0400
TZOFFSETTO:-0500
TZNAME:EST
DTSTART:20271107T060000
END:STANDARD
BEGIN:DAYLIGHT
TZOFFSETFROM:-0500
TZOFFSETTO:-0400
TZNAME:EDT
DTSTART:20280312T070000
END:DAYLIGHT
BEGIN:STANDARD
TZOFFSETFROM:-0400
TZOFFSETTO:-0500
TZNAME:EST
DTSTART:20281105T060000
END:STANDARD
BEGIN:DAYLIGHT
TZOFFSETFROM:-0500
TZOFFSETTO:-0400
TZNAME:EDT
DTSTART:20290311T070000
END:DAYLIGHT
BEGIN:STANDARD
TZOFFSETFROM:-0400
TZOFFSETTO:-0500
TZNAME:EST
DTSTART:20291104T060000
END:STANDARD
BEGIN:DAYLIGHT
TZOFFSETFROM:-0500
TZOFFSETTO:-0400
TZNAME:EDT
DTSTART:20300310T070000
END:DAYLIGHT
BEGIN:STANDARD
TZOFFSETFROM:-0400
TZOFFSETTO:-0500
TZNAME:EST
DTSTART:20301103T060000
END:STANDARD
BEGIN:DAYLIGHT
TZOFFSETFROM:-0500
TZOFFSETTO:-0400
TZNAME:EDT
DTSTART:20310309T070000
END:DAYLIGHT
BEGIN:STANDARD
TZOFFSETFROM:-0400
TZOFFSETTO:-0500
TZNAME:EST
DTSTART:20311102T060000
END:STANDARD
END:VTIMEZONE
BEGIN:VEVENT
DTSTART;TZID=America/New_York:20260920T130000
DTEND;TZID=America/New_York:20260920T150000
DTSTAMP:20260423T025007
CREATED:20250910T221027Z
LAST-MODIFIED:20251101T205839Z
UID:10004263-1789909200-1789916400@av8maps.com
SUMMARY:Girls in Aviation Day (KLNK)
DESCRIPTION:The Women in Aviation Cornhusker Chapter is excited to host Girls in Aviation Day — a Women in Aviation International event! \n\nBring your curiosity and get ready to: Meet local aviation experts Enjoy hands-on activities Discover exciting career paths in aviation Learn something new!\n\n\n Open to girls ages 8–18 Limited to 300 youth attendees (chaperones do not need to RSVP)\n\n\n Scan the QR code in the flyer to register!\n\n\nFor questions\, email cornhuskerwai@gmail.com\n\n\nLet’s inspire the next generation of aviators!
URL:https://av8maps.com/event/girls-in-aviation-day-klnk/2026-09-20/
LOCATION:Lincoln Airport\, 1761 W Kearney Ave\, Lincoln\, NE 68524
ATTACH;FMTTYPE=image/jpeg:https://av8maps.com/wp-content/uploads/2025/09/Girls-in-Aviation-Lincoln-KLNK-e1757542128730.jpg
GEO:40.8542892;-96.747328
X-APPLE-STRUCTURED-LOCATION;VALUE=URI;X-ADDRESS=Lincoln Airport 1761 W Kearney Ave Lincoln NE 68524;X-APPLE-RADIUS=500;X-TITLE=1761 W Kearney Ave\, Lincoln\, NE 68524:geo:-96.747328,40.8542892
END:VEVENT
BEGIN:VEVENT
DTSTART;TZID=America/New_York:20270919T130000
DTEND;TZID=America/New_York:20270919T150000
DTSTAMP:20260423T025007
CREATED:20250910T221027Z
LAST-MODIFIED:20251101T205839Z
UID:10004264-1821358800-1821366000@av8maps.com
SUMMARY:Girls in Aviation Day (KLNK)
DESCRIPTION:The Women in Aviation Cornhusker Chapter is excited to host Girls in Aviation Day — a Women in Aviation International event! \n\nBring your curiosity and get ready to: Meet local aviation experts Enjoy hands-on activities Discover exciting career paths in aviation Learn something new!\n\n\n Open to girls ages 8–18 Limited to 300 youth attendees (chaperones do not need to RSVP)\n\n\n Scan the QR code in the flyer to register!\n\n\nFor questions\, email cornhuskerwai@gmail.com\n\n\nLet’s inspire the next generation of aviators!
URL:https://av8maps.com/event/girls-in-aviation-day-klnk/2027-09-19/
LOCATION:Lincoln Airport\, 1761 W Kearney Ave\, Lincoln\, NE 68524
ATTACH;FMTTYPE=image/jpeg:https://av8maps.com/wp-content/uploads/2025/09/Girls-in-Aviation-Lincoln-KLNK-e1757542128730.jpg
GEO:40.8542892;-96.747328
X-APPLE-STRUCTURED-LOCATION;VALUE=URI;X-ADDRESS=Lincoln Airport 1761 W Kearney Ave Lincoln NE 68524;X-APPLE-RADIUS=500;X-TITLE=1761 W Kearney Ave\, Lincoln\, NE 68524:geo:-96.747328,40.8542892
END:VEVENT
BEGIN:VEVENT
DTSTART;TZID=America/New_York:20280917T130000
DTEND;TZID=America/New_York:20280917T150000
DTSTAMP:20260423T025007
CREATED:20250910T221027Z
LAST-MODIFIED:20251101T205839Z
UID:10004265-1852808400-1852815600@av8maps.com
SUMMARY:Girls in Aviation Day (KLNK)
DESCRIPTION:The Women in Aviation Cornhusker Chapter is excited to host Girls in Aviation Day — a Women in Aviation International event! \n\nBring your curiosity and get ready to: Meet local aviation experts Enjoy hands-on activities Discover exciting career paths in aviation Learn something new!\n\n\n Open to girls ages 8–18 Limited to 300 youth attendees (chaperones do not need to RSVP)\n\n\n Scan the QR code in the flyer to register!\n\n\nFor questions\, email cornhuskerwai@gmail.com\n\n\nLet’s inspire the next generation of aviators!
URL:https://av8maps.com/event/girls-in-aviation-day-klnk/2028-09-17/
LOCATION:Lincoln Airport\, 1761 W Kearney Ave\, Lincoln\, NE 68524
ATTACH;FMTTYPE=image/jpeg:https://av8maps.com/wp-content/uploads/2025/09/Girls-in-Aviation-Lincoln-KLNK-e1757542128730.jpg
GEO:40.8542892;-96.747328
X-APPLE-STRUCTURED-LOCATION;VALUE=URI;X-ADDRESS=Lincoln Airport 1761 W Kearney Ave Lincoln NE 68524;X-APPLE-RADIUS=500;X-TITLE=1761 W Kearney Ave\, Lincoln\, NE 68524:geo:-96.747328,40.8542892
END:VEVENT
BEGIN:VEVENT
DTSTART;TZID=America/New_York:20290916T130000
DTEND;TZID=America/New_York:20290916T150000
DTSTAMP:20260423T025007
CREATED:20250910T221027Z
LAST-MODIFIED:20251101T205839Z
UID:10004266-1884258000-1884265200@av8maps.com
SUMMARY:Girls in Aviation Day (KLNK)
DESCRIPTION:The Women in Aviation Cornhusker Chapter is excited to host Girls in Aviation Day — a Women in Aviation International event! \n\nBring your curiosity and get ready to: Meet local aviation experts Enjoy hands-on activities Discover exciting career paths in aviation Learn something new!\n\n\n Open to girls ages 8–18 Limited to 300 youth attendees (chaperones do not need to RSVP)\n\n\n Scan the QR code in the flyer to register!\n\n\nFor questions\, email cornhuskerwai@gmail.com\n\n\nLet’s inspire the next generation of aviators!
URL:https://av8maps.com/event/girls-in-aviation-day-klnk/2029-09-16/
LOCATION:Lincoln Airport\, 1761 W Kearney Ave\, Lincoln\, NE 68524
ATTACH;FMTTYPE=image/jpeg:https://av8maps.com/wp-content/uploads/2025/09/Girls-in-Aviation-Lincoln-KLNK-e1757542128730.jpg
GEO:40.8542892;-96.747328
X-APPLE-STRUCTURED-LOCATION;VALUE=URI;X-ADDRESS=Lincoln Airport 1761 W Kearney Ave Lincoln NE 68524;X-APPLE-RADIUS=500;X-TITLE=1761 W Kearney Ave\, Lincoln\, NE 68524:geo:-96.747328,40.8542892
END:VEVENT
BEGIN:VEVENT
DTSTART;TZID=America/New_York:20300915T130000
DTEND;TZID=America/New_York:20300915T150000
DTSTAMP:20260423T025007
CREATED:20250910T221027Z
LAST-MODIFIED:20251101T205839Z
UID:10004267-1915707600-1915714800@av8maps.com
SUMMARY:Girls in Aviation Day (KLNK)
DESCRIPTION:The Women in Aviation Cornhusker Chapter is excited to host Girls in Aviation Day — a Women in Aviation International event! \n\nBring your curiosity and get ready to: Meet local aviation experts Enjoy hands-on activities Discover exciting career paths in aviation Learn something new!\n\n\n Open to girls ages 8–18 Limited to 300 youth attendees (chaperones do not need to RSVP)\n\n\n Scan the QR code in the flyer to register!\n\n\nFor questions\, email cornhuskerwai@gmail.com\n\n\nLet’s inspire the next generation of aviators!
URL:https://av8maps.com/event/girls-in-aviation-day-klnk/2030-09-15/
LOCATION:Lincoln Airport\, 1761 W Kearney Ave\, Lincoln\, NE 68524
ATTACH;FMTTYPE=image/jpeg:https://av8maps.com/wp-content/uploads/2025/09/Girls-in-Aviation-Lincoln-KLNK-e1757542128730.jpg
GEO:40.8542892;-96.747328
X-APPLE-STRUCTURED-LOCATION;VALUE=URI;X-ADDRESS=Lincoln Airport 1761 W Kearney Ave Lincoln NE 68524;X-APPLE-RADIUS=500;X-TITLE=1761 W Kearney Ave\, Lincoln\, NE 68524:geo:-96.747328,40.8542892
END:VEVENT
END:VCALENDAR