BEGIN:VCALENDAR
VERSION:2.0
PRODID:-//AV8MAPS.COM - ECPv6.15.20//NONSGML v1.0//EN
CALSCALE:GREGORIAN
METHOD:PUBLISH
X-WR-CALNAME:AV8MAPS.COM
X-ORIGINAL-URL:https://av8maps.com
X-WR-CALDESC:Events for AV8MAPS.COM
REFRESH-INTERVAL;VALUE=DURATION:PT1H
X-Robots-Tag:noindex
X-PUBLISHED-TTL:PT1H
BEGIN:VTIMEZONE
TZID:America/New_York
BEGIN:DAYLIGHT
TZOFFSETFROM:-0500
TZOFFSETTO:-0400
TZNAME:EDT
DTSTART:20250309T070000
END:DAYLIGHT
BEGIN:STANDARD
TZOFFSETFROM:-0400
TZOFFSETTO:-0500
TZNAME:EST
DTSTART:20251102T060000
END:STANDARD
BEGIN:DAYLIGHT
TZOFFSETFROM:-0500
TZOFFSETTO:-0400
TZNAME:EDT
DTSTART:20260308T070000
END:DAYLIGHT
BEGIN:STANDARD
TZOFFSETFROM:-0400
TZOFFSETTO:-0500
TZNAME:EST
DTSTART:20261101T060000
END:STANDARD
BEGIN:DAYLIGHT
TZOFFSETFROM:-0500
TZOFFSETTO:-0400
TZNAME:EDT
DTSTART:20270314T070000
END:DAYLIGHT
BEGIN:STANDARD
TZOFFSETFROM:-0400
TZOFFSETTO:-0500
TZNAME:EST
DTSTART:20271107T060000
END:STANDARD
BEGIN:DAYLIGHT
TZOFFSETFROM:-0500
TZOFFSETTO:-0400
TZNAME:EDT
DTSTART:20280312T070000
END:DAYLIGHT
BEGIN:STANDARD
TZOFFSETFROM:-0400
TZOFFSETTO:-0500
TZNAME:EST
DTSTART:20281105T060000
END:STANDARD
BEGIN:DAYLIGHT
TZOFFSETFROM:-0500
TZOFFSETTO:-0400
TZNAME:EDT
DTSTART:20290311T070000
END:DAYLIGHT
BEGIN:STANDARD
TZOFFSETFROM:-0400
TZOFFSETTO:-0500
TZNAME:EST
DTSTART:20291104T060000
END:STANDARD
BEGIN:DAYLIGHT
TZOFFSETFROM:-0500
TZOFFSETTO:-0400
TZNAME:EDT
DTSTART:20300310T070000
END:DAYLIGHT
BEGIN:STANDARD
TZOFFSETFROM:-0400
TZOFFSETTO:-0500
TZNAME:EST
DTSTART:20301103T060000
END:STANDARD
BEGIN:DAYLIGHT
TZOFFSETFROM:-0500
TZOFFSETTO:-0400
TZNAME:EDT
DTSTART:20310309T070000
END:DAYLIGHT
BEGIN:STANDARD
TZOFFSETFROM:-0400
TZOFFSETTO:-0500
TZNAME:EST
DTSTART:20311102T060000
END:STANDARD
END:VTIMEZONE
BEGIN:VEVENT
DTSTART;TZID=America/New_York:20260919T080000
DTEND;TZID=America/New_York:20260919T120000
DTSTAMP:20260425T083805
CREATED:20250810T210209Z
LAST-MODIFIED:20251101T210016Z
UID:10004273-1789804800-1789819200@av8maps.com
SUMMARY:Lowell Airport Annual Fall Fly-in (24C)
DESCRIPTION:Saturday September 20\, Lowell Airport will be holding their annual fall fly in dawn Patrol Pancake Breakfast \n 
URL:https://av8maps.com/event/lowell-airport-burger-night-24c/2026-09-19/
LOCATION:Lowell Airport\, 730 Lincoln Lake Ave\, Lowell\, MI 49331
ATTACH;FMTTYPE=image/jpeg:https://av8maps.com/wp-content/uploads/2025/08/Lowell-Airport-Fall-Fly-in-24C-e1757550712516.jpg
GEO:42.938992;-85.3455579
X-APPLE-STRUCTURED-LOCATION;VALUE=URI;X-ADDRESS=Lowell Airport 730 Lincoln Lake Ave Lowell MI 49331;X-APPLE-RADIUS=500;X-TITLE=730 Lincoln Lake Ave\, Lowell\, MI 49331:geo:-85.3455579,42.938992
END:VEVENT
BEGIN:VEVENT
DTSTART;TZID=America/New_York:20270918T080000
DTEND;TZID=America/New_York:20270918T120000
DTSTAMP:20260425T083805
CREATED:20250810T210209Z
LAST-MODIFIED:20251101T210016Z
UID:10004274-1821254400-1821268800@av8maps.com
SUMMARY:Lowell Airport Annual Fall Fly-in (24C)
DESCRIPTION:Saturday September 20\, Lowell Airport will be holding their annual fall fly in dawn Patrol Pancake Breakfast \n 
URL:https://av8maps.com/event/lowell-airport-burger-night-24c/2027-09-18/
LOCATION:Lowell Airport\, 730 Lincoln Lake Ave\, Lowell\, MI 49331
ATTACH;FMTTYPE=image/jpeg:https://av8maps.com/wp-content/uploads/2025/08/Lowell-Airport-Fall-Fly-in-24C-e1757550712516.jpg
GEO:42.938992;-85.3455579
X-APPLE-STRUCTURED-LOCATION;VALUE=URI;X-ADDRESS=Lowell Airport 730 Lincoln Lake Ave Lowell MI 49331;X-APPLE-RADIUS=500;X-TITLE=730 Lincoln Lake Ave\, Lowell\, MI 49331:geo:-85.3455579,42.938992
END:VEVENT
BEGIN:VEVENT
DTSTART;TZID=America/New_York:20280916T080000
DTEND;TZID=America/New_York:20280916T120000
DTSTAMP:20260425T083805
CREATED:20250810T210209Z
LAST-MODIFIED:20251101T210016Z
UID:10004275-1852704000-1852718400@av8maps.com
SUMMARY:Lowell Airport Annual Fall Fly-in (24C)
DESCRIPTION:Saturday September 20\, Lowell Airport will be holding their annual fall fly in dawn Patrol Pancake Breakfast \n 
URL:https://av8maps.com/event/lowell-airport-burger-night-24c/2028-09-16/
LOCATION:Lowell Airport\, 730 Lincoln Lake Ave\, Lowell\, MI 49331
ATTACH;FMTTYPE=image/jpeg:https://av8maps.com/wp-content/uploads/2025/08/Lowell-Airport-Fall-Fly-in-24C-e1757550712516.jpg
GEO:42.938992;-85.3455579
X-APPLE-STRUCTURED-LOCATION;VALUE=URI;X-ADDRESS=Lowell Airport 730 Lincoln Lake Ave Lowell MI 49331;X-APPLE-RADIUS=500;X-TITLE=730 Lincoln Lake Ave\, Lowell\, MI 49331:geo:-85.3455579,42.938992
END:VEVENT
BEGIN:VEVENT
DTSTART;TZID=America/New_York:20290915T080000
DTEND;TZID=America/New_York:20290915T120000
DTSTAMP:20260425T083805
CREATED:20250810T210209Z
LAST-MODIFIED:20251101T210016Z
UID:10004276-1884153600-1884168000@av8maps.com
SUMMARY:Lowell Airport Annual Fall Fly-in (24C)
DESCRIPTION:Saturday September 20\, Lowell Airport will be holding their annual fall fly in dawn Patrol Pancake Breakfast \n 
URL:https://av8maps.com/event/lowell-airport-burger-night-24c/2029-09-15/
LOCATION:Lowell Airport\, 730 Lincoln Lake Ave\, Lowell\, MI 49331
ATTACH;FMTTYPE=image/jpeg:https://av8maps.com/wp-content/uploads/2025/08/Lowell-Airport-Fall-Fly-in-24C-e1757550712516.jpg
GEO:42.938992;-85.3455579
X-APPLE-STRUCTURED-LOCATION;VALUE=URI;X-ADDRESS=Lowell Airport 730 Lincoln Lake Ave Lowell MI 49331;X-APPLE-RADIUS=500;X-TITLE=730 Lincoln Lake Ave\, Lowell\, MI 49331:geo:-85.3455579,42.938992
END:VEVENT
BEGIN:VEVENT
DTSTART;TZID=America/New_York:20300921T080000
DTEND;TZID=America/New_York:20300921T120000
DTSTAMP:20260425T083805
CREATED:20250810T210209Z
LAST-MODIFIED:20251101T210016Z
UID:10004277-1916208000-1916222400@av8maps.com
SUMMARY:Lowell Airport Annual Fall Fly-in (24C)
DESCRIPTION:Saturday September 20\, Lowell Airport will be holding their annual fall fly in dawn Patrol Pancake Breakfast \n 
URL:https://av8maps.com/event/lowell-airport-burger-night-24c/2030-09-21/
LOCATION:Lowell Airport\, 730 Lincoln Lake Ave\, Lowell\, MI 49331
ATTACH;FMTTYPE=image/jpeg:https://av8maps.com/wp-content/uploads/2025/08/Lowell-Airport-Fall-Fly-in-24C-e1757550712516.jpg
GEO:42.938992;-85.3455579
X-APPLE-STRUCTURED-LOCATION;VALUE=URI;X-ADDRESS=Lowell Airport 730 Lincoln Lake Ave Lowell MI 49331;X-APPLE-RADIUS=500;X-TITLE=730 Lincoln Lake Ave\, Lowell\, MI 49331:geo:-85.3455579,42.938992
END:VEVENT
END:VCALENDAR