BEGIN:VCALENDAR
VERSION:2.0
PRODID:-//AV8MAPS.COM - ECPv6.15.20//NONSGML v1.0//EN
CALSCALE:GREGORIAN
METHOD:PUBLISH
X-WR-CALNAME:AV8MAPS.COM
X-ORIGINAL-URL:https://av8maps.com
X-WR-CALDESC:Events for AV8MAPS.COM
REFRESH-INTERVAL;VALUE=DURATION:PT1H
X-Robots-Tag:noindex
X-PUBLISHED-TTL:PT1H
BEGIN:VTIMEZONE
TZID:America/New_York
BEGIN:DAYLIGHT
TZOFFSETFROM:-0500
TZOFFSETTO:-0400
TZNAME:EDT
DTSTART:20250309T070000
END:DAYLIGHT
BEGIN:STANDARD
TZOFFSETFROM:-0400
TZOFFSETTO:-0500
TZNAME:EST
DTSTART:20251102T060000
END:STANDARD
BEGIN:DAYLIGHT
TZOFFSETFROM:-0500
TZOFFSETTO:-0400
TZNAME:EDT
DTSTART:20260308T070000
END:DAYLIGHT
BEGIN:STANDARD
TZOFFSETFROM:-0400
TZOFFSETTO:-0500
TZNAME:EST
DTSTART:20261101T060000
END:STANDARD
BEGIN:DAYLIGHT
TZOFFSETFROM:-0500
TZOFFSETTO:-0400
TZNAME:EDT
DTSTART:20270314T070000
END:DAYLIGHT
BEGIN:STANDARD
TZOFFSETFROM:-0400
TZOFFSETTO:-0500
TZNAME:EST
DTSTART:20271107T060000
END:STANDARD
BEGIN:DAYLIGHT
TZOFFSETFROM:-0500
TZOFFSETTO:-0400
TZNAME:EDT
DTSTART:20280312T070000
END:DAYLIGHT
BEGIN:STANDARD
TZOFFSETFROM:-0400
TZOFFSETTO:-0500
TZNAME:EST
DTSTART:20281105T060000
END:STANDARD
BEGIN:DAYLIGHT
TZOFFSETFROM:-0500
TZOFFSETTO:-0400
TZNAME:EDT
DTSTART:20290311T070000
END:DAYLIGHT
BEGIN:STANDARD
TZOFFSETFROM:-0400
TZOFFSETTO:-0500
TZNAME:EST
DTSTART:20291104T060000
END:STANDARD
BEGIN:DAYLIGHT
TZOFFSETFROM:-0500
TZOFFSETTO:-0400
TZNAME:EDT
DTSTART:20300310T070000
END:DAYLIGHT
BEGIN:STANDARD
TZOFFSETFROM:-0400
TZOFFSETTO:-0500
TZNAME:EST
DTSTART:20301103T060000
END:STANDARD
BEGIN:DAYLIGHT
TZOFFSETFROM:-0500
TZOFFSETTO:-0400
TZNAME:EDT
DTSTART:20310309T070000
END:DAYLIGHT
BEGIN:STANDARD
TZOFFSETFROM:-0400
TZOFFSETTO:-0500
TZNAME:EST
DTSTART:20311102T060000
END:STANDARD
END:VTIMEZONE
BEGIN:VEVENT
DTSTART;TZID=America/New_York:20260919T000000
DTEND;TZID=America/New_York:20260919T235959
DTSTAMP:20260423T051538
CREATED:20250911T014159Z
LAST-MODIFIED:20251101T210316Z
UID:10004293-1789776000-1789862399@av8maps.com
SUMMARY:Fly-in at Leo's Place (1KS3)
DESCRIPTION:Fly-in at 1KS3 Leo’s place.  Come have some fun. Note 1400′ runway. \nJoin us for our fall fly-in and potluck lunch at Leo’s Place.
URL:https://av8maps.com/event/fly-in-at-leos-place-1ks3/2026-09-19/
LOCATION:Leo’s Place Airport\, 8087 Tuttle Creek Blvd\, Manhattan\, KS 66503
ATTACH;FMTTYPE=image/jpeg:https://av8maps.com/wp-content/uploads/2025/09/EAA-Chapter-1364.jpg
GEO:39.3040216;-96.757633
X-APPLE-STRUCTURED-LOCATION;VALUE=URI;X-ADDRESS=Leo’s Place Airport 8087 Tuttle Creek Blvd Manhattan KS 66503;X-APPLE-RADIUS=500;X-TITLE=8087 Tuttle Creek Blvd\, Manhattan\, KS 66503:geo:-96.757633,39.3040216
END:VEVENT
BEGIN:VEVENT
DTSTART;TZID=America/New_York:20270918T000000
DTEND;TZID=America/New_York:20270918T235959
DTSTAMP:20260423T051538
CREATED:20250911T014159Z
LAST-MODIFIED:20251101T210316Z
UID:10004294-1821225600-1821311999@av8maps.com
SUMMARY:Fly-in at Leo's Place (1KS3)
DESCRIPTION:Fly-in at 1KS3 Leo’s place.  Come have some fun. Note 1400′ runway. \nJoin us for our fall fly-in and potluck lunch at Leo’s Place.
URL:https://av8maps.com/event/fly-in-at-leos-place-1ks3/2027-09-18/
LOCATION:Leo’s Place Airport\, 8087 Tuttle Creek Blvd\, Manhattan\, KS 66503
ATTACH;FMTTYPE=image/jpeg:https://av8maps.com/wp-content/uploads/2025/09/EAA-Chapter-1364.jpg
GEO:39.3040216;-96.757633
X-APPLE-STRUCTURED-LOCATION;VALUE=URI;X-ADDRESS=Leo’s Place Airport 8087 Tuttle Creek Blvd Manhattan KS 66503;X-APPLE-RADIUS=500;X-TITLE=8087 Tuttle Creek Blvd\, Manhattan\, KS 66503:geo:-96.757633,39.3040216
END:VEVENT
BEGIN:VEVENT
DTSTART;TZID=America/New_York:20280916T000000
DTEND;TZID=America/New_York:20280916T235959
DTSTAMP:20260423T051538
CREATED:20250911T014159Z
LAST-MODIFIED:20251101T210316Z
UID:10004295-1852675200-1852761599@av8maps.com
SUMMARY:Fly-in at Leo's Place (1KS3)
DESCRIPTION:Fly-in at 1KS3 Leo’s place.  Come have some fun. Note 1400′ runway. \nJoin us for our fall fly-in and potluck lunch at Leo’s Place.
URL:https://av8maps.com/event/fly-in-at-leos-place-1ks3/2028-09-16/
LOCATION:Leo’s Place Airport\, 8087 Tuttle Creek Blvd\, Manhattan\, KS 66503
ATTACH;FMTTYPE=image/jpeg:https://av8maps.com/wp-content/uploads/2025/09/EAA-Chapter-1364.jpg
GEO:39.3040216;-96.757633
X-APPLE-STRUCTURED-LOCATION;VALUE=URI;X-ADDRESS=Leo’s Place Airport 8087 Tuttle Creek Blvd Manhattan KS 66503;X-APPLE-RADIUS=500;X-TITLE=8087 Tuttle Creek Blvd\, Manhattan\, KS 66503:geo:-96.757633,39.3040216
END:VEVENT
BEGIN:VEVENT
DTSTART;TZID=America/New_York:20290915T000000
DTEND;TZID=America/New_York:20290915T235959
DTSTAMP:20260423T051538
CREATED:20250911T014159Z
LAST-MODIFIED:20251101T210316Z
UID:10004296-1884124800-1884211199@av8maps.com
SUMMARY:Fly-in at Leo's Place (1KS3)
DESCRIPTION:Fly-in at 1KS3 Leo’s place.  Come have some fun. Note 1400′ runway. \nJoin us for our fall fly-in and potluck lunch at Leo’s Place.
URL:https://av8maps.com/event/fly-in-at-leos-place-1ks3/2029-09-15/
LOCATION:Leo’s Place Airport\, 8087 Tuttle Creek Blvd\, Manhattan\, KS 66503
ATTACH;FMTTYPE=image/jpeg:https://av8maps.com/wp-content/uploads/2025/09/EAA-Chapter-1364.jpg
GEO:39.3040216;-96.757633
X-APPLE-STRUCTURED-LOCATION;VALUE=URI;X-ADDRESS=Leo’s Place Airport 8087 Tuttle Creek Blvd Manhattan KS 66503;X-APPLE-RADIUS=500;X-TITLE=8087 Tuttle Creek Blvd\, Manhattan\, KS 66503:geo:-96.757633,39.3040216
END:VEVENT
BEGIN:VEVENT
DTSTART;TZID=America/New_York:20300921T000000
DTEND;TZID=America/New_York:20300921T235959
DTSTAMP:20260423T051538
CREATED:20250911T014159Z
LAST-MODIFIED:20251101T210316Z
UID:10004297-1916179200-1916265599@av8maps.com
SUMMARY:Fly-in at Leo's Place (1KS3)
DESCRIPTION:Fly-in at 1KS3 Leo’s place.  Come have some fun. Note 1400′ runway. \nJoin us for our fall fly-in and potluck lunch at Leo’s Place.
URL:https://av8maps.com/event/fly-in-at-leos-place-1ks3/2030-09-21/
LOCATION:Leo’s Place Airport\, 8087 Tuttle Creek Blvd\, Manhattan\, KS 66503
ATTACH;FMTTYPE=image/jpeg:https://av8maps.com/wp-content/uploads/2025/09/EAA-Chapter-1364.jpg
GEO:39.3040216;-96.757633
X-APPLE-STRUCTURED-LOCATION;VALUE=URI;X-ADDRESS=Leo’s Place Airport 8087 Tuttle Creek Blvd Manhattan KS 66503;X-APPLE-RADIUS=500;X-TITLE=8087 Tuttle Creek Blvd\, Manhattan\, KS 66503:geo:-96.757633,39.3040216
END:VEVENT
END:VCALENDAR