BEGIN:VCALENDAR
VERSION:2.0
PRODID:-//AV8MAPS.COM - ECPv6.15.20//NONSGML v1.0//EN
CALSCALE:GREGORIAN
METHOD:PUBLISH
X-WR-CALNAME:AV8MAPS.COM
X-ORIGINAL-URL:https://av8maps.com
X-WR-CALDESC:Events for AV8MAPS.COM
REFRESH-INTERVAL;VALUE=DURATION:PT1H
X-Robots-Tag:noindex
X-PUBLISHED-TTL:PT1H
BEGIN:VTIMEZONE
TZID:America/New_York
BEGIN:DAYLIGHT
TZOFFSETFROM:-0500
TZOFFSETTO:-0400
TZNAME:EDT
DTSTART:20250309T070000
END:DAYLIGHT
BEGIN:STANDARD
TZOFFSETFROM:-0400
TZOFFSETTO:-0500
TZNAME:EST
DTSTART:20251102T060000
END:STANDARD
BEGIN:DAYLIGHT
TZOFFSETFROM:-0500
TZOFFSETTO:-0400
TZNAME:EDT
DTSTART:20260308T070000
END:DAYLIGHT
BEGIN:STANDARD
TZOFFSETFROM:-0400
TZOFFSETTO:-0500
TZNAME:EST
DTSTART:20261101T060000
END:STANDARD
BEGIN:DAYLIGHT
TZOFFSETFROM:-0500
TZOFFSETTO:-0400
TZNAME:EDT
DTSTART:20270314T070000
END:DAYLIGHT
BEGIN:STANDARD
TZOFFSETFROM:-0400
TZOFFSETTO:-0500
TZNAME:EST
DTSTART:20271107T060000
END:STANDARD
BEGIN:DAYLIGHT
TZOFFSETFROM:-0500
TZOFFSETTO:-0400
TZNAME:EDT
DTSTART:20280312T070000
END:DAYLIGHT
BEGIN:STANDARD
TZOFFSETFROM:-0400
TZOFFSETTO:-0500
TZNAME:EST
DTSTART:20281105T060000
END:STANDARD
BEGIN:DAYLIGHT
TZOFFSETFROM:-0500
TZOFFSETTO:-0400
TZNAME:EDT
DTSTART:20290311T070000
END:DAYLIGHT
BEGIN:STANDARD
TZOFFSETFROM:-0400
TZOFFSETTO:-0500
TZNAME:EST
DTSTART:20291104T060000
END:STANDARD
BEGIN:DAYLIGHT
TZOFFSETFROM:-0500
TZOFFSETTO:-0400
TZNAME:EDT
DTSTART:20300310T070000
END:DAYLIGHT
BEGIN:STANDARD
TZOFFSETFROM:-0400
TZOFFSETTO:-0500
TZNAME:EST
DTSTART:20301103T060000
END:STANDARD
BEGIN:DAYLIGHT
TZOFFSETFROM:-0500
TZOFFSETTO:-0400
TZNAME:EDT
DTSTART:20310309T070000
END:DAYLIGHT
BEGIN:STANDARD
TZOFFSETFROM:-0400
TZOFFSETTO:-0500
TZNAME:EST
DTSTART:20311102T060000
END:STANDARD
END:VTIMEZONE
BEGIN:VEVENT
DTSTART;TZID=America/New_York:20260912T100000
DTEND;TZID=America/New_York:20260912T130000
DTSTAMP:20260423T164811
CREATED:20250711T160243Z
LAST-MODIFIED:20251101T211120Z
UID:10004322-1789207200-1789218000@av8maps.com
SUMMARY:Annual Spot Landing Contest (KMWC)
DESCRIPTION:Join us for the Annual Spot Landing Contest at Milwaukee’s Timmerman Airport!\nThis event will take place on Saturday\, September 13\, at 10:00 AM. Pilots will compete to test their landing skills—whoever lands closest to a specified line on the runway will be named the winner! To be eligible to participate\, entrants must attend a mandatory safety briefing at 10:00 AM.\n✔️Free to participate\n✔️Free lunch for all attendees\n✔️Gift card prizes for top 3 landings\nJoin us for a great day of flying and fun. This event is sponsored by Spring City Aviation and Timmerman Airport.
URL:https://av8maps.com/event/13th-annual-spot-landing-contest/2026-09-12/
LOCATION:Milwaukee’s Timmerman Airport\, 9305 W Appleton Ave\, Milwaukee\, WI 53225
ATTACH;FMTTYPE=image/jpeg:https://av8maps.com/wp-content/uploads/2025/07/Timmerman-Airport-Spot-Landing-e1757691483585.jpg
GEO:43.1153112;-88.03248
X-APPLE-STRUCTURED-LOCATION;VALUE=URI;X-ADDRESS=Milwaukee’s Timmerman Airport 9305 W Appleton Ave Milwaukee WI 53225;X-APPLE-RADIUS=500;X-TITLE=9305 W Appleton Ave\, Milwaukee\, WI 53225:geo:-88.03248,43.1153112
END:VEVENT
BEGIN:VEVENT
DTSTART;TZID=America/New_York:20270911T100000
DTEND;TZID=America/New_York:20270911T130000
DTSTAMP:20260423T164811
CREATED:20250711T160243Z
LAST-MODIFIED:20251101T211120Z
UID:10004323-1820656800-1820667600@av8maps.com
SUMMARY:Annual Spot Landing Contest (KMWC)
DESCRIPTION:Join us for the Annual Spot Landing Contest at Milwaukee’s Timmerman Airport!\nThis event will take place on Saturday\, September 13\, at 10:00 AM. Pilots will compete to test their landing skills—whoever lands closest to a specified line on the runway will be named the winner! To be eligible to participate\, entrants must attend a mandatory safety briefing at 10:00 AM.\n✔️Free to participate\n✔️Free lunch for all attendees\n✔️Gift card prizes for top 3 landings\nJoin us for a great day of flying and fun. This event is sponsored by Spring City Aviation and Timmerman Airport.
URL:https://av8maps.com/event/13th-annual-spot-landing-contest/2027-09-11/
LOCATION:Milwaukee’s Timmerman Airport\, 9305 W Appleton Ave\, Milwaukee\, WI 53225
ATTACH;FMTTYPE=image/jpeg:https://av8maps.com/wp-content/uploads/2025/07/Timmerman-Airport-Spot-Landing-e1757691483585.jpg
GEO:43.1153112;-88.03248
X-APPLE-STRUCTURED-LOCATION;VALUE=URI;X-ADDRESS=Milwaukee’s Timmerman Airport 9305 W Appleton Ave Milwaukee WI 53225;X-APPLE-RADIUS=500;X-TITLE=9305 W Appleton Ave\, Milwaukee\, WI 53225:geo:-88.03248,43.1153112
END:VEVENT
BEGIN:VEVENT
DTSTART;TZID=America/New_York:20280909T100000
DTEND;TZID=America/New_York:20280909T130000
DTSTAMP:20260423T164811
CREATED:20250711T160243Z
LAST-MODIFIED:20251101T211120Z
UID:10004324-1852106400-1852117200@av8maps.com
SUMMARY:Annual Spot Landing Contest (KMWC)
DESCRIPTION:Join us for the Annual Spot Landing Contest at Milwaukee’s Timmerman Airport!\nThis event will take place on Saturday\, September 13\, at 10:00 AM. Pilots will compete to test their landing skills—whoever lands closest to a specified line on the runway will be named the winner! To be eligible to participate\, entrants must attend a mandatory safety briefing at 10:00 AM.\n✔️Free to participate\n✔️Free lunch for all attendees\n✔️Gift card prizes for top 3 landings\nJoin us for a great day of flying and fun. This event is sponsored by Spring City Aviation and Timmerman Airport.
URL:https://av8maps.com/event/13th-annual-spot-landing-contest/2028-09-09/
LOCATION:Milwaukee’s Timmerman Airport\, 9305 W Appleton Ave\, Milwaukee\, WI 53225
ATTACH;FMTTYPE=image/jpeg:https://av8maps.com/wp-content/uploads/2025/07/Timmerman-Airport-Spot-Landing-e1757691483585.jpg
GEO:43.1153112;-88.03248
X-APPLE-STRUCTURED-LOCATION;VALUE=URI;X-ADDRESS=Milwaukee’s Timmerman Airport 9305 W Appleton Ave Milwaukee WI 53225;X-APPLE-RADIUS=500;X-TITLE=9305 W Appleton Ave\, Milwaukee\, WI 53225:geo:-88.03248,43.1153112
END:VEVENT
BEGIN:VEVENT
DTSTART;TZID=America/New_York:20290908T100000
DTEND;TZID=America/New_York:20290908T130000
DTSTAMP:20260423T164811
CREATED:20250711T160243Z
LAST-MODIFIED:20251101T211120Z
UID:10004325-1883556000-1883566800@av8maps.com
SUMMARY:Annual Spot Landing Contest (KMWC)
DESCRIPTION:Join us for the Annual Spot Landing Contest at Milwaukee’s Timmerman Airport!\nThis event will take place on Saturday\, September 13\, at 10:00 AM. Pilots will compete to test their landing skills—whoever lands closest to a specified line on the runway will be named the winner! To be eligible to participate\, entrants must attend a mandatory safety briefing at 10:00 AM.\n✔️Free to participate\n✔️Free lunch for all attendees\n✔️Gift card prizes for top 3 landings\nJoin us for a great day of flying and fun. This event is sponsored by Spring City Aviation and Timmerman Airport.
URL:https://av8maps.com/event/13th-annual-spot-landing-contest/2029-09-08/
LOCATION:Milwaukee’s Timmerman Airport\, 9305 W Appleton Ave\, Milwaukee\, WI 53225
ATTACH;FMTTYPE=image/jpeg:https://av8maps.com/wp-content/uploads/2025/07/Timmerman-Airport-Spot-Landing-e1757691483585.jpg
GEO:43.1153112;-88.03248
X-APPLE-STRUCTURED-LOCATION;VALUE=URI;X-ADDRESS=Milwaukee’s Timmerman Airport 9305 W Appleton Ave Milwaukee WI 53225;X-APPLE-RADIUS=500;X-TITLE=9305 W Appleton Ave\, Milwaukee\, WI 53225:geo:-88.03248,43.1153112
END:VEVENT
BEGIN:VEVENT
DTSTART;TZID=America/New_York:20300914T100000
DTEND;TZID=America/New_York:20300914T130000
DTSTAMP:20260423T164811
CREATED:20250711T160243Z
LAST-MODIFIED:20251101T211120Z
UID:10004326-1915610400-1915621200@av8maps.com
SUMMARY:Annual Spot Landing Contest (KMWC)
DESCRIPTION:Join us for the Annual Spot Landing Contest at Milwaukee’s Timmerman Airport!\nThis event will take place on Saturday\, September 13\, at 10:00 AM. Pilots will compete to test their landing skills—whoever lands closest to a specified line on the runway will be named the winner! To be eligible to participate\, entrants must attend a mandatory safety briefing at 10:00 AM.\n✔️Free to participate\n✔️Free lunch for all attendees\n✔️Gift card prizes for top 3 landings\nJoin us for a great day of flying and fun. This event is sponsored by Spring City Aviation and Timmerman Airport.
URL:https://av8maps.com/event/13th-annual-spot-landing-contest/2030-09-14/
LOCATION:Milwaukee’s Timmerman Airport\, 9305 W Appleton Ave\, Milwaukee\, WI 53225
ATTACH;FMTTYPE=image/jpeg:https://av8maps.com/wp-content/uploads/2025/07/Timmerman-Airport-Spot-Landing-e1757691483585.jpg
GEO:43.1153112;-88.03248
X-APPLE-STRUCTURED-LOCATION;VALUE=URI;X-ADDRESS=Milwaukee’s Timmerman Airport 9305 W Appleton Ave Milwaukee WI 53225;X-APPLE-RADIUS=500;X-TITLE=9305 W Appleton Ave\, Milwaukee\, WI 53225:geo:-88.03248,43.1153112
END:VEVENT
END:VCALENDAR