BEGIN:VCALENDAR
VERSION:2.0
PRODID:-//AV8MAPS.COM - ECPv6.15.20//NONSGML v1.0//EN
CALSCALE:GREGORIAN
METHOD:PUBLISH
X-WR-CALNAME:AV8MAPS.COM
X-ORIGINAL-URL:https://av8maps.com
X-WR-CALDESC:Events for AV8MAPS.COM
REFRESH-INTERVAL;VALUE=DURATION:PT1H
X-Robots-Tag:noindex
X-PUBLISHED-TTL:PT1H
BEGIN:VTIMEZONE
TZID:America/New_York
BEGIN:DAYLIGHT
TZOFFSETFROM:-0500
TZOFFSETTO:-0400
TZNAME:EDT
DTSTART:20250309T070000
END:DAYLIGHT
BEGIN:STANDARD
TZOFFSETFROM:-0400
TZOFFSETTO:-0500
TZNAME:EST
DTSTART:20251102T060000
END:STANDARD
BEGIN:DAYLIGHT
TZOFFSETFROM:-0500
TZOFFSETTO:-0400
TZNAME:EDT
DTSTART:20260308T070000
END:DAYLIGHT
BEGIN:STANDARD
TZOFFSETFROM:-0400
TZOFFSETTO:-0500
TZNAME:EST
DTSTART:20261101T060000
END:STANDARD
BEGIN:DAYLIGHT
TZOFFSETFROM:-0500
TZOFFSETTO:-0400
TZNAME:EDT
DTSTART:20270314T070000
END:DAYLIGHT
BEGIN:STANDARD
TZOFFSETFROM:-0400
TZOFFSETTO:-0500
TZNAME:EST
DTSTART:20271107T060000
END:STANDARD
BEGIN:DAYLIGHT
TZOFFSETFROM:-0500
TZOFFSETTO:-0400
TZNAME:EDT
DTSTART:20280312T070000
END:DAYLIGHT
BEGIN:STANDARD
TZOFFSETFROM:-0400
TZOFFSETTO:-0500
TZNAME:EST
DTSTART:20281105T060000
END:STANDARD
BEGIN:DAYLIGHT
TZOFFSETFROM:-0500
TZOFFSETTO:-0400
TZNAME:EDT
DTSTART:20290311T070000
END:DAYLIGHT
BEGIN:STANDARD
TZOFFSETFROM:-0400
TZOFFSETTO:-0500
TZNAME:EST
DTSTART:20291104T060000
END:STANDARD
BEGIN:DAYLIGHT
TZOFFSETFROM:-0500
TZOFFSETTO:-0400
TZNAME:EDT
DTSTART:20300310T070000
END:DAYLIGHT
BEGIN:STANDARD
TZOFFSETFROM:-0400
TZOFFSETTO:-0500
TZNAME:EST
DTSTART:20301103T060000
END:STANDARD
BEGIN:DAYLIGHT
TZOFFSETFROM:-0500
TZOFFSETTO:-0400
TZNAME:EDT
DTSTART:20310309T070000
END:DAYLIGHT
BEGIN:STANDARD
TZOFFSETFROM:-0400
TZOFFSETTO:-0500
TZNAME:EST
DTSTART:20311102T060000
END:STANDARD
END:VTIMEZONE
BEGIN:VEVENT
DTSTART;TZID=America/New_York:20260913T080000
DTEND;TZID=America/New_York:20260913T130000
DTSTAMP:20260423T193328
CREATED:20250624T190321Z
LAST-MODIFIED:20251101T211217Z
UID:10004327-1789286400-1789304400@av8maps.com
SUMMARY:Bismarck's Fly-In\, Drive-In Pancake Breakfast (KBIS)
DESCRIPTION:We welcome all to the 14th Annual Bismarck Fly-In\, Drive-In Pancake Breakfast presented by Puklich Chevrolet! All proceeds for this event go to support the Scottish Rite Speech Therapy Center for Children.\nMark your calendars and plan to join us at the Bismarck Airport!
URL:https://av8maps.com/event/bismarcks-fly-in-drive-in-pancake-breakfast/2026-09-13/
LOCATION:Bismarck Aero Center\, 2301 University Drive bldg 53\, Bismarck\, ND 58504
ATTACH;FMTTYPE=image/jpeg:https://av8maps.com/wp-content/uploads/2025/06/Bismarck-Fly-in-e1757693976527.jpg
GEO:46.765703;-100.763237
X-APPLE-STRUCTURED-LOCATION;VALUE=URI;X-ADDRESS=Bismarck Aero Center 2301 University Drive bldg 53 Bismarck ND 58504;X-APPLE-RADIUS=500;X-TITLE=2301 University Drive bldg 53\, Bismarck\, ND 58504:geo:-100.763237,46.765703
END:VEVENT
BEGIN:VEVENT
DTSTART;TZID=America/New_York:20270912T080000
DTEND;TZID=America/New_York:20270912T130000
DTSTAMP:20260423T193328
CREATED:20250624T190321Z
LAST-MODIFIED:20251101T211217Z
UID:10004328-1820736000-1820754000@av8maps.com
SUMMARY:Bismarck's Fly-In\, Drive-In Pancake Breakfast (KBIS)
DESCRIPTION:We welcome all to the 14th Annual Bismarck Fly-In\, Drive-In Pancake Breakfast presented by Puklich Chevrolet! All proceeds for this event go to support the Scottish Rite Speech Therapy Center for Children.\nMark your calendars and plan to join us at the Bismarck Airport!
URL:https://av8maps.com/event/bismarcks-fly-in-drive-in-pancake-breakfast/2027-09-12/
LOCATION:Bismarck Aero Center\, 2301 University Drive bldg 53\, Bismarck\, ND 58504
ATTACH;FMTTYPE=image/jpeg:https://av8maps.com/wp-content/uploads/2025/06/Bismarck-Fly-in-e1757693976527.jpg
GEO:46.765703;-100.763237
X-APPLE-STRUCTURED-LOCATION;VALUE=URI;X-ADDRESS=Bismarck Aero Center 2301 University Drive bldg 53 Bismarck ND 58504;X-APPLE-RADIUS=500;X-TITLE=2301 University Drive bldg 53\, Bismarck\, ND 58504:geo:-100.763237,46.765703
END:VEVENT
BEGIN:VEVENT
DTSTART;TZID=America/New_York:20280910T080000
DTEND;TZID=America/New_York:20280910T130000
DTSTAMP:20260423T193328
CREATED:20250624T190321Z
LAST-MODIFIED:20251101T211217Z
UID:10004329-1852185600-1852203600@av8maps.com
SUMMARY:Bismarck's Fly-In\, Drive-In Pancake Breakfast (KBIS)
DESCRIPTION:We welcome all to the 14th Annual Bismarck Fly-In\, Drive-In Pancake Breakfast presented by Puklich Chevrolet! All proceeds for this event go to support the Scottish Rite Speech Therapy Center for Children.\nMark your calendars and plan to join us at the Bismarck Airport!
URL:https://av8maps.com/event/bismarcks-fly-in-drive-in-pancake-breakfast/2028-09-10/
LOCATION:Bismarck Aero Center\, 2301 University Drive bldg 53\, Bismarck\, ND 58504
ATTACH;FMTTYPE=image/jpeg:https://av8maps.com/wp-content/uploads/2025/06/Bismarck-Fly-in-e1757693976527.jpg
GEO:46.765703;-100.763237
X-APPLE-STRUCTURED-LOCATION;VALUE=URI;X-ADDRESS=Bismarck Aero Center 2301 University Drive bldg 53 Bismarck ND 58504;X-APPLE-RADIUS=500;X-TITLE=2301 University Drive bldg 53\, Bismarck\, ND 58504:geo:-100.763237,46.765703
END:VEVENT
BEGIN:VEVENT
DTSTART;TZID=America/New_York:20290909T080000
DTEND;TZID=America/New_York:20290909T130000
DTSTAMP:20260423T193328
CREATED:20250624T190321Z
LAST-MODIFIED:20251101T211217Z
UID:10004330-1883635200-1883653200@av8maps.com
SUMMARY:Bismarck's Fly-In\, Drive-In Pancake Breakfast (KBIS)
DESCRIPTION:We welcome all to the 14th Annual Bismarck Fly-In\, Drive-In Pancake Breakfast presented by Puklich Chevrolet! All proceeds for this event go to support the Scottish Rite Speech Therapy Center for Children.\nMark your calendars and plan to join us at the Bismarck Airport!
URL:https://av8maps.com/event/bismarcks-fly-in-drive-in-pancake-breakfast/2029-09-09/
LOCATION:Bismarck Aero Center\, 2301 University Drive bldg 53\, Bismarck\, ND 58504
ATTACH;FMTTYPE=image/jpeg:https://av8maps.com/wp-content/uploads/2025/06/Bismarck-Fly-in-e1757693976527.jpg
GEO:46.765703;-100.763237
X-APPLE-STRUCTURED-LOCATION;VALUE=URI;X-ADDRESS=Bismarck Aero Center 2301 University Drive bldg 53 Bismarck ND 58504;X-APPLE-RADIUS=500;X-TITLE=2301 University Drive bldg 53\, Bismarck\, ND 58504:geo:-100.763237,46.765703
END:VEVENT
BEGIN:VEVENT
DTSTART;TZID=America/New_York:20300908T080000
DTEND;TZID=America/New_York:20300908T130000
DTSTAMP:20260423T193328
CREATED:20250624T190321Z
LAST-MODIFIED:20251101T211217Z
UID:10004331-1915084800-1915102800@av8maps.com
SUMMARY:Bismarck's Fly-In\, Drive-In Pancake Breakfast (KBIS)
DESCRIPTION:We welcome all to the 14th Annual Bismarck Fly-In\, Drive-In Pancake Breakfast presented by Puklich Chevrolet! All proceeds for this event go to support the Scottish Rite Speech Therapy Center for Children.\nMark your calendars and plan to join us at the Bismarck Airport!
URL:https://av8maps.com/event/bismarcks-fly-in-drive-in-pancake-breakfast/2030-09-08/
LOCATION:Bismarck Aero Center\, 2301 University Drive bldg 53\, Bismarck\, ND 58504
ATTACH;FMTTYPE=image/jpeg:https://av8maps.com/wp-content/uploads/2025/06/Bismarck-Fly-in-e1757693976527.jpg
GEO:46.765703;-100.763237
X-APPLE-STRUCTURED-LOCATION;VALUE=URI;X-ADDRESS=Bismarck Aero Center 2301 University Drive bldg 53 Bismarck ND 58504;X-APPLE-RADIUS=500;X-TITLE=2301 University Drive bldg 53\, Bismarck\, ND 58504:geo:-100.763237,46.765703
END:VEVENT
END:VCALENDAR