BEGIN:VCALENDAR
VERSION:2.0
PRODID:-//AV8MAPS.COM - ECPv6.15.20//NONSGML v1.0//EN
CALSCALE:GREGORIAN
METHOD:PUBLISH
X-WR-CALNAME:AV8MAPS.COM
X-ORIGINAL-URL:https://av8maps.com
X-WR-CALDESC:Events for AV8MAPS.COM
REFRESH-INTERVAL;VALUE=DURATION:PT1H
X-Robots-Tag:noindex
X-PUBLISHED-TTL:PT1H
BEGIN:VTIMEZONE
TZID:America/New_York
BEGIN:DAYLIGHT
TZOFFSETFROM:-0500
TZOFFSETTO:-0400
TZNAME:EDT
DTSTART:20250309T070000
END:DAYLIGHT
BEGIN:STANDARD
TZOFFSETFROM:-0400
TZOFFSETTO:-0500
TZNAME:EST
DTSTART:20251102T060000
END:STANDARD
BEGIN:DAYLIGHT
TZOFFSETFROM:-0500
TZOFFSETTO:-0400
TZNAME:EDT
DTSTART:20260308T070000
END:DAYLIGHT
BEGIN:STANDARD
TZOFFSETFROM:-0400
TZOFFSETTO:-0500
TZNAME:EST
DTSTART:20261101T060000
END:STANDARD
BEGIN:DAYLIGHT
TZOFFSETFROM:-0500
TZOFFSETTO:-0400
TZNAME:EDT
DTSTART:20270314T070000
END:DAYLIGHT
BEGIN:STANDARD
TZOFFSETFROM:-0400
TZOFFSETTO:-0500
TZNAME:EST
DTSTART:20271107T060000
END:STANDARD
BEGIN:DAYLIGHT
TZOFFSETFROM:-0500
TZOFFSETTO:-0400
TZNAME:EDT
DTSTART:20280312T070000
END:DAYLIGHT
BEGIN:STANDARD
TZOFFSETFROM:-0400
TZOFFSETTO:-0500
TZNAME:EST
DTSTART:20281105T060000
END:STANDARD
BEGIN:DAYLIGHT
TZOFFSETFROM:-0500
TZOFFSETTO:-0400
TZNAME:EDT
DTSTART:20290311T070000
END:DAYLIGHT
BEGIN:STANDARD
TZOFFSETFROM:-0400
TZOFFSETTO:-0500
TZNAME:EST
DTSTART:20291104T060000
END:STANDARD
BEGIN:DAYLIGHT
TZOFFSETFROM:-0500
TZOFFSETTO:-0400
TZNAME:EDT
DTSTART:20300310T070000
END:DAYLIGHT
BEGIN:STANDARD
TZOFFSETFROM:-0400
TZOFFSETTO:-0500
TZNAME:EST
DTSTART:20301103T060000
END:STANDARD
BEGIN:DAYLIGHT
TZOFFSETFROM:-0500
TZOFFSETTO:-0400
TZNAME:EDT
DTSTART:20310309T070000
END:DAYLIGHT
BEGIN:STANDARD
TZOFFSETFROM:-0400
TZOFFSETTO:-0500
TZNAME:EST
DTSTART:20311102T060000
END:STANDARD
END:VTIMEZONE
BEGIN:VEVENT
DTSTART;TZID=America/New_York:20260528T160000
DTEND;TZID=America/New_York:20260531T140000
DTSTAMP:20260422T234740
CREATED:20251101T212356Z
LAST-MODIFIED:20251101T212641Z
UID:10004343-1779984000-1780236000@av8maps.com
SUMMARY:Fly The Fort Spring Fly-in (09IN)
DESCRIPTION:Join us for our Spring event! all spectators and pilots are welcome!
URL:https://av8maps.com/event/fly-the-fort-spring-fly-in-09in/2026-05-28/
LOCATION:Gordon Airport\, 3253 E 300 S\, Columbia City\, IN 46725\, IN
ATTACH;FMTTYPE=image/jpeg:https://av8maps.com/wp-content/uploads/2025/07/Fly-The-Fort-e1757699151975.jpg
GEO:41.1188792;-85.4285904
X-APPLE-STRUCTURED-LOCATION;VALUE=URI;X-ADDRESS=Gordon Airport 3253 E 300 S Columbia City IN 46725 IN;X-APPLE-RADIUS=500;X-TITLE=3253 E 300 S\, Columbia City\, IN 46725:geo:-85.4285904,41.1188792
END:VEVENT
BEGIN:VEVENT
DTSTART;TZID=America/New_York:20260917T070000
DTEND;TZID=America/New_York:20260920T160000
DTSTAMP:20260422T234740
CREATED:20250701T193518Z
LAST-MODIFIED:20251101T211748Z
UID:10004332-1789628400-1789920000@av8maps.com
SUMMARY:Fly The Fort Fall Fly-in (09IN)
DESCRIPTION:Join us for our fall event! all spectators and pilots are welcome!
URL:https://av8maps.com/event/fall-fly-in/2026-09-17/
LOCATION:Gordon Airport\, 3253 E 300 S\, Columbia City\, IN 46725\, IN
ATTACH;FMTTYPE=image/jpeg:https://av8maps.com/wp-content/uploads/2025/07/Fly-The-Fort-e1757699151975.jpg
GEO:41.1188792;-85.4285904
X-APPLE-STRUCTURED-LOCATION;VALUE=URI;X-ADDRESS=Gordon Airport 3253 E 300 S Columbia City IN 46725 IN;X-APPLE-RADIUS=500;X-TITLE=3253 E 300 S\, Columbia City\, IN 46725:geo:-85.4285904,41.1188792
END:VEVENT
BEGIN:VEVENT
DTSTART;TZID=America/New_York:20270527T160000
DTEND;TZID=America/New_York:20270530T140000
DTSTAMP:20260422T234740
CREATED:20251101T212356Z
LAST-MODIFIED:20251101T212641Z
UID:10004344-1811433600-1811685600@av8maps.com
SUMMARY:Fly The Fort Spring Fly-in (09IN)
DESCRIPTION:Join us for our Spring event! all spectators and pilots are welcome!
URL:https://av8maps.com/event/fly-the-fort-spring-fly-in-09in/2027-05-27/
LOCATION:Gordon Airport\, 3253 E 300 S\, Columbia City\, IN 46725\, IN
ATTACH;FMTTYPE=image/jpeg:https://av8maps.com/wp-content/uploads/2025/07/Fly-The-Fort-e1757699151975.jpg
GEO:41.1188792;-85.4285904
X-APPLE-STRUCTURED-LOCATION;VALUE=URI;X-ADDRESS=Gordon Airport 3253 E 300 S Columbia City IN 46725 IN;X-APPLE-RADIUS=500;X-TITLE=3253 E 300 S\, Columbia City\, IN 46725:geo:-85.4285904,41.1188792
END:VEVENT
BEGIN:VEVENT
DTSTART;TZID=America/New_York:20270916T070000
DTEND;TZID=America/New_York:20270919T160000
DTSTAMP:20260422T234740
CREATED:20250701T193518Z
LAST-MODIFIED:20251101T211748Z
UID:10004333-1821078000-1821369600@av8maps.com
SUMMARY:Fly The Fort Fall Fly-in (09IN)
DESCRIPTION:Join us for our fall event! all spectators and pilots are welcome!
URL:https://av8maps.com/event/fall-fly-in/2027-09-16/
LOCATION:Gordon Airport\, 3253 E 300 S\, Columbia City\, IN 46725\, IN
ATTACH;FMTTYPE=image/jpeg:https://av8maps.com/wp-content/uploads/2025/07/Fly-The-Fort-e1757699151975.jpg
GEO:41.1188792;-85.4285904
X-APPLE-STRUCTURED-LOCATION;VALUE=URI;X-ADDRESS=Gordon Airport 3253 E 300 S Columbia City IN 46725 IN;X-APPLE-RADIUS=500;X-TITLE=3253 E 300 S\, Columbia City\, IN 46725:geo:-85.4285904,41.1188792
END:VEVENT
BEGIN:VEVENT
DTSTART;TZID=America/New_York:20280525T160000
DTEND;TZID=America/New_York:20280528T140000
DTSTAMP:20260422T234740
CREATED:20251101T212356Z
LAST-MODIFIED:20251101T212641Z
UID:10004345-1842883200-1843135200@av8maps.com
SUMMARY:Fly The Fort Spring Fly-in (09IN)
DESCRIPTION:Join us for our Spring event! all spectators and pilots are welcome!
URL:https://av8maps.com/event/fly-the-fort-spring-fly-in-09in/2028-05-25/
LOCATION:Gordon Airport\, 3253 E 300 S\, Columbia City\, IN 46725\, IN
ATTACH;FMTTYPE=image/jpeg:https://av8maps.com/wp-content/uploads/2025/07/Fly-The-Fort-e1757699151975.jpg
GEO:41.1188792;-85.4285904
X-APPLE-STRUCTURED-LOCATION;VALUE=URI;X-ADDRESS=Gordon Airport 3253 E 300 S Columbia City IN 46725 IN;X-APPLE-RADIUS=500;X-TITLE=3253 E 300 S\, Columbia City\, IN 46725:geo:-85.4285904,41.1188792
END:VEVENT
BEGIN:VEVENT
DTSTART;TZID=America/New_York:20280921T070000
DTEND;TZID=America/New_York:20280924T160000
DTSTAMP:20260422T234740
CREATED:20250701T193518Z
LAST-MODIFIED:20251101T211748Z
UID:10004334-1853132400-1853424000@av8maps.com
SUMMARY:Fly The Fort Fall Fly-in (09IN)
DESCRIPTION:Join us for our fall event! all spectators and pilots are welcome!
URL:https://av8maps.com/event/fall-fly-in/2028-09-21/
LOCATION:Gordon Airport\, 3253 E 300 S\, Columbia City\, IN 46725\, IN
ATTACH;FMTTYPE=image/jpeg:https://av8maps.com/wp-content/uploads/2025/07/Fly-The-Fort-e1757699151975.jpg
GEO:41.1188792;-85.4285904
X-APPLE-STRUCTURED-LOCATION;VALUE=URI;X-ADDRESS=Gordon Airport 3253 E 300 S Columbia City IN 46725 IN;X-APPLE-RADIUS=500;X-TITLE=3253 E 300 S\, Columbia City\, IN 46725:geo:-85.4285904,41.1188792
END:VEVENT
BEGIN:VEVENT
DTSTART;TZID=America/New_York:20290524T160000
DTEND;TZID=America/New_York:20290527T140000
DTSTAMP:20260422T234740
CREATED:20251101T212356Z
LAST-MODIFIED:20251101T212641Z
UID:10004346-1874332800-1874584800@av8maps.com
SUMMARY:Fly The Fort Spring Fly-in (09IN)
DESCRIPTION:Join us for our Spring event! all spectators and pilots are welcome!
URL:https://av8maps.com/event/fly-the-fort-spring-fly-in-09in/2029-05-24/
LOCATION:Gordon Airport\, 3253 E 300 S\, Columbia City\, IN 46725\, IN
ATTACH;FMTTYPE=image/jpeg:https://av8maps.com/wp-content/uploads/2025/07/Fly-The-Fort-e1757699151975.jpg
GEO:41.1188792;-85.4285904
X-APPLE-STRUCTURED-LOCATION;VALUE=URI;X-ADDRESS=Gordon Airport 3253 E 300 S Columbia City IN 46725 IN;X-APPLE-RADIUS=500;X-TITLE=3253 E 300 S\, Columbia City\, IN 46725:geo:-85.4285904,41.1188792
END:VEVENT
BEGIN:VEVENT
DTSTART;TZID=America/New_York:20290920T070000
DTEND;TZID=America/New_York:20290923T160000
DTSTAMP:20260422T234740
CREATED:20250701T193518Z
LAST-MODIFIED:20251101T211748Z
UID:10004335-1884582000-1884873600@av8maps.com
SUMMARY:Fly The Fort Fall Fly-in (09IN)
DESCRIPTION:Join us for our fall event! all spectators and pilots are welcome!
URL:https://av8maps.com/event/fall-fly-in/2029-09-20/
LOCATION:Gordon Airport\, 3253 E 300 S\, Columbia City\, IN 46725\, IN
ATTACH;FMTTYPE=image/jpeg:https://av8maps.com/wp-content/uploads/2025/07/Fly-The-Fort-e1757699151975.jpg
GEO:41.1188792;-85.4285904
X-APPLE-STRUCTURED-LOCATION;VALUE=URI;X-ADDRESS=Gordon Airport 3253 E 300 S Columbia City IN 46725 IN;X-APPLE-RADIUS=500;X-TITLE=3253 E 300 S\, Columbia City\, IN 46725:geo:-85.4285904,41.1188792
END:VEVENT
BEGIN:VEVENT
DTSTART;TZID=America/New_York:20300523T160000
DTEND;TZID=America/New_York:20300526T140000
DTSTAMP:20260422T234740
CREATED:20251101T212356Z
LAST-MODIFIED:20251101T212641Z
UID:10004347-1905782400-1906034400@av8maps.com
SUMMARY:Fly The Fort Spring Fly-in (09IN)
DESCRIPTION:Join us for our Spring event! all spectators and pilots are welcome!
URL:https://av8maps.com/event/fly-the-fort-spring-fly-in-09in/2030-05-23/
LOCATION:Gordon Airport\, 3253 E 300 S\, Columbia City\, IN 46725\, IN
ATTACH;FMTTYPE=image/jpeg:https://av8maps.com/wp-content/uploads/2025/07/Fly-The-Fort-e1757699151975.jpg
GEO:41.1188792;-85.4285904
X-APPLE-STRUCTURED-LOCATION;VALUE=URI;X-ADDRESS=Gordon Airport 3253 E 300 S Columbia City IN 46725 IN;X-APPLE-RADIUS=500;X-TITLE=3253 E 300 S\, Columbia City\, IN 46725:geo:-85.4285904,41.1188792
END:VEVENT
BEGIN:VEVENT
DTSTART;TZID=America/New_York:20300919T070000
DTEND;TZID=America/New_York:20300922T160000
DTSTAMP:20260422T234740
CREATED:20250701T193518Z
LAST-MODIFIED:20251101T211748Z
UID:10004336-1916031600-1916323200@av8maps.com
SUMMARY:Fly The Fort Fall Fly-in (09IN)
DESCRIPTION:Join us for our fall event! all spectators and pilots are welcome!
URL:https://av8maps.com/event/fall-fly-in/2030-09-19/
LOCATION:Gordon Airport\, 3253 E 300 S\, Columbia City\, IN 46725\, IN
ATTACH;FMTTYPE=image/jpeg:https://av8maps.com/wp-content/uploads/2025/07/Fly-The-Fort-e1757699151975.jpg
GEO:41.1188792;-85.4285904
X-APPLE-STRUCTURED-LOCATION;VALUE=URI;X-ADDRESS=Gordon Airport 3253 E 300 S Columbia City IN 46725 IN;X-APPLE-RADIUS=500;X-TITLE=3253 E 300 S\, Columbia City\, IN 46725:geo:-85.4285904,41.1188792
END:VEVENT
END:VCALENDAR