BEGIN:VCALENDAR
VERSION:2.0
PRODID:-//AV8MAPS.COM - ECPv6.15.20//NONSGML v1.0//EN
CALSCALE:GREGORIAN
METHOD:PUBLISH
X-WR-CALNAME:AV8MAPS.COM
X-ORIGINAL-URL:https://av8maps.com
X-WR-CALDESC:Events for AV8MAPS.COM
REFRESH-INTERVAL;VALUE=DURATION:PT1H
X-Robots-Tag:noindex
X-PUBLISHED-TTL:PT1H
BEGIN:VTIMEZONE
TZID:America/New_York
BEGIN:DAYLIGHT
TZOFFSETFROM:-0500
TZOFFSETTO:-0400
TZNAME:EDT
DTSTART:20250309T070000
END:DAYLIGHT
BEGIN:STANDARD
TZOFFSETFROM:-0400
TZOFFSETTO:-0500
TZNAME:EST
DTSTART:20251102T060000
END:STANDARD
BEGIN:DAYLIGHT
TZOFFSETFROM:-0500
TZOFFSETTO:-0400
TZNAME:EDT
DTSTART:20260308T070000
END:DAYLIGHT
BEGIN:STANDARD
TZOFFSETFROM:-0400
TZOFFSETTO:-0500
TZNAME:EST
DTSTART:20261101T060000
END:STANDARD
BEGIN:DAYLIGHT
TZOFFSETFROM:-0500
TZOFFSETTO:-0400
TZNAME:EDT
DTSTART:20270314T070000
END:DAYLIGHT
BEGIN:STANDARD
TZOFFSETFROM:-0400
TZOFFSETTO:-0500
TZNAME:EST
DTSTART:20271107T060000
END:STANDARD
BEGIN:DAYLIGHT
TZOFFSETFROM:-0500
TZOFFSETTO:-0400
TZNAME:EDT
DTSTART:20280312T070000
END:DAYLIGHT
BEGIN:STANDARD
TZOFFSETFROM:-0400
TZOFFSETTO:-0500
TZNAME:EST
DTSTART:20281105T060000
END:STANDARD
BEGIN:DAYLIGHT
TZOFFSETFROM:-0500
TZOFFSETTO:-0400
TZNAME:EDT
DTSTART:20290311T070000
END:DAYLIGHT
BEGIN:STANDARD
TZOFFSETFROM:-0400
TZOFFSETTO:-0500
TZNAME:EST
DTSTART:20291104T060000
END:STANDARD
BEGIN:DAYLIGHT
TZOFFSETFROM:-0500
TZOFFSETTO:-0400
TZNAME:EDT
DTSTART:20300310T070000
END:DAYLIGHT
BEGIN:STANDARD
TZOFFSETFROM:-0400
TZOFFSETTO:-0500
TZNAME:EST
DTSTART:20301103T060000
END:STANDARD
BEGIN:DAYLIGHT
TZOFFSETFROM:-0500
TZOFFSETTO:-0400
TZNAME:EDT
DTSTART:20310309T070000
END:DAYLIGHT
BEGIN:STANDARD
TZOFFSETFROM:-0400
TZOFFSETTO:-0500
TZNAME:EST
DTSTART:20311102T060000
END:STANDARD
END:VTIMEZONE
BEGIN:VEVENT
DTSTART;TZID=America/New_York:20260919T100000
DTEND;TZID=America/New_York:20260919T140000
DTSTAMP:20260425T083812
CREATED:20250602T200206Z
LAST-MODIFIED:20251101T213324Z
UID:10004368-1789812000-1789826400@av8maps.com
SUMMARY:AZO Air Fair (KAZO)
DESCRIPTION:Join us for the Air Fair – A Free\, Family-Friendly Celebration!\nGet ready for a day packed with fun\, excitement\, and flight! The Air Fair is back\, and this year we’re celebrating 96 years of flight.\nBring the whole family out to enjoy a full day of hands-on activities\, aircraft displays\, delicious food\, and so much more.\nVisit our vendor tents to meet our amazing airport partners and local companies. Explore interactive activities\, face painting\, and creative arts & crafts for kids of all ages.\nDon’t miss out—come celebrate the joy of flight with us!
URL:https://av8maps.com/event/azo-air-fair/2026-09-19/
LOCATION:Kalamazoo/ Battle Creek Intl Airport\, 5235 Portage Rd\, Portage\, MI 49002
ATTACH;FMTTYPE=image/jpeg:https://av8maps.com/wp-content/uploads/2025/06/KAZO-Air-Fair-e1757706008102.jpg
GEO:42.2377586;-85.5596822
X-APPLE-STRUCTURED-LOCATION;VALUE=URI;X-ADDRESS=Kalamazoo/ Battle Creek Intl Airport 5235 Portage Rd Portage MI 49002;X-APPLE-RADIUS=500;X-TITLE=5235 Portage Rd\, Portage\, MI 49002:geo:-85.5596822,42.2377586
END:VEVENT
BEGIN:VEVENT
DTSTART;TZID=America/New_York:20270918T100000
DTEND;TZID=America/New_York:20270918T140000
DTSTAMP:20260425T083812
CREATED:20250602T200206Z
LAST-MODIFIED:20251101T213324Z
UID:10004369-1821261600-1821276000@av8maps.com
SUMMARY:AZO Air Fair (KAZO)
DESCRIPTION:Join us for the Air Fair – A Free\, Family-Friendly Celebration!\nGet ready for a day packed with fun\, excitement\, and flight! The Air Fair is back\, and this year we’re celebrating 96 years of flight.\nBring the whole family out to enjoy a full day of hands-on activities\, aircraft displays\, delicious food\, and so much more.\nVisit our vendor tents to meet our amazing airport partners and local companies. Explore interactive activities\, face painting\, and creative arts & crafts for kids of all ages.\nDon’t miss out—come celebrate the joy of flight with us!
URL:https://av8maps.com/event/azo-air-fair/2027-09-18/
LOCATION:Kalamazoo/ Battle Creek Intl Airport\, 5235 Portage Rd\, Portage\, MI 49002
ATTACH;FMTTYPE=image/jpeg:https://av8maps.com/wp-content/uploads/2025/06/KAZO-Air-Fair-e1757706008102.jpg
GEO:42.2377586;-85.5596822
X-APPLE-STRUCTURED-LOCATION;VALUE=URI;X-ADDRESS=Kalamazoo/ Battle Creek Intl Airport 5235 Portage Rd Portage MI 49002;X-APPLE-RADIUS=500;X-TITLE=5235 Portage Rd\, Portage\, MI 49002:geo:-85.5596822,42.2377586
END:VEVENT
BEGIN:VEVENT
DTSTART;TZID=America/New_York:20280916T100000
DTEND;TZID=America/New_York:20280916T140000
DTSTAMP:20260425T083812
CREATED:20250602T200206Z
LAST-MODIFIED:20251101T213324Z
UID:10004370-1852711200-1852725600@av8maps.com
SUMMARY:AZO Air Fair (KAZO)
DESCRIPTION:Join us for the Air Fair – A Free\, Family-Friendly Celebration!\nGet ready for a day packed with fun\, excitement\, and flight! The Air Fair is back\, and this year we’re celebrating 96 years of flight.\nBring the whole family out to enjoy a full day of hands-on activities\, aircraft displays\, delicious food\, and so much more.\nVisit our vendor tents to meet our amazing airport partners and local companies. Explore interactive activities\, face painting\, and creative arts & crafts for kids of all ages.\nDon’t miss out—come celebrate the joy of flight with us!
URL:https://av8maps.com/event/azo-air-fair/2028-09-16/
LOCATION:Kalamazoo/ Battle Creek Intl Airport\, 5235 Portage Rd\, Portage\, MI 49002
ATTACH;FMTTYPE=image/jpeg:https://av8maps.com/wp-content/uploads/2025/06/KAZO-Air-Fair-e1757706008102.jpg
GEO:42.2377586;-85.5596822
X-APPLE-STRUCTURED-LOCATION;VALUE=URI;X-ADDRESS=Kalamazoo/ Battle Creek Intl Airport 5235 Portage Rd Portage MI 49002;X-APPLE-RADIUS=500;X-TITLE=5235 Portage Rd\, Portage\, MI 49002:geo:-85.5596822,42.2377586
END:VEVENT
BEGIN:VEVENT
DTSTART;TZID=America/New_York:20290915T100000
DTEND;TZID=America/New_York:20290915T140000
DTSTAMP:20260425T083812
CREATED:20250602T200206Z
LAST-MODIFIED:20251101T213324Z
UID:10004371-1884160800-1884175200@av8maps.com
SUMMARY:AZO Air Fair (KAZO)
DESCRIPTION:Join us for the Air Fair – A Free\, Family-Friendly Celebration!\nGet ready for a day packed with fun\, excitement\, and flight! The Air Fair is back\, and this year we’re celebrating 96 years of flight.\nBring the whole family out to enjoy a full day of hands-on activities\, aircraft displays\, delicious food\, and so much more.\nVisit our vendor tents to meet our amazing airport partners and local companies. Explore interactive activities\, face painting\, and creative arts & crafts for kids of all ages.\nDon’t miss out—come celebrate the joy of flight with us!
URL:https://av8maps.com/event/azo-air-fair/2029-09-15/
LOCATION:Kalamazoo/ Battle Creek Intl Airport\, 5235 Portage Rd\, Portage\, MI 49002
ATTACH;FMTTYPE=image/jpeg:https://av8maps.com/wp-content/uploads/2025/06/KAZO-Air-Fair-e1757706008102.jpg
GEO:42.2377586;-85.5596822
X-APPLE-STRUCTURED-LOCATION;VALUE=URI;X-ADDRESS=Kalamazoo/ Battle Creek Intl Airport 5235 Portage Rd Portage MI 49002;X-APPLE-RADIUS=500;X-TITLE=5235 Portage Rd\, Portage\, MI 49002:geo:-85.5596822,42.2377586
END:VEVENT
BEGIN:VEVENT
DTSTART;TZID=America/New_York:20300921T100000
DTEND;TZID=America/New_York:20300921T140000
DTSTAMP:20260425T083812
CREATED:20250602T200206Z
LAST-MODIFIED:20251101T213324Z
UID:10004372-1916215200-1916229600@av8maps.com
SUMMARY:AZO Air Fair (KAZO)
DESCRIPTION:Join us for the Air Fair – A Free\, Family-Friendly Celebration!\nGet ready for a day packed with fun\, excitement\, and flight! The Air Fair is back\, and this year we’re celebrating 96 years of flight.\nBring the whole family out to enjoy a full day of hands-on activities\, aircraft displays\, delicious food\, and so much more.\nVisit our vendor tents to meet our amazing airport partners and local companies. Explore interactive activities\, face painting\, and creative arts & crafts for kids of all ages.\nDon’t miss out—come celebrate the joy of flight with us!
URL:https://av8maps.com/event/azo-air-fair/2030-09-21/
LOCATION:Kalamazoo/ Battle Creek Intl Airport\, 5235 Portage Rd\, Portage\, MI 49002
ATTACH;FMTTYPE=image/jpeg:https://av8maps.com/wp-content/uploads/2025/06/KAZO-Air-Fair-e1757706008102.jpg
GEO:42.2377586;-85.5596822
X-APPLE-STRUCTURED-LOCATION;VALUE=URI;X-ADDRESS=Kalamazoo/ Battle Creek Intl Airport 5235 Portage Rd Portage MI 49002;X-APPLE-RADIUS=500;X-TITLE=5235 Portage Rd\, Portage\, MI 49002:geo:-85.5596822,42.2377586
END:VEVENT
END:VCALENDAR