BEGIN:VCALENDAR
VERSION:2.0
PRODID:-//AV8MAPS.COM - ECPv6.15.20//NONSGML v1.0//EN
CALSCALE:GREGORIAN
METHOD:PUBLISH
X-WR-CALNAME:AV8MAPS.COM
X-ORIGINAL-URL:https://av8maps.com
X-WR-CALDESC:Events for AV8MAPS.COM
REFRESH-INTERVAL;VALUE=DURATION:PT1H
X-Robots-Tag:noindex
X-PUBLISHED-TTL:PT1H
BEGIN:VTIMEZONE
TZID:America/New_York
BEGIN:DAYLIGHT
TZOFFSETFROM:-0500
TZOFFSETTO:-0400
TZNAME:EDT
DTSTART:20250309T070000
END:DAYLIGHT
BEGIN:STANDARD
TZOFFSETFROM:-0400
TZOFFSETTO:-0500
TZNAME:EST
DTSTART:20251102T060000
END:STANDARD
BEGIN:DAYLIGHT
TZOFFSETFROM:-0500
TZOFFSETTO:-0400
TZNAME:EDT
DTSTART:20260308T070000
END:DAYLIGHT
BEGIN:STANDARD
TZOFFSETFROM:-0400
TZOFFSETTO:-0500
TZNAME:EST
DTSTART:20261101T060000
END:STANDARD
BEGIN:DAYLIGHT
TZOFFSETFROM:-0500
TZOFFSETTO:-0400
TZNAME:EDT
DTSTART:20270314T070000
END:DAYLIGHT
BEGIN:STANDARD
TZOFFSETFROM:-0400
TZOFFSETTO:-0500
TZNAME:EST
DTSTART:20271107T060000
END:STANDARD
BEGIN:DAYLIGHT
TZOFFSETFROM:-0500
TZOFFSETTO:-0400
TZNAME:EDT
DTSTART:20280312T070000
END:DAYLIGHT
BEGIN:STANDARD
TZOFFSETFROM:-0400
TZOFFSETTO:-0500
TZNAME:EST
DTSTART:20281105T060000
END:STANDARD
BEGIN:DAYLIGHT
TZOFFSETFROM:-0500
TZOFFSETTO:-0400
TZNAME:EDT
DTSTART:20290311T070000
END:DAYLIGHT
BEGIN:STANDARD
TZOFFSETFROM:-0400
TZOFFSETTO:-0500
TZNAME:EST
DTSTART:20291104T060000
END:STANDARD
BEGIN:DAYLIGHT
TZOFFSETFROM:-0500
TZOFFSETTO:-0400
TZNAME:EDT
DTSTART:20300310T070000
END:DAYLIGHT
BEGIN:STANDARD
TZOFFSETFROM:-0400
TZOFFSETTO:-0500
TZNAME:EST
DTSTART:20301103T060000
END:STANDARD
BEGIN:DAYLIGHT
TZOFFSETFROM:-0500
TZOFFSETTO:-0400
TZNAME:EDT
DTSTART:20310309T070000
END:DAYLIGHT
BEGIN:STANDARD
TZOFFSETFROM:-0400
TZOFFSETTO:-0500
TZNAME:EST
DTSTART:20311102T060000
END:STANDARD
END:VTIMEZONE
BEGIN:VEVENT
DTSTART;TZID=America/New_York:20260920T070000
DTEND;TZID=America/New_York:20260920T120000
DTSTAMP:20260423T022541
CREATED:20250522T011728Z
LAST-MODIFIED:20251101T213557Z
UID:10004383-1789887600-1789905600@av8maps.com
SUMMARY:Annual Applejack Fly-In/Drive-In Pancake Feed Fundraiser (KAFK)
DESCRIPTION:Come on out to our Annual Applejack Fly-In/Drive-In pancake feed at the Nebraska City Airport. \nAdults 12 and older $8\, children 3-11 years old $4\, and children under 3 and Fly-In pilots eat free.
URL:https://av8maps.com/event/applejack-fly-in-drive-in-pancake-feed-fundraiser/2026-09-20/
LOCATION:Nebraska City Municipal Airport\, 972 S 64th Rd\, Nebraska City\, NE 68410
ATTACH;FMTTYPE=image/jpeg:https://av8maps.com/wp-content/uploads/2025/09/Generic-Pancakes-Picture.jpg
GEO:40.6064494;-95.8657211
X-APPLE-STRUCTURED-LOCATION;VALUE=URI;X-ADDRESS=Nebraska City Municipal Airport 972 S 64th Rd Nebraska City NE 68410;X-APPLE-RADIUS=500;X-TITLE=972 S 64th Rd\, Nebraska City\, NE 68410:geo:-95.8657211,40.6064494
END:VEVENT
BEGIN:VEVENT
DTSTART;TZID=America/New_York:20270919T070000
DTEND;TZID=America/New_York:20270919T120000
DTSTAMP:20260423T022541
CREATED:20250522T011728Z
LAST-MODIFIED:20251101T213557Z
UID:10004384-1821337200-1821355200@av8maps.com
SUMMARY:Annual Applejack Fly-In/Drive-In Pancake Feed Fundraiser (KAFK)
DESCRIPTION:Come on out to our Annual Applejack Fly-In/Drive-In pancake feed at the Nebraska City Airport. \nAdults 12 and older $8\, children 3-11 years old $4\, and children under 3 and Fly-In pilots eat free.
URL:https://av8maps.com/event/applejack-fly-in-drive-in-pancake-feed-fundraiser/2027-09-19/
LOCATION:Nebraska City Municipal Airport\, 972 S 64th Rd\, Nebraska City\, NE 68410
ATTACH;FMTTYPE=image/jpeg:https://av8maps.com/wp-content/uploads/2025/09/Generic-Pancakes-Picture.jpg
GEO:40.6064494;-95.8657211
X-APPLE-STRUCTURED-LOCATION;VALUE=URI;X-ADDRESS=Nebraska City Municipal Airport 972 S 64th Rd Nebraska City NE 68410;X-APPLE-RADIUS=500;X-TITLE=972 S 64th Rd\, Nebraska City\, NE 68410:geo:-95.8657211,40.6064494
END:VEVENT
BEGIN:VEVENT
DTSTART;TZID=America/New_York:20280917T070000
DTEND;TZID=America/New_York:20280917T120000
DTSTAMP:20260423T022541
CREATED:20250522T011728Z
LAST-MODIFIED:20251101T213557Z
UID:10004385-1852786800-1852804800@av8maps.com
SUMMARY:Annual Applejack Fly-In/Drive-In Pancake Feed Fundraiser (KAFK)
DESCRIPTION:Come on out to our Annual Applejack Fly-In/Drive-In pancake feed at the Nebraska City Airport. \nAdults 12 and older $8\, children 3-11 years old $4\, and children under 3 and Fly-In pilots eat free.
URL:https://av8maps.com/event/applejack-fly-in-drive-in-pancake-feed-fundraiser/2028-09-17/
LOCATION:Nebraska City Municipal Airport\, 972 S 64th Rd\, Nebraska City\, NE 68410
ATTACH;FMTTYPE=image/jpeg:https://av8maps.com/wp-content/uploads/2025/09/Generic-Pancakes-Picture.jpg
GEO:40.6064494;-95.8657211
X-APPLE-STRUCTURED-LOCATION;VALUE=URI;X-ADDRESS=Nebraska City Municipal Airport 972 S 64th Rd Nebraska City NE 68410;X-APPLE-RADIUS=500;X-TITLE=972 S 64th Rd\, Nebraska City\, NE 68410:geo:-95.8657211,40.6064494
END:VEVENT
BEGIN:VEVENT
DTSTART;TZID=America/New_York:20290916T070000
DTEND;TZID=America/New_York:20290916T120000
DTSTAMP:20260423T022541
CREATED:20250522T011728Z
LAST-MODIFIED:20251101T213557Z
UID:10004386-1884236400-1884254400@av8maps.com
SUMMARY:Annual Applejack Fly-In/Drive-In Pancake Feed Fundraiser (KAFK)
DESCRIPTION:Come on out to our Annual Applejack Fly-In/Drive-In pancake feed at the Nebraska City Airport. \nAdults 12 and older $8\, children 3-11 years old $4\, and children under 3 and Fly-In pilots eat free.
URL:https://av8maps.com/event/applejack-fly-in-drive-in-pancake-feed-fundraiser/2029-09-16/
LOCATION:Nebraska City Municipal Airport\, 972 S 64th Rd\, Nebraska City\, NE 68410
ATTACH;FMTTYPE=image/jpeg:https://av8maps.com/wp-content/uploads/2025/09/Generic-Pancakes-Picture.jpg
GEO:40.6064494;-95.8657211
X-APPLE-STRUCTURED-LOCATION;VALUE=URI;X-ADDRESS=Nebraska City Municipal Airport 972 S 64th Rd Nebraska City NE 68410;X-APPLE-RADIUS=500;X-TITLE=972 S 64th Rd\, Nebraska City\, NE 68410:geo:-95.8657211,40.6064494
END:VEVENT
BEGIN:VEVENT
DTSTART;TZID=America/New_York:20300915T070000
DTEND;TZID=America/New_York:20300915T120000
DTSTAMP:20260423T022541
CREATED:20250522T011728Z
LAST-MODIFIED:20251101T213557Z
UID:10004387-1915686000-1915704000@av8maps.com
SUMMARY:Annual Applejack Fly-In/Drive-In Pancake Feed Fundraiser (KAFK)
DESCRIPTION:Come on out to our Annual Applejack Fly-In/Drive-In pancake feed at the Nebraska City Airport. \nAdults 12 and older $8\, children 3-11 years old $4\, and children under 3 and Fly-In pilots eat free.
URL:https://av8maps.com/event/applejack-fly-in-drive-in-pancake-feed-fundraiser/2030-09-15/
LOCATION:Nebraska City Municipal Airport\, 972 S 64th Rd\, Nebraska City\, NE 68410
ATTACH;FMTTYPE=image/jpeg:https://av8maps.com/wp-content/uploads/2025/09/Generic-Pancakes-Picture.jpg
GEO:40.6064494;-95.8657211
X-APPLE-STRUCTURED-LOCATION;VALUE=URI;X-ADDRESS=Nebraska City Municipal Airport 972 S 64th Rd Nebraska City NE 68410;X-APPLE-RADIUS=500;X-TITLE=972 S 64th Rd\, Nebraska City\, NE 68410:geo:-95.8657211,40.6064494
END:VEVENT
END:VCALENDAR