BEGIN:VCALENDAR
VERSION:2.0
PRODID:-//AV8MAPS.COM - ECPv6.15.20//NONSGML v1.0//EN
CALSCALE:GREGORIAN
METHOD:PUBLISH
X-WR-CALNAME:AV8MAPS.COM
X-ORIGINAL-URL:https://av8maps.com
X-WR-CALDESC:Events for AV8MAPS.COM
REFRESH-INTERVAL;VALUE=DURATION:PT1H
X-Robots-Tag:noindex
X-PUBLISHED-TTL:PT1H
BEGIN:VTIMEZONE
TZID:America/New_York
BEGIN:DAYLIGHT
TZOFFSETFROM:-0500
TZOFFSETTO:-0400
TZNAME:EDT
DTSTART:20250309T070000
END:DAYLIGHT
BEGIN:STANDARD
TZOFFSETFROM:-0400
TZOFFSETTO:-0500
TZNAME:EST
DTSTART:20251102T060000
END:STANDARD
BEGIN:DAYLIGHT
TZOFFSETFROM:-0500
TZOFFSETTO:-0400
TZNAME:EDT
DTSTART:20260308T070000
END:DAYLIGHT
BEGIN:STANDARD
TZOFFSETFROM:-0400
TZOFFSETTO:-0500
TZNAME:EST
DTSTART:20261101T060000
END:STANDARD
BEGIN:DAYLIGHT
TZOFFSETFROM:-0500
TZOFFSETTO:-0400
TZNAME:EDT
DTSTART:20270314T070000
END:DAYLIGHT
BEGIN:STANDARD
TZOFFSETFROM:-0400
TZOFFSETTO:-0500
TZNAME:EST
DTSTART:20271107T060000
END:STANDARD
END:VTIMEZONE
BEGIN:VEVENT
DTSTART;TZID=America/New_York:20260509T090000
DTEND;TZID=America/New_York:20260509T130000
DTSTAMP:20260423T022545
CREATED:20250509T222221Z
LAST-MODIFIED:20251101T214157Z
UID:10000125-1778317200-1778331600@av8maps.com
SUMMARY:Second Saturday Food Truck Fly-in and Cruise-in (H96)
DESCRIPTION:Come on out to Benton Municipal Airport-H96 in Benton\, IL on the Second Saturday of the month\, May through September.\nFly in\, cruise in\, bike in\, however you can just come on out. Aircraft and cars/trucks/motorcycles etc meet together at the airport for old time cruise in.\nFood trucks for great street eats!\nBenton H96 Flying Club will be raffling off a free discovery flight! (Must be present to win)\nThese are weather permitting events. Weather calls are made the Friday before the event. Please monitor our Facebook page for updates.
URL:https://av8maps.com/event/second-saturday-food-truck-fly-in-and-cruise-in-h96-3/2026-05-09/
LOCATION:Benton Municipal Airport\, 1 Airport Rd\, Benton\, IL 62812\, IL
ATTACH;FMTTYPE=image/jpeg:https://av8maps.com/wp-content/uploads/2025/05/Benton-Municipal-e1746828150309.jpg
GEO:38.0064366;-88.93263
X-APPLE-STRUCTURED-LOCATION;VALUE=URI;X-ADDRESS=Benton Municipal Airport 1 Airport Rd Benton IL 62812 IL;X-APPLE-RADIUS=500;X-TITLE=1 Airport Rd\, Benton\, IL 62812:geo:-88.93263,38.0064366
END:VEVENT
BEGIN:VEVENT
DTSTART;TZID=America/New_York:20260613T090000
DTEND;TZID=America/New_York:20260613T130000
DTSTAMP:20260423T022545
CREATED:20250509T222221Z
LAST-MODIFIED:20251101T214157Z
UID:10004388-1781341200-1781355600@av8maps.com
SUMMARY:Second Saturday Food Truck Fly-in and Cruise-in (H96)
DESCRIPTION:Come on out to Benton Municipal Airport-H96 in Benton\, IL on the Second Saturday of the month\, May through September.\nFly in\, cruise in\, bike in\, however you can just come on out. Aircraft and cars/trucks/motorcycles etc meet together at the airport for old time cruise in.\nFood trucks for great street eats!\nBenton H96 Flying Club will be raffling off a free discovery flight! (Must be present to win)\nThese are weather permitting events. Weather calls are made the Friday before the event. Please monitor our Facebook page for updates.
URL:https://av8maps.com/event/second-saturday-food-truck-fly-in-and-cruise-in-h96-3/2026-06-13/
LOCATION:Benton Municipal Airport\, 1 Airport Rd\, Benton\, IL 62812\, IL
ATTACH;FMTTYPE=image/jpeg:https://av8maps.com/wp-content/uploads/2025/05/Benton-Municipal-e1746828150309.jpg
GEO:38.0064366;-88.93263
X-APPLE-STRUCTURED-LOCATION;VALUE=URI;X-ADDRESS=Benton Municipal Airport 1 Airport Rd Benton IL 62812 IL;X-APPLE-RADIUS=500;X-TITLE=1 Airport Rd\, Benton\, IL 62812:geo:-88.93263,38.0064366
END:VEVENT
BEGIN:VEVENT
DTSTART;TZID=America/New_York:20260711T090000
DTEND;TZID=America/New_York:20260711T130000
DTSTAMP:20260423T022545
CREATED:20250509T222221Z
LAST-MODIFIED:20251101T214157Z
UID:10004389-1783760400-1783774800@av8maps.com
SUMMARY:Second Saturday Food Truck Fly-in and Cruise-in (H96)
DESCRIPTION:Come on out to Benton Municipal Airport-H96 in Benton\, IL on the Second Saturday of the month\, May through September.\nFly in\, cruise in\, bike in\, however you can just come on out. Aircraft and cars/trucks/motorcycles etc meet together at the airport for old time cruise in.\nFood trucks for great street eats!\nBenton H96 Flying Club will be raffling off a free discovery flight! (Must be present to win)\nThese are weather permitting events. Weather calls are made the Friday before the event. Please monitor our Facebook page for updates.
URL:https://av8maps.com/event/second-saturday-food-truck-fly-in-and-cruise-in-h96-3/2026-07-11/
LOCATION:Benton Municipal Airport\, 1 Airport Rd\, Benton\, IL 62812\, IL
ATTACH;FMTTYPE=image/jpeg:https://av8maps.com/wp-content/uploads/2025/05/Benton-Municipal-e1746828150309.jpg
GEO:38.0064366;-88.93263
X-APPLE-STRUCTURED-LOCATION;VALUE=URI;X-ADDRESS=Benton Municipal Airport 1 Airport Rd Benton IL 62812 IL;X-APPLE-RADIUS=500;X-TITLE=1 Airport Rd\, Benton\, IL 62812:geo:-88.93263,38.0064366
END:VEVENT
BEGIN:VEVENT
DTSTART;TZID=America/New_York:20260808T090000
DTEND;TZID=America/New_York:20260808T130000
DTSTAMP:20260423T022545
CREATED:20250509T222221Z
LAST-MODIFIED:20251101T214157Z
UID:10004390-1786179600-1786194000@av8maps.com
SUMMARY:Second Saturday Food Truck Fly-in and Cruise-in (H96)
DESCRIPTION:Come on out to Benton Municipal Airport-H96 in Benton\, IL on the Second Saturday of the month\, May through September.\nFly in\, cruise in\, bike in\, however you can just come on out. Aircraft and cars/trucks/motorcycles etc meet together at the airport for old time cruise in.\nFood trucks for great street eats!\nBenton H96 Flying Club will be raffling off a free discovery flight! (Must be present to win)\nThese are weather permitting events. Weather calls are made the Friday before the event. Please monitor our Facebook page for updates.
URL:https://av8maps.com/event/second-saturday-food-truck-fly-in-and-cruise-in-h96-3/2026-08-08/
LOCATION:Benton Municipal Airport\, 1 Airport Rd\, Benton\, IL 62812\, IL
ATTACH;FMTTYPE=image/jpeg:https://av8maps.com/wp-content/uploads/2025/05/Benton-Municipal-e1746828150309.jpg
GEO:38.0064366;-88.93263
X-APPLE-STRUCTURED-LOCATION;VALUE=URI;X-ADDRESS=Benton Municipal Airport 1 Airport Rd Benton IL 62812 IL;X-APPLE-RADIUS=500;X-TITLE=1 Airport Rd\, Benton\, IL 62812:geo:-88.93263,38.0064366
END:VEVENT
BEGIN:VEVENT
DTSTART;TZID=America/New_York:20260912T090000
DTEND;TZID=America/New_York:20260912T130000
DTSTAMP:20260423T022545
CREATED:20250509T222221Z
LAST-MODIFIED:20251101T214157Z
UID:10004391-1789203600-1789218000@av8maps.com
SUMMARY:Second Saturday Food Truck Fly-in and Cruise-in (H96)
DESCRIPTION:Come on out to Benton Municipal Airport-H96 in Benton\, IL on the Second Saturday of the month\, May through September.\nFly in\, cruise in\, bike in\, however you can just come on out. Aircraft and cars/trucks/motorcycles etc meet together at the airport for old time cruise in.\nFood trucks for great street eats!\nBenton H96 Flying Club will be raffling off a free discovery flight! (Must be present to win)\nThese are weather permitting events. Weather calls are made the Friday before the event. Please monitor our Facebook page for updates.
URL:https://av8maps.com/event/second-saturday-food-truck-fly-in-and-cruise-in-h96-3/2026-09-12/
LOCATION:Benton Municipal Airport\, 1 Airport Rd\, Benton\, IL 62812\, IL
ATTACH;FMTTYPE=image/jpeg:https://av8maps.com/wp-content/uploads/2025/05/Benton-Municipal-e1746828150309.jpg
GEO:38.0064366;-88.93263
X-APPLE-STRUCTURED-LOCATION;VALUE=URI;X-ADDRESS=Benton Municipal Airport 1 Airport Rd Benton IL 62812 IL;X-APPLE-RADIUS=500;X-TITLE=1 Airport Rd\, Benton\, IL 62812:geo:-88.93263,38.0064366
END:VEVENT
END:VCALENDAR