BEGIN:VCALENDAR
VERSION:2.0
PRODID:-//AV8MAPS.COM - ECPv6.15.20//NONSGML v1.0//EN
CALSCALE:GREGORIAN
METHOD:PUBLISH
X-WR-CALNAME:AV8MAPS.COM
X-ORIGINAL-URL:https://av8maps.com
X-WR-CALDESC:Events for AV8MAPS.COM
REFRESH-INTERVAL;VALUE=DURATION:PT1H
X-Robots-Tag:noindex
X-PUBLISHED-TTL:PT1H
BEGIN:VTIMEZONE
TZID:America/New_York
BEGIN:DAYLIGHT
TZOFFSETFROM:-0500
TZOFFSETTO:-0400
TZNAME:EDT
DTSTART:20250309T070000
END:DAYLIGHT
BEGIN:STANDARD
TZOFFSETFROM:-0400
TZOFFSETTO:-0500
TZNAME:EST
DTSTART:20251102T060000
END:STANDARD
BEGIN:DAYLIGHT
TZOFFSETFROM:-0500
TZOFFSETTO:-0400
TZNAME:EDT
DTSTART:20260308T070000
END:DAYLIGHT
BEGIN:STANDARD
TZOFFSETFROM:-0400
TZOFFSETTO:-0500
TZNAME:EST
DTSTART:20261101T060000
END:STANDARD
BEGIN:DAYLIGHT
TZOFFSETFROM:-0500
TZOFFSETTO:-0400
TZNAME:EDT
DTSTART:20270314T070000
END:DAYLIGHT
BEGIN:STANDARD
TZOFFSETFROM:-0400
TZOFFSETTO:-0500
TZNAME:EST
DTSTART:20271107T060000
END:STANDARD
BEGIN:DAYLIGHT
TZOFFSETFROM:-0500
TZOFFSETTO:-0400
TZNAME:EDT
DTSTART:20280312T070000
END:DAYLIGHT
BEGIN:STANDARD
TZOFFSETFROM:-0400
TZOFFSETTO:-0500
TZNAME:EST
DTSTART:20281105T060000
END:STANDARD
BEGIN:DAYLIGHT
TZOFFSETFROM:-0500
TZOFFSETTO:-0400
TZNAME:EDT
DTSTART:20290311T070000
END:DAYLIGHT
BEGIN:STANDARD
TZOFFSETFROM:-0400
TZOFFSETTO:-0500
TZNAME:EST
DTSTART:20291104T060000
END:STANDARD
BEGIN:DAYLIGHT
TZOFFSETFROM:-0500
TZOFFSETTO:-0400
TZNAME:EDT
DTSTART:20300310T070000
END:DAYLIGHT
BEGIN:STANDARD
TZOFFSETFROM:-0400
TZOFFSETTO:-0500
TZNAME:EST
DTSTART:20301103T060000
END:STANDARD
BEGIN:DAYLIGHT
TZOFFSETFROM:-0500
TZOFFSETTO:-0400
TZNAME:EDT
DTSTART:20310309T070000
END:DAYLIGHT
BEGIN:STANDARD
TZOFFSETFROM:-0400
TZOFFSETTO:-0500
TZNAME:EST
DTSTART:20311102T060000
END:STANDARD
END:VTIMEZONE
BEGIN:VEVENT
DTSTART;TZID=America/New_York:20260925T100000
DTEND;TZID=America/New_York:20260926T180000
DTSTAMP:20260423T075214
CREATED:20250905T011259Z
LAST-MODIFIED:20251101T220631Z
UID:10004401-1790330400-1790445600@av8maps.com
SUMMARY:Annual Central AL BBQ Festival (02A)
DESCRIPTION:Annual Central AL BBQ Festival.\n1 meat Friday Night Chicken Fight on Sept.26th\n2 meat (chicken and ribs) Saturday Sept. 27th\nOpen to public and vendors on Saturday the 27th only.\nPeoples Choice\, Vendors\, Live Music\, Cruise In\, and of course the Fly-In!!\nMore info to come….
URL:https://av8maps.com/event/3rd-annual-central-al-bbq-festival/2026-09-25/
LOCATION:Chilton County Airport\, 702 Airport Rd\, Clanton\, AL 35045
ATTACH;FMTTYPE=image/jpeg:https://av8maps.com/wp-content/uploads/2025/09/3rd-annual-Central-AL-BBQ-festival-e1758477264111.jpg
GEO:32.8495949;-86.6105826
X-APPLE-STRUCTURED-LOCATION;VALUE=URI;X-ADDRESS=Chilton County Airport 702 Airport Rd Clanton AL 35045;X-APPLE-RADIUS=500;X-TITLE=702 Airport Rd\, Clanton\, AL 35045:geo:-86.6105826,32.8495949
END:VEVENT
BEGIN:VEVENT
DTSTART;TZID=America/New_York:20270924T100000
DTEND;TZID=America/New_York:20270925T180000
DTSTAMP:20260423T075214
CREATED:20250905T011259Z
LAST-MODIFIED:20251101T220631Z
UID:10004402-1821780000-1821895200@av8maps.com
SUMMARY:Annual Central AL BBQ Festival (02A)
DESCRIPTION:Annual Central AL BBQ Festival.\n1 meat Friday Night Chicken Fight on Sept.26th\n2 meat (chicken and ribs) Saturday Sept. 27th\nOpen to public and vendors on Saturday the 27th only.\nPeoples Choice\, Vendors\, Live Music\, Cruise In\, and of course the Fly-In!!\nMore info to come….
URL:https://av8maps.com/event/3rd-annual-central-al-bbq-festival/2027-09-24/
LOCATION:Chilton County Airport\, 702 Airport Rd\, Clanton\, AL 35045
ATTACH;FMTTYPE=image/jpeg:https://av8maps.com/wp-content/uploads/2025/09/3rd-annual-Central-AL-BBQ-festival-e1758477264111.jpg
GEO:32.8495949;-86.6105826
X-APPLE-STRUCTURED-LOCATION;VALUE=URI;X-ADDRESS=Chilton County Airport 702 Airport Rd Clanton AL 35045;X-APPLE-RADIUS=500;X-TITLE=702 Airport Rd\, Clanton\, AL 35045:geo:-86.6105826,32.8495949
END:VEVENT
BEGIN:VEVENT
DTSTART;TZID=America/New_York:20280922T100000
DTEND;TZID=America/New_York:20280923T180000
DTSTAMP:20260423T075214
CREATED:20250905T011259Z
LAST-MODIFIED:20251101T220631Z
UID:10004403-1853229600-1853344800@av8maps.com
SUMMARY:Annual Central AL BBQ Festival (02A)
DESCRIPTION:Annual Central AL BBQ Festival.\n1 meat Friday Night Chicken Fight on Sept.26th\n2 meat (chicken and ribs) Saturday Sept. 27th\nOpen to public and vendors on Saturday the 27th only.\nPeoples Choice\, Vendors\, Live Music\, Cruise In\, and of course the Fly-In!!\nMore info to come….
URL:https://av8maps.com/event/3rd-annual-central-al-bbq-festival/2028-09-22/
LOCATION:Chilton County Airport\, 702 Airport Rd\, Clanton\, AL 35045
ATTACH;FMTTYPE=image/jpeg:https://av8maps.com/wp-content/uploads/2025/09/3rd-annual-Central-AL-BBQ-festival-e1758477264111.jpg
GEO:32.8495949;-86.6105826
X-APPLE-STRUCTURED-LOCATION;VALUE=URI;X-ADDRESS=Chilton County Airport 702 Airport Rd Clanton AL 35045;X-APPLE-RADIUS=500;X-TITLE=702 Airport Rd\, Clanton\, AL 35045:geo:-86.6105826,32.8495949
END:VEVENT
BEGIN:VEVENT
DTSTART;TZID=America/New_York:20290928T100000
DTEND;TZID=America/New_York:20290929T180000
DTSTAMP:20260423T075214
CREATED:20250905T011259Z
LAST-MODIFIED:20251101T220631Z
UID:10004404-1885284000-1885399200@av8maps.com
SUMMARY:Annual Central AL BBQ Festival (02A)
DESCRIPTION:Annual Central AL BBQ Festival.\n1 meat Friday Night Chicken Fight on Sept.26th\n2 meat (chicken and ribs) Saturday Sept. 27th\nOpen to public and vendors on Saturday the 27th only.\nPeoples Choice\, Vendors\, Live Music\, Cruise In\, and of course the Fly-In!!\nMore info to come….
URL:https://av8maps.com/event/3rd-annual-central-al-bbq-festival/2029-09-28/
LOCATION:Chilton County Airport\, 702 Airport Rd\, Clanton\, AL 35045
ATTACH;FMTTYPE=image/jpeg:https://av8maps.com/wp-content/uploads/2025/09/3rd-annual-Central-AL-BBQ-festival-e1758477264111.jpg
GEO:32.8495949;-86.6105826
X-APPLE-STRUCTURED-LOCATION;VALUE=URI;X-ADDRESS=Chilton County Airport 702 Airport Rd Clanton AL 35045;X-APPLE-RADIUS=500;X-TITLE=702 Airport Rd\, Clanton\, AL 35045:geo:-86.6105826,32.8495949
END:VEVENT
BEGIN:VEVENT
DTSTART;TZID=America/New_York:20300927T100000
DTEND;TZID=America/New_York:20300928T180000
DTSTAMP:20260423T075214
CREATED:20250905T011259Z
LAST-MODIFIED:20251101T220631Z
UID:10004405-1916733600-1916848800@av8maps.com
SUMMARY:Annual Central AL BBQ Festival (02A)
DESCRIPTION:Annual Central AL BBQ Festival.\n1 meat Friday Night Chicken Fight on Sept.26th\n2 meat (chicken and ribs) Saturday Sept. 27th\nOpen to public and vendors on Saturday the 27th only.\nPeoples Choice\, Vendors\, Live Music\, Cruise In\, and of course the Fly-In!!\nMore info to come….
URL:https://av8maps.com/event/3rd-annual-central-al-bbq-festival/2030-09-27/
LOCATION:Chilton County Airport\, 702 Airport Rd\, Clanton\, AL 35045
ATTACH;FMTTYPE=image/jpeg:https://av8maps.com/wp-content/uploads/2025/09/3rd-annual-Central-AL-BBQ-festival-e1758477264111.jpg
GEO:32.8495949;-86.6105826
X-APPLE-STRUCTURED-LOCATION;VALUE=URI;X-ADDRESS=Chilton County Airport 702 Airport Rd Clanton AL 35045;X-APPLE-RADIUS=500;X-TITLE=702 Airport Rd\, Clanton\, AL 35045:geo:-86.6105826,32.8495949
END:VEVENT
END:VCALENDAR