BEGIN:VCALENDAR
VERSION:2.0
PRODID:-//AV8MAPS.COM - ECPv6.15.20//NONSGML v1.0//EN
CALSCALE:GREGORIAN
METHOD:PUBLISH
X-WR-CALNAME:AV8MAPS.COM
X-ORIGINAL-URL:https://av8maps.com
X-WR-CALDESC:Events for AV8MAPS.COM
REFRESH-INTERVAL;VALUE=DURATION:PT1H
X-Robots-Tag:noindex
X-PUBLISHED-TTL:PT1H
BEGIN:VTIMEZONE
TZID:America/New_York
BEGIN:DAYLIGHT
TZOFFSETFROM:-0500
TZOFFSETTO:-0400
TZNAME:EDT
DTSTART:20250309T070000
END:DAYLIGHT
BEGIN:STANDARD
TZOFFSETFROM:-0400
TZOFFSETTO:-0500
TZNAME:EST
DTSTART:20251102T060000
END:STANDARD
BEGIN:DAYLIGHT
TZOFFSETFROM:-0500
TZOFFSETTO:-0400
TZNAME:EDT
DTSTART:20260308T070000
END:DAYLIGHT
BEGIN:STANDARD
TZOFFSETFROM:-0400
TZOFFSETTO:-0500
TZNAME:EST
DTSTART:20261101T060000
END:STANDARD
BEGIN:DAYLIGHT
TZOFFSETFROM:-0500
TZOFFSETTO:-0400
TZNAME:EDT
DTSTART:20270314T070000
END:DAYLIGHT
BEGIN:STANDARD
TZOFFSETFROM:-0400
TZOFFSETTO:-0500
TZNAME:EST
DTSTART:20271107T060000
END:STANDARD
BEGIN:DAYLIGHT
TZOFFSETFROM:-0500
TZOFFSETTO:-0400
TZNAME:EDT
DTSTART:20280312T070000
END:DAYLIGHT
BEGIN:STANDARD
TZOFFSETFROM:-0400
TZOFFSETTO:-0500
TZNAME:EST
DTSTART:20281105T060000
END:STANDARD
BEGIN:DAYLIGHT
TZOFFSETFROM:-0500
TZOFFSETTO:-0400
TZNAME:EDT
DTSTART:20290311T070000
END:DAYLIGHT
BEGIN:STANDARD
TZOFFSETFROM:-0400
TZOFFSETTO:-0500
TZNAME:EST
DTSTART:20291104T060000
END:STANDARD
BEGIN:DAYLIGHT
TZOFFSETFROM:-0500
TZOFFSETTO:-0400
TZNAME:EDT
DTSTART:20300310T070000
END:DAYLIGHT
BEGIN:STANDARD
TZOFFSETFROM:-0400
TZOFFSETTO:-0500
TZNAME:EST
DTSTART:20301103T060000
END:STANDARD
BEGIN:DAYLIGHT
TZOFFSETFROM:-0500
TZOFFSETTO:-0400
TZNAME:EDT
DTSTART:20310309T070000
END:DAYLIGHT
BEGIN:STANDARD
TZOFFSETFROM:-0400
TZOFFSETTO:-0500
TZNAME:EST
DTSTART:20311102T060000
END:STANDARD
END:VTIMEZONE
BEGIN:VEVENT
DTSTART;TZID=America/New_York:20260927T090000
DTEND;TZID=America/New_York:20260927T150000
DTSTAMP:20260423T164815
CREATED:20250905T004028Z
LAST-MODIFIED:20251101T221158Z
UID:10004416-1790499600-1790521200@av8maps.com
SUMMARY:Annual Long Island Airpark Fly-In (NC26)
DESCRIPTION:LONG ISLAND AIRPARK ANNUAL FLY-IN \nFor Rain Date Information\, call 877-FLY-NC26 (877-359-6626)\nRain Day is typically the next day on Sunday\n“FLY ON IN FOR SOME GOOD PLANE FUN”\nFood\, drinks\, and shirts are available for purchase from 09:00 AM until 2:00PM. Water is provided by Long Island Airpark Home Owner’s Association. Field closes at 3:00 PM for non-residents. Please observe requests from road guards monitoring pedestrian traffic and the airboss monitoring arrivals and departures on 122.9.\nRunway 5-23 : 3000′ x 80′ grass (runway width reduced 20′ during fly-in)\nField Elevation: 864′\nFrequency 122.9\nAirport Identifier: NC26\nLat/Long: 35.66N / 80.97 W\nDuring the fly-in\, an airboss will provide traffic advisories. The preferred runway for landing is uphill on 23. Preferred departure runway is downhill 05. All arrivals and departures should monitor CTAF on 122.9 for advisories from the airboss. Field closes to the public at 3:00 PM.\nNo fuel is available on the field\, but can be purchased at nearby fields SVH\, 14A\, IPJ\, and HKY.\n8336 Chick Drive Catawba\, NC 28609\nInfo Available: https://longislandairport.org/annual-flyin/\nDownloadable Flyer: http://longislandairport.org/wp-content/uploads/2025/07/NC26flyin.pdf
URL:https://av8maps.com/event/long-island-airpark-fly-in-september-27th-rain-day-28th/2026-09-27/
LOCATION:Long Island Airpark\, 8336 Chick Drive Catawba\, NC 28609
ATTACH;FMTTYPE=image/jpeg:https://av8maps.com/wp-content/uploads/2025/09/Long-Island-Airpark-31st-annual-e1758479170241.jpg
GEO:35.6609449;-80.9740696
X-APPLE-STRUCTURED-LOCATION;VALUE=URI;X-ADDRESS=Long Island Airpark 8336 Chick Drive Catawba NC 28609;X-APPLE-RADIUS=500;X-TITLE=8336 Chick Drive Catawba\, NC 28609:geo:-80.9740696,35.6609449
END:VEVENT
BEGIN:VEVENT
DTSTART;TZID=America/New_York:20270926T090000
DTEND;TZID=America/New_York:20270926T150000
DTSTAMP:20260423T164815
CREATED:20250905T004028Z
LAST-MODIFIED:20251101T221158Z
UID:10004417-1821949200-1821970800@av8maps.com
SUMMARY:Annual Long Island Airpark Fly-In (NC26)
DESCRIPTION:LONG ISLAND AIRPARK ANNUAL FLY-IN \nFor Rain Date Information\, call 877-FLY-NC26 (877-359-6626)\nRain Day is typically the next day on Sunday\n“FLY ON IN FOR SOME GOOD PLANE FUN”\nFood\, drinks\, and shirts are available for purchase from 09:00 AM until 2:00PM. Water is provided by Long Island Airpark Home Owner’s Association. Field closes at 3:00 PM for non-residents. Please observe requests from road guards monitoring pedestrian traffic and the airboss monitoring arrivals and departures on 122.9.\nRunway 5-23 : 3000′ x 80′ grass (runway width reduced 20′ during fly-in)\nField Elevation: 864′\nFrequency 122.9\nAirport Identifier: NC26\nLat/Long: 35.66N / 80.97 W\nDuring the fly-in\, an airboss will provide traffic advisories. The preferred runway for landing is uphill on 23. Preferred departure runway is downhill 05. All arrivals and departures should monitor CTAF on 122.9 for advisories from the airboss. Field closes to the public at 3:00 PM.\nNo fuel is available on the field\, but can be purchased at nearby fields SVH\, 14A\, IPJ\, and HKY.\n8336 Chick Drive Catawba\, NC 28609\nInfo Available: https://longislandairport.org/annual-flyin/\nDownloadable Flyer: http://longislandairport.org/wp-content/uploads/2025/07/NC26flyin.pdf
URL:https://av8maps.com/event/long-island-airpark-fly-in-september-27th-rain-day-28th/2027-09-26/
LOCATION:Long Island Airpark\, 8336 Chick Drive Catawba\, NC 28609
ATTACH;FMTTYPE=image/jpeg:https://av8maps.com/wp-content/uploads/2025/09/Long-Island-Airpark-31st-annual-e1758479170241.jpg
GEO:35.6609449;-80.9740696
X-APPLE-STRUCTURED-LOCATION;VALUE=URI;X-ADDRESS=Long Island Airpark 8336 Chick Drive Catawba NC 28609;X-APPLE-RADIUS=500;X-TITLE=8336 Chick Drive Catawba\, NC 28609:geo:-80.9740696,35.6609449
END:VEVENT
BEGIN:VEVENT
DTSTART;TZID=America/New_York:20280924T090000
DTEND;TZID=America/New_York:20280924T150000
DTSTAMP:20260423T164815
CREATED:20250905T004028Z
LAST-MODIFIED:20251101T221158Z
UID:10004418-1853398800-1853420400@av8maps.com
SUMMARY:Annual Long Island Airpark Fly-In (NC26)
DESCRIPTION:LONG ISLAND AIRPARK ANNUAL FLY-IN \nFor Rain Date Information\, call 877-FLY-NC26 (877-359-6626)\nRain Day is typically the next day on Sunday\n“FLY ON IN FOR SOME GOOD PLANE FUN”\nFood\, drinks\, and shirts are available for purchase from 09:00 AM until 2:00PM. Water is provided by Long Island Airpark Home Owner’s Association. Field closes at 3:00 PM for non-residents. Please observe requests from road guards monitoring pedestrian traffic and the airboss monitoring arrivals and departures on 122.9.\nRunway 5-23 : 3000′ x 80′ grass (runway width reduced 20′ during fly-in)\nField Elevation: 864′\nFrequency 122.9\nAirport Identifier: NC26\nLat/Long: 35.66N / 80.97 W\nDuring the fly-in\, an airboss will provide traffic advisories. The preferred runway for landing is uphill on 23. Preferred departure runway is downhill 05. All arrivals and departures should monitor CTAF on 122.9 for advisories from the airboss. Field closes to the public at 3:00 PM.\nNo fuel is available on the field\, but can be purchased at nearby fields SVH\, 14A\, IPJ\, and HKY.\n8336 Chick Drive Catawba\, NC 28609\nInfo Available: https://longislandairport.org/annual-flyin/\nDownloadable Flyer: http://longislandairport.org/wp-content/uploads/2025/07/NC26flyin.pdf
URL:https://av8maps.com/event/long-island-airpark-fly-in-september-27th-rain-day-28th/2028-09-24/
LOCATION:Long Island Airpark\, 8336 Chick Drive Catawba\, NC 28609
ATTACH;FMTTYPE=image/jpeg:https://av8maps.com/wp-content/uploads/2025/09/Long-Island-Airpark-31st-annual-e1758479170241.jpg
GEO:35.6609449;-80.9740696
X-APPLE-STRUCTURED-LOCATION;VALUE=URI;X-ADDRESS=Long Island Airpark 8336 Chick Drive Catawba NC 28609;X-APPLE-RADIUS=500;X-TITLE=8336 Chick Drive Catawba\, NC 28609:geo:-80.9740696,35.6609449
END:VEVENT
BEGIN:VEVENT
DTSTART;TZID=America/New_York:20290923T090000
DTEND;TZID=America/New_York:20290923T150000
DTSTAMP:20260423T164815
CREATED:20250905T004028Z
LAST-MODIFIED:20251101T221158Z
UID:10004419-1884848400-1884870000@av8maps.com
SUMMARY:Annual Long Island Airpark Fly-In (NC26)
DESCRIPTION:LONG ISLAND AIRPARK ANNUAL FLY-IN \nFor Rain Date Information\, call 877-FLY-NC26 (877-359-6626)\nRain Day is typically the next day on Sunday\n“FLY ON IN FOR SOME GOOD PLANE FUN”\nFood\, drinks\, and shirts are available for purchase from 09:00 AM until 2:00PM. Water is provided by Long Island Airpark Home Owner’s Association. Field closes at 3:00 PM for non-residents. Please observe requests from road guards monitoring pedestrian traffic and the airboss monitoring arrivals and departures on 122.9.\nRunway 5-23 : 3000′ x 80′ grass (runway width reduced 20′ during fly-in)\nField Elevation: 864′\nFrequency 122.9\nAirport Identifier: NC26\nLat/Long: 35.66N / 80.97 W\nDuring the fly-in\, an airboss will provide traffic advisories. The preferred runway for landing is uphill on 23. Preferred departure runway is downhill 05. All arrivals and departures should monitor CTAF on 122.9 for advisories from the airboss. Field closes to the public at 3:00 PM.\nNo fuel is available on the field\, but can be purchased at nearby fields SVH\, 14A\, IPJ\, and HKY.\n8336 Chick Drive Catawba\, NC 28609\nInfo Available: https://longislandairport.org/annual-flyin/\nDownloadable Flyer: http://longislandairport.org/wp-content/uploads/2025/07/NC26flyin.pdf
URL:https://av8maps.com/event/long-island-airpark-fly-in-september-27th-rain-day-28th/2029-09-23/
LOCATION:Long Island Airpark\, 8336 Chick Drive Catawba\, NC 28609
ATTACH;FMTTYPE=image/jpeg:https://av8maps.com/wp-content/uploads/2025/09/Long-Island-Airpark-31st-annual-e1758479170241.jpg
GEO:35.6609449;-80.9740696
X-APPLE-STRUCTURED-LOCATION;VALUE=URI;X-ADDRESS=Long Island Airpark 8336 Chick Drive Catawba NC 28609;X-APPLE-RADIUS=500;X-TITLE=8336 Chick Drive Catawba\, NC 28609:geo:-80.9740696,35.6609449
END:VEVENT
BEGIN:VEVENT
DTSTART;TZID=America/New_York:20300922T090000
DTEND;TZID=America/New_York:20300922T150000
DTSTAMP:20260423T164815
CREATED:20250905T004028Z
LAST-MODIFIED:20251101T221158Z
UID:10004420-1916298000-1916319600@av8maps.com
SUMMARY:Annual Long Island Airpark Fly-In (NC26)
DESCRIPTION:LONG ISLAND AIRPARK ANNUAL FLY-IN \nFor Rain Date Information\, call 877-FLY-NC26 (877-359-6626)\nRain Day is typically the next day on Sunday\n“FLY ON IN FOR SOME GOOD PLANE FUN”\nFood\, drinks\, and shirts are available for purchase from 09:00 AM until 2:00PM. Water is provided by Long Island Airpark Home Owner’s Association. Field closes at 3:00 PM for non-residents. Please observe requests from road guards monitoring pedestrian traffic and the airboss monitoring arrivals and departures on 122.9.\nRunway 5-23 : 3000′ x 80′ grass (runway width reduced 20′ during fly-in)\nField Elevation: 864′\nFrequency 122.9\nAirport Identifier: NC26\nLat/Long: 35.66N / 80.97 W\nDuring the fly-in\, an airboss will provide traffic advisories. The preferred runway for landing is uphill on 23. Preferred departure runway is downhill 05. All arrivals and departures should monitor CTAF on 122.9 for advisories from the airboss. Field closes to the public at 3:00 PM.\nNo fuel is available on the field\, but can be purchased at nearby fields SVH\, 14A\, IPJ\, and HKY.\n8336 Chick Drive Catawba\, NC 28609\nInfo Available: https://longislandairport.org/annual-flyin/\nDownloadable Flyer: http://longislandairport.org/wp-content/uploads/2025/07/NC26flyin.pdf
URL:https://av8maps.com/event/long-island-airpark-fly-in-september-27th-rain-day-28th/2030-09-22/
LOCATION:Long Island Airpark\, 8336 Chick Drive Catawba\, NC 28609
ATTACH;FMTTYPE=image/jpeg:https://av8maps.com/wp-content/uploads/2025/09/Long-Island-Airpark-31st-annual-e1758479170241.jpg
GEO:35.6609449;-80.9740696
X-APPLE-STRUCTURED-LOCATION;VALUE=URI;X-ADDRESS=Long Island Airpark 8336 Chick Drive Catawba NC 28609;X-APPLE-RADIUS=500;X-TITLE=8336 Chick Drive Catawba\, NC 28609:geo:-80.9740696,35.6609449
END:VEVENT
END:VCALENDAR