BEGIN:VCALENDAR
VERSION:2.0
PRODID:-//AV8MAPS.COM - ECPv6.15.20//NONSGML v1.0//EN
CALSCALE:GREGORIAN
METHOD:PUBLISH
X-WR-CALNAME:AV8MAPS.COM
X-ORIGINAL-URL:https://av8maps.com
X-WR-CALDESC:Events for AV8MAPS.COM
REFRESH-INTERVAL;VALUE=DURATION:PT1H
X-Robots-Tag:noindex
X-PUBLISHED-TTL:PT1H
BEGIN:VTIMEZONE
TZID:America/New_York
BEGIN:DAYLIGHT
TZOFFSETFROM:-0500
TZOFFSETTO:-0400
TZNAME:EDT
DTSTART:20250309T070000
END:DAYLIGHT
BEGIN:STANDARD
TZOFFSETFROM:-0400
TZOFFSETTO:-0500
TZNAME:EST
DTSTART:20251102T060000
END:STANDARD
BEGIN:DAYLIGHT
TZOFFSETFROM:-0500
TZOFFSETTO:-0400
TZNAME:EDT
DTSTART:20260308T070000
END:DAYLIGHT
BEGIN:STANDARD
TZOFFSETFROM:-0400
TZOFFSETTO:-0500
TZNAME:EST
DTSTART:20261101T060000
END:STANDARD
BEGIN:DAYLIGHT
TZOFFSETFROM:-0500
TZOFFSETTO:-0400
TZNAME:EDT
DTSTART:20270314T070000
END:DAYLIGHT
BEGIN:STANDARD
TZOFFSETFROM:-0400
TZOFFSETTO:-0500
TZNAME:EST
DTSTART:20271107T060000
END:STANDARD
BEGIN:DAYLIGHT
TZOFFSETFROM:-0500
TZOFFSETTO:-0400
TZNAME:EDT
DTSTART:20280312T070000
END:DAYLIGHT
BEGIN:STANDARD
TZOFFSETFROM:-0400
TZOFFSETTO:-0500
TZNAME:EST
DTSTART:20281105T060000
END:STANDARD
BEGIN:DAYLIGHT
TZOFFSETFROM:-0500
TZOFFSETTO:-0400
TZNAME:EDT
DTSTART:20290311T070000
END:DAYLIGHT
BEGIN:STANDARD
TZOFFSETFROM:-0400
TZOFFSETTO:-0500
TZNAME:EST
DTSTART:20291104T060000
END:STANDARD
BEGIN:DAYLIGHT
TZOFFSETFROM:-0500
TZOFFSETTO:-0400
TZNAME:EDT
DTSTART:20300310T070000
END:DAYLIGHT
BEGIN:STANDARD
TZOFFSETFROM:-0400
TZOFFSETTO:-0500
TZNAME:EST
DTSTART:20301103T060000
END:STANDARD
BEGIN:DAYLIGHT
TZOFFSETFROM:-0500
TZOFFSETTO:-0400
TZNAME:EDT
DTSTART:20310309T070000
END:DAYLIGHT
BEGIN:STANDARD
TZOFFSETFROM:-0400
TZOFFSETTO:-0500
TZNAME:EST
DTSTART:20311102T060000
END:STANDARD
END:VTIMEZONE
BEGIN:VEVENT
DTSTART;TZID=America/New_York:20260926T100000
DTEND;TZID=America/New_York:20260926T140000
DTSTAMP:20260425T113805
CREATED:20250720T164909Z
LAST-MODIFIED:20251101T221433Z
UID:10004421-1790416800-1790431200@av8maps.com
SUMMARY:Annual American Honor Foundation Fly-In & Car Show (17FL)
DESCRIPTION:We are pleased to announce our annual Warbird Fly-In & Car Show! \nIf you have any questions\, please reach out to number on the flyer or message us on Facebook!
URL:https://av8maps.com/event/ahf-fly-in-warbird/2026-09-26/
LOCATION:American Honor Foundation\, 8851 W Anthony Rd\, Ocala\, FL 34479
ATTACH;FMTTYPE=image/jpeg:https://av8maps.com/wp-content/uploads/2025/07/American-Honor-Foundation-Warbirds-e1758480844669.jpg
GEO:29.280492;-82.122912
X-APPLE-STRUCTURED-LOCATION;VALUE=URI;X-ADDRESS=American Honor Foundation 8851 W Anthony Rd Ocala FL 34479;X-APPLE-RADIUS=500;X-TITLE=8851 W Anthony Rd\, Ocala\, FL 34479:geo:-82.122912,29.280492
END:VEVENT
BEGIN:VEVENT
DTSTART;TZID=America/New_York:20270925T100000
DTEND;TZID=America/New_York:20270925T140000
DTSTAMP:20260425T113805
CREATED:20250720T164909Z
LAST-MODIFIED:20251101T221433Z
UID:10004422-1821866400-1821880800@av8maps.com
SUMMARY:Annual American Honor Foundation Fly-In & Car Show (17FL)
DESCRIPTION:We are pleased to announce our annual Warbird Fly-In & Car Show! \nIf you have any questions\, please reach out to number on the flyer or message us on Facebook!
URL:https://av8maps.com/event/ahf-fly-in-warbird/2027-09-25/
LOCATION:American Honor Foundation\, 8851 W Anthony Rd\, Ocala\, FL 34479
ATTACH;FMTTYPE=image/jpeg:https://av8maps.com/wp-content/uploads/2025/07/American-Honor-Foundation-Warbirds-e1758480844669.jpg
GEO:29.280492;-82.122912
X-APPLE-STRUCTURED-LOCATION;VALUE=URI;X-ADDRESS=American Honor Foundation 8851 W Anthony Rd Ocala FL 34479;X-APPLE-RADIUS=500;X-TITLE=8851 W Anthony Rd\, Ocala\, FL 34479:geo:-82.122912,29.280492
END:VEVENT
BEGIN:VEVENT
DTSTART;TZID=America/New_York:20280923T100000
DTEND;TZID=America/New_York:20280923T140000
DTSTAMP:20260425T113805
CREATED:20250720T164909Z
LAST-MODIFIED:20251101T221433Z
UID:10004423-1853316000-1853330400@av8maps.com
SUMMARY:Annual American Honor Foundation Fly-In & Car Show (17FL)
DESCRIPTION:We are pleased to announce our annual Warbird Fly-In & Car Show! \nIf you have any questions\, please reach out to number on the flyer or message us on Facebook!
URL:https://av8maps.com/event/ahf-fly-in-warbird/2028-09-23/
LOCATION:American Honor Foundation\, 8851 W Anthony Rd\, Ocala\, FL 34479
ATTACH;FMTTYPE=image/jpeg:https://av8maps.com/wp-content/uploads/2025/07/American-Honor-Foundation-Warbirds-e1758480844669.jpg
GEO:29.280492;-82.122912
X-APPLE-STRUCTURED-LOCATION;VALUE=URI;X-ADDRESS=American Honor Foundation 8851 W Anthony Rd Ocala FL 34479;X-APPLE-RADIUS=500;X-TITLE=8851 W Anthony Rd\, Ocala\, FL 34479:geo:-82.122912,29.280492
END:VEVENT
BEGIN:VEVENT
DTSTART;TZID=America/New_York:20290922T100000
DTEND;TZID=America/New_York:20290922T140000
DTSTAMP:20260425T113805
CREATED:20250720T164909Z
LAST-MODIFIED:20251101T221433Z
UID:10004424-1884765600-1884780000@av8maps.com
SUMMARY:Annual American Honor Foundation Fly-In & Car Show (17FL)
DESCRIPTION:We are pleased to announce our annual Warbird Fly-In & Car Show! \nIf you have any questions\, please reach out to number on the flyer or message us on Facebook!
URL:https://av8maps.com/event/ahf-fly-in-warbird/2029-09-22/
LOCATION:American Honor Foundation\, 8851 W Anthony Rd\, Ocala\, FL 34479
ATTACH;FMTTYPE=image/jpeg:https://av8maps.com/wp-content/uploads/2025/07/American-Honor-Foundation-Warbirds-e1758480844669.jpg
GEO:29.280492;-82.122912
X-APPLE-STRUCTURED-LOCATION;VALUE=URI;X-ADDRESS=American Honor Foundation 8851 W Anthony Rd Ocala FL 34479;X-APPLE-RADIUS=500;X-TITLE=8851 W Anthony Rd\, Ocala\, FL 34479:geo:-82.122912,29.280492
END:VEVENT
BEGIN:VEVENT
DTSTART;TZID=America/New_York:20300928T100000
DTEND;TZID=America/New_York:20300928T140000
DTSTAMP:20260425T113805
CREATED:20250720T164909Z
LAST-MODIFIED:20251101T221433Z
UID:10004425-1916820000-1916834400@av8maps.com
SUMMARY:Annual American Honor Foundation Fly-In & Car Show (17FL)
DESCRIPTION:We are pleased to announce our annual Warbird Fly-In & Car Show! \nIf you have any questions\, please reach out to number on the flyer or message us on Facebook!
URL:https://av8maps.com/event/ahf-fly-in-warbird/2030-09-28/
LOCATION:American Honor Foundation\, 8851 W Anthony Rd\, Ocala\, FL 34479
ATTACH;FMTTYPE=image/jpeg:https://av8maps.com/wp-content/uploads/2025/07/American-Honor-Foundation-Warbirds-e1758480844669.jpg
GEO:29.280492;-82.122912
X-APPLE-STRUCTURED-LOCATION;VALUE=URI;X-ADDRESS=American Honor Foundation 8851 W Anthony Rd Ocala FL 34479;X-APPLE-RADIUS=500;X-TITLE=8851 W Anthony Rd\, Ocala\, FL 34479:geo:-82.122912,29.280492
END:VEVENT
END:VCALENDAR