BEGIN:VCALENDAR
VERSION:2.0
PRODID:-//AV8MAPS.COM - ECPv6.15.20//NONSGML v1.0//EN
CALSCALE:GREGORIAN
METHOD:PUBLISH
X-WR-CALNAME:AV8MAPS.COM
X-ORIGINAL-URL:https://av8maps.com
X-WR-CALDESC:Events for AV8MAPS.COM
REFRESH-INTERVAL;VALUE=DURATION:PT1H
X-Robots-Tag:noindex
X-PUBLISHED-TTL:PT1H
BEGIN:VTIMEZONE
TZID:America/New_York
BEGIN:DAYLIGHT
TZOFFSETFROM:-0500
TZOFFSETTO:-0400
TZNAME:EDT
DTSTART:20250309T070000
END:DAYLIGHT
BEGIN:STANDARD
TZOFFSETFROM:-0400
TZOFFSETTO:-0500
TZNAME:EST
DTSTART:20251102T060000
END:STANDARD
BEGIN:DAYLIGHT
TZOFFSETFROM:-0500
TZOFFSETTO:-0400
TZNAME:EDT
DTSTART:20260308T070000
END:DAYLIGHT
BEGIN:STANDARD
TZOFFSETFROM:-0400
TZOFFSETTO:-0500
TZNAME:EST
DTSTART:20261101T060000
END:STANDARD
BEGIN:DAYLIGHT
TZOFFSETFROM:-0500
TZOFFSETTO:-0400
TZNAME:EDT
DTSTART:20270314T070000
END:DAYLIGHT
BEGIN:STANDARD
TZOFFSETFROM:-0400
TZOFFSETTO:-0500
TZNAME:EST
DTSTART:20271107T060000
END:STANDARD
BEGIN:DAYLIGHT
TZOFFSETFROM:-0500
TZOFFSETTO:-0400
TZNAME:EDT
DTSTART:20280312T070000
END:DAYLIGHT
BEGIN:STANDARD
TZOFFSETFROM:-0400
TZOFFSETTO:-0500
TZNAME:EST
DTSTART:20281105T060000
END:STANDARD
BEGIN:DAYLIGHT
TZOFFSETFROM:-0500
TZOFFSETTO:-0400
TZNAME:EDT
DTSTART:20290311T070000
END:DAYLIGHT
BEGIN:STANDARD
TZOFFSETFROM:-0400
TZOFFSETTO:-0500
TZNAME:EST
DTSTART:20291104T060000
END:STANDARD
BEGIN:DAYLIGHT
TZOFFSETFROM:-0500
TZOFFSETTO:-0400
TZNAME:EDT
DTSTART:20300310T070000
END:DAYLIGHT
BEGIN:STANDARD
TZOFFSETFROM:-0400
TZOFFSETTO:-0500
TZNAME:EST
DTSTART:20301103T060000
END:STANDARD
BEGIN:DAYLIGHT
TZOFFSETFROM:-0500
TZOFFSETTO:-0400
TZNAME:EDT
DTSTART:20310309T070000
END:DAYLIGHT
BEGIN:STANDARD
TZOFFSETFROM:-0400
TZOFFSETTO:-0500
TZNAME:EST
DTSTART:20311102T060000
END:STANDARD
END:VTIMEZONE
BEGIN:VEVENT
DTSTART;TZID=America/New_York:20260926T110000
DTEND;TZID=America/New_York:20260926T140000
DTSTAMP:20260423T015711
CREATED:20250914T220252Z
LAST-MODIFIED:20251101T221934Z
UID:10004431-1790420400-1790431200@av8maps.com
SUMMARY:Field of Dreams Fall Fly-in BBQ
DESCRIPTION:Fly or drive to the Eton Rugby Airport for the annual Eton Rugby Airport Fall Fly-in BBQ!\nThe Eton Rugby Airport (AKA The Field of Dreams) is 8-1/2nm west of CYHD Dryden airport\, and has a 2100’ groomed grass runway (09-27) at an elevation of 1275’ASL\nThe GPS coordinates for the Field of Dreams are: 49.88N 92.95W and the Aerodrome Traffic Frequency (ATF) for this event will be 123.2\nThe Dryden AWOS is 128.7\nAnd the Dryden airport MF is 122.1 (5nm 4300’asl)\nThe Dryden airport has 100LL available and a courtesy car at the FBO.\nThere’s lots of room for parking and underwing camping and there are accommodations available at the Field of Dreams for anyone interested in spending the night and joining us at the very popular Saturday night bonfires 🔥\nThe cabin has lots of room\, and there is our 27’ camper on site\, so there’s places to stay for pilots who would like to.\nFor more information or to reserve accommodation PM me or shoot me an email at drydenflyguy@gmail.com
URL:https://av8maps.com/event/field-of-dreams-fall-fly-in-bbq/2026-09-26/
LOCATION:ETON RUGBY AIRPORT\, 49.874565\, -92.954379
ATTACH;FMTTYPE=image/jpeg:https://av8maps.com/wp-content/uploads/2025/09/Eton-Rugdy-e1758485615262.jpg
GEO:49.8733338;-92.9568158
X-APPLE-STRUCTURED-LOCATION;VALUE=URI;X-ADDRESS=ETON RUGBY AIRPORT 49.874565 -92.954379;X-APPLE-RADIUS=500;X-TITLE=49.874565\, -92.954379:geo:-92.9568158,49.8733338
END:VEVENT
BEGIN:VEVENT
DTSTART;TZID=America/New_York:20270925T110000
DTEND;TZID=America/New_York:20270925T140000
DTSTAMP:20260423T015711
CREATED:20250914T220252Z
LAST-MODIFIED:20251101T221934Z
UID:10004432-1821870000-1821880800@av8maps.com
SUMMARY:Field of Dreams Fall Fly-in BBQ
DESCRIPTION:Fly or drive to the Eton Rugby Airport for the annual Eton Rugby Airport Fall Fly-in BBQ!\nThe Eton Rugby Airport (AKA The Field of Dreams) is 8-1/2nm west of CYHD Dryden airport\, and has a 2100’ groomed grass runway (09-27) at an elevation of 1275’ASL\nThe GPS coordinates for the Field of Dreams are: 49.88N 92.95W and the Aerodrome Traffic Frequency (ATF) for this event will be 123.2\nThe Dryden AWOS is 128.7\nAnd the Dryden airport MF is 122.1 (5nm 4300’asl)\nThe Dryden airport has 100LL available and a courtesy car at the FBO.\nThere’s lots of room for parking and underwing camping and there are accommodations available at the Field of Dreams for anyone interested in spending the night and joining us at the very popular Saturday night bonfires 🔥\nThe cabin has lots of room\, and there is our 27’ camper on site\, so there’s places to stay for pilots who would like to.\nFor more information or to reserve accommodation PM me or shoot me an email at drydenflyguy@gmail.com
URL:https://av8maps.com/event/field-of-dreams-fall-fly-in-bbq/2027-09-25/
LOCATION:ETON RUGBY AIRPORT\, 49.874565\, -92.954379
ATTACH;FMTTYPE=image/jpeg:https://av8maps.com/wp-content/uploads/2025/09/Eton-Rugdy-e1758485615262.jpg
GEO:49.8733338;-92.9568158
X-APPLE-STRUCTURED-LOCATION;VALUE=URI;X-ADDRESS=ETON RUGBY AIRPORT 49.874565 -92.954379;X-APPLE-RADIUS=500;X-TITLE=49.874565\, -92.954379:geo:-92.9568158,49.8733338
END:VEVENT
BEGIN:VEVENT
DTSTART;TZID=America/New_York:20280923T110000
DTEND;TZID=America/New_York:20280923T140000
DTSTAMP:20260423T015711
CREATED:20250914T220252Z
LAST-MODIFIED:20251101T221934Z
UID:10004433-1853319600-1853330400@av8maps.com
SUMMARY:Field of Dreams Fall Fly-in BBQ
DESCRIPTION:Fly or drive to the Eton Rugby Airport for the annual Eton Rugby Airport Fall Fly-in BBQ!\nThe Eton Rugby Airport (AKA The Field of Dreams) is 8-1/2nm west of CYHD Dryden airport\, and has a 2100’ groomed grass runway (09-27) at an elevation of 1275’ASL\nThe GPS coordinates for the Field of Dreams are: 49.88N 92.95W and the Aerodrome Traffic Frequency (ATF) for this event will be 123.2\nThe Dryden AWOS is 128.7\nAnd the Dryden airport MF is 122.1 (5nm 4300’asl)\nThe Dryden airport has 100LL available and a courtesy car at the FBO.\nThere’s lots of room for parking and underwing camping and there are accommodations available at the Field of Dreams for anyone interested in spending the night and joining us at the very popular Saturday night bonfires 🔥\nThe cabin has lots of room\, and there is our 27’ camper on site\, so there’s places to stay for pilots who would like to.\nFor more information or to reserve accommodation PM me or shoot me an email at drydenflyguy@gmail.com
URL:https://av8maps.com/event/field-of-dreams-fall-fly-in-bbq/2028-09-23/
LOCATION:ETON RUGBY AIRPORT\, 49.874565\, -92.954379
ATTACH;FMTTYPE=image/jpeg:https://av8maps.com/wp-content/uploads/2025/09/Eton-Rugdy-e1758485615262.jpg
GEO:49.8733338;-92.9568158
X-APPLE-STRUCTURED-LOCATION;VALUE=URI;X-ADDRESS=ETON RUGBY AIRPORT 49.874565 -92.954379;X-APPLE-RADIUS=500;X-TITLE=49.874565\, -92.954379:geo:-92.9568158,49.8733338
END:VEVENT
BEGIN:VEVENT
DTSTART;TZID=America/New_York:20290922T110000
DTEND;TZID=America/New_York:20290922T140000
DTSTAMP:20260423T015711
CREATED:20250914T220252Z
LAST-MODIFIED:20251101T221934Z
UID:10004434-1884769200-1884780000@av8maps.com
SUMMARY:Field of Dreams Fall Fly-in BBQ
DESCRIPTION:Fly or drive to the Eton Rugby Airport for the annual Eton Rugby Airport Fall Fly-in BBQ!\nThe Eton Rugby Airport (AKA The Field of Dreams) is 8-1/2nm west of CYHD Dryden airport\, and has a 2100’ groomed grass runway (09-27) at an elevation of 1275’ASL\nThe GPS coordinates for the Field of Dreams are: 49.88N 92.95W and the Aerodrome Traffic Frequency (ATF) for this event will be 123.2\nThe Dryden AWOS is 128.7\nAnd the Dryden airport MF is 122.1 (5nm 4300’asl)\nThe Dryden airport has 100LL available and a courtesy car at the FBO.\nThere’s lots of room for parking and underwing camping and there are accommodations available at the Field of Dreams for anyone interested in spending the night and joining us at the very popular Saturday night bonfires 🔥\nThe cabin has lots of room\, and there is our 27’ camper on site\, so there’s places to stay for pilots who would like to.\nFor more information or to reserve accommodation PM me or shoot me an email at drydenflyguy@gmail.com
URL:https://av8maps.com/event/field-of-dreams-fall-fly-in-bbq/2029-09-22/
LOCATION:ETON RUGBY AIRPORT\, 49.874565\, -92.954379
ATTACH;FMTTYPE=image/jpeg:https://av8maps.com/wp-content/uploads/2025/09/Eton-Rugdy-e1758485615262.jpg
GEO:49.8733338;-92.9568158
X-APPLE-STRUCTURED-LOCATION;VALUE=URI;X-ADDRESS=ETON RUGBY AIRPORT 49.874565 -92.954379;X-APPLE-RADIUS=500;X-TITLE=49.874565\, -92.954379:geo:-92.9568158,49.8733338
END:VEVENT
BEGIN:VEVENT
DTSTART;TZID=America/New_York:20300928T110000
DTEND;TZID=America/New_York:20300928T140000
DTSTAMP:20260423T015711
CREATED:20250914T220252Z
LAST-MODIFIED:20251101T221934Z
UID:10004435-1916823600-1916834400@av8maps.com
SUMMARY:Field of Dreams Fall Fly-in BBQ
DESCRIPTION:Fly or drive to the Eton Rugby Airport for the annual Eton Rugby Airport Fall Fly-in BBQ!\nThe Eton Rugby Airport (AKA The Field of Dreams) is 8-1/2nm west of CYHD Dryden airport\, and has a 2100’ groomed grass runway (09-27) at an elevation of 1275’ASL\nThe GPS coordinates for the Field of Dreams are: 49.88N 92.95W and the Aerodrome Traffic Frequency (ATF) for this event will be 123.2\nThe Dryden AWOS is 128.7\nAnd the Dryden airport MF is 122.1 (5nm 4300’asl)\nThe Dryden airport has 100LL available and a courtesy car at the FBO.\nThere’s lots of room for parking and underwing camping and there are accommodations available at the Field of Dreams for anyone interested in spending the night and joining us at the very popular Saturday night bonfires 🔥\nThe cabin has lots of room\, and there is our 27’ camper on site\, so there’s places to stay for pilots who would like to.\nFor more information or to reserve accommodation PM me or shoot me an email at drydenflyguy@gmail.com
URL:https://av8maps.com/event/field-of-dreams-fall-fly-in-bbq/2030-09-28/
LOCATION:ETON RUGBY AIRPORT\, 49.874565\, -92.954379
ATTACH;FMTTYPE=image/jpeg:https://av8maps.com/wp-content/uploads/2025/09/Eton-Rugdy-e1758485615262.jpg
GEO:49.8733338;-92.9568158
X-APPLE-STRUCTURED-LOCATION;VALUE=URI;X-ADDRESS=ETON RUGBY AIRPORT 49.874565 -92.954379;X-APPLE-RADIUS=500;X-TITLE=49.874565\, -92.954379:geo:-92.9568158,49.8733338
END:VEVENT
END:VCALENDAR