BEGIN:VCALENDAR
VERSION:2.0
PRODID:-//AV8MAPS.COM - ECPv6.15.20//NONSGML v1.0//EN
CALSCALE:GREGORIAN
METHOD:PUBLISH
X-WR-CALNAME:AV8MAPS.COM
X-ORIGINAL-URL:https://av8maps.com
X-WR-CALDESC:Events for AV8MAPS.COM
REFRESH-INTERVAL;VALUE=DURATION:PT1H
X-Robots-Tag:noindex
X-PUBLISHED-TTL:PT1H
BEGIN:VTIMEZONE
TZID:America/New_York
BEGIN:DAYLIGHT
TZOFFSETFROM:-0500
TZOFFSETTO:-0400
TZNAME:EDT
DTSTART:20250309T070000
END:DAYLIGHT
BEGIN:STANDARD
TZOFFSETFROM:-0400
TZOFFSETTO:-0500
TZNAME:EST
DTSTART:20251102T060000
END:STANDARD
BEGIN:DAYLIGHT
TZOFFSETFROM:-0500
TZOFFSETTO:-0400
TZNAME:EDT
DTSTART:20260308T070000
END:DAYLIGHT
BEGIN:STANDARD
TZOFFSETFROM:-0400
TZOFFSETTO:-0500
TZNAME:EST
DTSTART:20261101T060000
END:STANDARD
BEGIN:DAYLIGHT
TZOFFSETFROM:-0500
TZOFFSETTO:-0400
TZNAME:EDT
DTSTART:20270314T070000
END:DAYLIGHT
BEGIN:STANDARD
TZOFFSETFROM:-0400
TZOFFSETTO:-0500
TZNAME:EST
DTSTART:20271107T060000
END:STANDARD
BEGIN:DAYLIGHT
TZOFFSETFROM:-0500
TZOFFSETTO:-0400
TZNAME:EDT
DTSTART:20280312T070000
END:DAYLIGHT
BEGIN:STANDARD
TZOFFSETFROM:-0400
TZOFFSETTO:-0500
TZNAME:EST
DTSTART:20281105T060000
END:STANDARD
BEGIN:DAYLIGHT
TZOFFSETFROM:-0500
TZOFFSETTO:-0400
TZNAME:EDT
DTSTART:20290311T070000
END:DAYLIGHT
BEGIN:STANDARD
TZOFFSETFROM:-0400
TZOFFSETTO:-0500
TZNAME:EST
DTSTART:20291104T060000
END:STANDARD
BEGIN:DAYLIGHT
TZOFFSETFROM:-0500
TZOFFSETTO:-0400
TZNAME:EDT
DTSTART:20300310T070000
END:DAYLIGHT
BEGIN:STANDARD
TZOFFSETFROM:-0400
TZOFFSETTO:-0500
TZNAME:EST
DTSTART:20301103T060000
END:STANDARD
BEGIN:DAYLIGHT
TZOFFSETFROM:-0500
TZOFFSETTO:-0400
TZNAME:EDT
DTSTART:20310309T070000
END:DAYLIGHT
BEGIN:STANDARD
TZOFFSETFROM:-0400
TZOFFSETTO:-0500
TZNAME:EST
DTSTART:20311102T060000
END:STANDARD
END:VTIMEZONE
BEGIN:VEVENT
DTSTART;TZID=America/New_York:20260926T120000
DTEND;TZID=America/New_York:20260926T170000
DTSTAMP:20260423T085702
CREATED:20250921T211128Z
LAST-MODIFIED:20251101T222257Z
UID:10004441-1790424000-1790442000@av8maps.com
SUMMARY:Annual Cabot Cheese & Culture Festival (VT62)
DESCRIPTION:Camping with your plane available Friday and Saturday night. \nFor more info contact Will Amenden 1-802-917-1162.
URL:https://av8maps.com/event/3rd-annual-cabot-cheese-culture-festival-vt62/2026-09-26/
LOCATION:Catamount Airfield\, 1009 Ducharme Rd\, Marshfield\, VT 05658
ATTACH;FMTTYPE=image/jpeg:https://av8maps.com/wp-content/uploads/2025/09/Catamount-airfield-fly-in-1-e1758489074676.jpg
GEO:44.3871051;-72.3504217
X-APPLE-STRUCTURED-LOCATION;VALUE=URI;X-ADDRESS=Catamount Airfield 1009 Ducharme Rd Marshfield VT 05658;X-APPLE-RADIUS=500;X-TITLE=1009 Ducharme Rd\, Marshfield\, VT 05658:geo:-72.3504217,44.3871051
END:VEVENT
BEGIN:VEVENT
DTSTART;TZID=America/New_York:20270925T120000
DTEND;TZID=America/New_York:20270925T170000
DTSTAMP:20260423T085702
CREATED:20250921T211128Z
LAST-MODIFIED:20251101T222257Z
UID:10004442-1821873600-1821891600@av8maps.com
SUMMARY:Annual Cabot Cheese & Culture Festival (VT62)
DESCRIPTION:Camping with your plane available Friday and Saturday night. \nFor more info contact Will Amenden 1-802-917-1162.
URL:https://av8maps.com/event/3rd-annual-cabot-cheese-culture-festival-vt62/2027-09-25/
LOCATION:Catamount Airfield\, 1009 Ducharme Rd\, Marshfield\, VT 05658
ATTACH;FMTTYPE=image/jpeg:https://av8maps.com/wp-content/uploads/2025/09/Catamount-airfield-fly-in-1-e1758489074676.jpg
GEO:44.3871051;-72.3504217
X-APPLE-STRUCTURED-LOCATION;VALUE=URI;X-ADDRESS=Catamount Airfield 1009 Ducharme Rd Marshfield VT 05658;X-APPLE-RADIUS=500;X-TITLE=1009 Ducharme Rd\, Marshfield\, VT 05658:geo:-72.3504217,44.3871051
END:VEVENT
BEGIN:VEVENT
DTSTART;TZID=America/New_York:20280923T120000
DTEND;TZID=America/New_York:20280923T170000
DTSTAMP:20260423T085702
CREATED:20250921T211128Z
LAST-MODIFIED:20251101T222257Z
UID:10004443-1853323200-1853341200@av8maps.com
SUMMARY:Annual Cabot Cheese & Culture Festival (VT62)
DESCRIPTION:Camping with your plane available Friday and Saturday night. \nFor more info contact Will Amenden 1-802-917-1162.
URL:https://av8maps.com/event/3rd-annual-cabot-cheese-culture-festival-vt62/2028-09-23/
LOCATION:Catamount Airfield\, 1009 Ducharme Rd\, Marshfield\, VT 05658
ATTACH;FMTTYPE=image/jpeg:https://av8maps.com/wp-content/uploads/2025/09/Catamount-airfield-fly-in-1-e1758489074676.jpg
GEO:44.3871051;-72.3504217
X-APPLE-STRUCTURED-LOCATION;VALUE=URI;X-ADDRESS=Catamount Airfield 1009 Ducharme Rd Marshfield VT 05658;X-APPLE-RADIUS=500;X-TITLE=1009 Ducharme Rd\, Marshfield\, VT 05658:geo:-72.3504217,44.3871051
END:VEVENT
BEGIN:VEVENT
DTSTART;TZID=America/New_York:20290922T120000
DTEND;TZID=America/New_York:20290922T170000
DTSTAMP:20260423T085702
CREATED:20250921T211128Z
LAST-MODIFIED:20251101T222257Z
UID:10004444-1884772800-1884790800@av8maps.com
SUMMARY:Annual Cabot Cheese & Culture Festival (VT62)
DESCRIPTION:Camping with your plane available Friday and Saturday night. \nFor more info contact Will Amenden 1-802-917-1162.
URL:https://av8maps.com/event/3rd-annual-cabot-cheese-culture-festival-vt62/2029-09-22/
LOCATION:Catamount Airfield\, 1009 Ducharme Rd\, Marshfield\, VT 05658
ATTACH;FMTTYPE=image/jpeg:https://av8maps.com/wp-content/uploads/2025/09/Catamount-airfield-fly-in-1-e1758489074676.jpg
GEO:44.3871051;-72.3504217
X-APPLE-STRUCTURED-LOCATION;VALUE=URI;X-ADDRESS=Catamount Airfield 1009 Ducharme Rd Marshfield VT 05658;X-APPLE-RADIUS=500;X-TITLE=1009 Ducharme Rd\, Marshfield\, VT 05658:geo:-72.3504217,44.3871051
END:VEVENT
BEGIN:VEVENT
DTSTART;TZID=America/New_York:20300928T120000
DTEND;TZID=America/New_York:20300928T170000
DTSTAMP:20260423T085702
CREATED:20250921T211128Z
LAST-MODIFIED:20251101T222257Z
UID:10004445-1916827200-1916845200@av8maps.com
SUMMARY:Annual Cabot Cheese & Culture Festival (VT62)
DESCRIPTION:Camping with your plane available Friday and Saturday night. \nFor more info contact Will Amenden 1-802-917-1162.
URL:https://av8maps.com/event/3rd-annual-cabot-cheese-culture-festival-vt62/2030-09-28/
LOCATION:Catamount Airfield\, 1009 Ducharme Rd\, Marshfield\, VT 05658
ATTACH;FMTTYPE=image/jpeg:https://av8maps.com/wp-content/uploads/2025/09/Catamount-airfield-fly-in-1-e1758489074676.jpg
GEO:44.3871051;-72.3504217
X-APPLE-STRUCTURED-LOCATION;VALUE=URI;X-ADDRESS=Catamount Airfield 1009 Ducharme Rd Marshfield VT 05658;X-APPLE-RADIUS=500;X-TITLE=1009 Ducharme Rd\, Marshfield\, VT 05658:geo:-72.3504217,44.3871051
END:VEVENT
END:VCALENDAR