BEGIN:VCALENDAR
VERSION:2.0
PRODID:-//AV8MAPS.COM - ECPv6.15.20//NONSGML v1.0//EN
CALSCALE:GREGORIAN
METHOD:PUBLISH
X-WR-CALNAME:AV8MAPS.COM
X-ORIGINAL-URL:https://av8maps.com
X-WR-CALDESC:Events for AV8MAPS.COM
REFRESH-INTERVAL;VALUE=DURATION:PT1H
X-Robots-Tag:noindex
X-PUBLISHED-TTL:PT1H
BEGIN:VTIMEZONE
TZID:America/New_York
BEGIN:DAYLIGHT
TZOFFSETFROM:-0500
TZOFFSETTO:-0400
TZNAME:EDT
DTSTART:20250309T070000
END:DAYLIGHT
BEGIN:STANDARD
TZOFFSETFROM:-0400
TZOFFSETTO:-0500
TZNAME:EST
DTSTART:20251102T060000
END:STANDARD
BEGIN:DAYLIGHT
TZOFFSETFROM:-0500
TZOFFSETTO:-0400
TZNAME:EDT
DTSTART:20260308T070000
END:DAYLIGHT
BEGIN:STANDARD
TZOFFSETFROM:-0400
TZOFFSETTO:-0500
TZNAME:EST
DTSTART:20261101T060000
END:STANDARD
BEGIN:DAYLIGHT
TZOFFSETFROM:-0500
TZOFFSETTO:-0400
TZNAME:EDT
DTSTART:20270314T070000
END:DAYLIGHT
BEGIN:STANDARD
TZOFFSETFROM:-0400
TZOFFSETTO:-0500
TZNAME:EST
DTSTART:20271107T060000
END:STANDARD
END:VTIMEZONE
BEGIN:VEVENT
DTSTART;TZID=America/New_York:20260517T110000
DTEND;TZID=America/New_York:20260517T150000
DTSTAMP:20260422T220716
CREATED:20250622T175150Z
LAST-MODIFIED:20251101T224249Z
UID:10004451-1779015600-1779030000@av8maps.com
SUMMARY:Clarion County Airport BBQ and Live Music (KAXQ)
DESCRIPTION:Fly-in or drive in to the Clarion County Airport for some BBQ!
URL:https://av8maps.com/event/clarion-county-airport-bbq-and-live-music-kaxq/2026-05-17/
LOCATION:Clarion County Airport\, 395 Airport Rd\, Shippenville\, PA 16254
ATTACH;FMTTYPE=image/jpeg:https://av8maps.com/wp-content/uploads/2025/06/Clarion-County-Airport-e1750614699834.jpg
GEO:41.2247571;-79.4415559
X-APPLE-STRUCTURED-LOCATION;VALUE=URI;X-ADDRESS=Clarion County Airport 395 Airport Rd Shippenville PA 16254;X-APPLE-RADIUS=500;X-TITLE=395 Airport Rd\, Shippenville\, PA 16254:geo:-79.4415559,41.2247571
END:VEVENT
BEGIN:VEVENT
DTSTART;TZID=America/New_York:20260621T110000
DTEND;TZID=America/New_York:20260621T150000
DTSTAMP:20260422T220716
CREATED:20250622T175150Z
LAST-MODIFIED:20251101T224249Z
UID:10004452-1782039600-1782054000@av8maps.com
SUMMARY:Clarion County Airport BBQ and Live Music (KAXQ)
DESCRIPTION:Fly-in or drive in to the Clarion County Airport for some BBQ!
URL:https://av8maps.com/event/clarion-county-airport-bbq-and-live-music-kaxq/2026-06-21/
LOCATION:Clarion County Airport\, 395 Airport Rd\, Shippenville\, PA 16254
ATTACH;FMTTYPE=image/jpeg:https://av8maps.com/wp-content/uploads/2025/06/Clarion-County-Airport-e1750614699834.jpg
GEO:41.2247571;-79.4415559
X-APPLE-STRUCTURED-LOCATION;VALUE=URI;X-ADDRESS=Clarion County Airport 395 Airport Rd Shippenville PA 16254;X-APPLE-RADIUS=500;X-TITLE=395 Airport Rd\, Shippenville\, PA 16254:geo:-79.4415559,41.2247571
END:VEVENT
BEGIN:VEVENT
DTSTART;TZID=America/New_York:20260719T110000
DTEND;TZID=America/New_York:20260719T150000
DTSTAMP:20260422T220716
CREATED:20250622T175150Z
LAST-MODIFIED:20251101T224249Z
UID:10004453-1784458800-1784473200@av8maps.com
SUMMARY:Clarion County Airport BBQ and Live Music (KAXQ)
DESCRIPTION:Fly-in or drive in to the Clarion County Airport for some BBQ!
URL:https://av8maps.com/event/clarion-county-airport-bbq-and-live-music-kaxq/2026-07-19/
LOCATION:Clarion County Airport\, 395 Airport Rd\, Shippenville\, PA 16254
ATTACH;FMTTYPE=image/jpeg:https://av8maps.com/wp-content/uploads/2025/06/Clarion-County-Airport-e1750614699834.jpg
GEO:41.2247571;-79.4415559
X-APPLE-STRUCTURED-LOCATION;VALUE=URI;X-ADDRESS=Clarion County Airport 395 Airport Rd Shippenville PA 16254;X-APPLE-RADIUS=500;X-TITLE=395 Airport Rd\, Shippenville\, PA 16254:geo:-79.4415559,41.2247571
END:VEVENT
BEGIN:VEVENT
DTSTART;TZID=America/New_York:20260816T110000
DTEND;TZID=America/New_York:20260816T150000
DTSTAMP:20260422T220716
CREATED:20250622T175150Z
LAST-MODIFIED:20251101T224249Z
UID:10004454-1786878000-1786892400@av8maps.com
SUMMARY:Clarion County Airport BBQ and Live Music (KAXQ)
DESCRIPTION:Fly-in or drive in to the Clarion County Airport for some BBQ!
URL:https://av8maps.com/event/clarion-county-airport-bbq-and-live-music-kaxq/2026-08-16/
LOCATION:Clarion County Airport\, 395 Airport Rd\, Shippenville\, PA 16254
ATTACH;FMTTYPE=image/jpeg:https://av8maps.com/wp-content/uploads/2025/06/Clarion-County-Airport-e1750614699834.jpg
GEO:41.2247571;-79.4415559
X-APPLE-STRUCTURED-LOCATION;VALUE=URI;X-ADDRESS=Clarion County Airport 395 Airport Rd Shippenville PA 16254;X-APPLE-RADIUS=500;X-TITLE=395 Airport Rd\, Shippenville\, PA 16254:geo:-79.4415559,41.2247571
END:VEVENT
BEGIN:VEVENT
DTSTART;TZID=America/New_York:20260920T110000
DTEND;TZID=America/New_York:20260920T150000
DTSTAMP:20260422T220716
CREATED:20250622T175150Z
LAST-MODIFIED:20251101T224249Z
UID:10004455-1789902000-1789916400@av8maps.com
SUMMARY:Clarion County Airport BBQ and Live Music (KAXQ)
DESCRIPTION:Fly-in or drive in to the Clarion County Airport for some BBQ!
URL:https://av8maps.com/event/clarion-county-airport-bbq-and-live-music-kaxq/2026-09-20/
LOCATION:Clarion County Airport\, 395 Airport Rd\, Shippenville\, PA 16254
ATTACH;FMTTYPE=image/jpeg:https://av8maps.com/wp-content/uploads/2025/06/Clarion-County-Airport-e1750614699834.jpg
GEO:41.2247571;-79.4415559
X-APPLE-STRUCTURED-LOCATION;VALUE=URI;X-ADDRESS=Clarion County Airport 395 Airport Rd Shippenville PA 16254;X-APPLE-RADIUS=500;X-TITLE=395 Airport Rd\, Shippenville\, PA 16254:geo:-79.4415559,41.2247571
END:VEVENT
END:VCALENDAR