BEGIN:VCALENDAR
VERSION:2.0
PRODID:-//AV8MAPS.COM - ECPv6.15.20//NONSGML v1.0//EN
CALSCALE:GREGORIAN
METHOD:PUBLISH
X-WR-CALNAME:AV8MAPS.COM
X-ORIGINAL-URL:https://av8maps.com
X-WR-CALDESC:Events for AV8MAPS.COM
REFRESH-INTERVAL;VALUE=DURATION:PT1H
X-Robots-Tag:noindex
X-PUBLISHED-TTL:PT1H
BEGIN:VTIMEZONE
TZID:America/New_York
BEGIN:DAYLIGHT
TZOFFSETFROM:-0500
TZOFFSETTO:-0400
TZNAME:EDT
DTSTART:20250309T070000
END:DAYLIGHT
BEGIN:STANDARD
TZOFFSETFROM:-0400
TZOFFSETTO:-0500
TZNAME:EST
DTSTART:20251102T060000
END:STANDARD
BEGIN:DAYLIGHT
TZOFFSETFROM:-0500
TZOFFSETTO:-0400
TZNAME:EDT
DTSTART:20260308T070000
END:DAYLIGHT
BEGIN:STANDARD
TZOFFSETFROM:-0400
TZOFFSETTO:-0500
TZNAME:EST
DTSTART:20261101T060000
END:STANDARD
BEGIN:DAYLIGHT
TZOFFSETFROM:-0500
TZOFFSETTO:-0400
TZNAME:EDT
DTSTART:20270314T070000
END:DAYLIGHT
BEGIN:STANDARD
TZOFFSETFROM:-0400
TZOFFSETTO:-0500
TZNAME:EST
DTSTART:20271107T060000
END:STANDARD
BEGIN:DAYLIGHT
TZOFFSETFROM:-0500
TZOFFSETTO:-0400
TZNAME:EDT
DTSTART:20280312T070000
END:DAYLIGHT
BEGIN:STANDARD
TZOFFSETFROM:-0400
TZOFFSETTO:-0500
TZNAME:EST
DTSTART:20281105T060000
END:STANDARD
BEGIN:DAYLIGHT
TZOFFSETFROM:-0500
TZOFFSETTO:-0400
TZNAME:EDT
DTSTART:20290311T070000
END:DAYLIGHT
BEGIN:STANDARD
TZOFFSETFROM:-0400
TZOFFSETTO:-0500
TZNAME:EST
DTSTART:20291104T060000
END:STANDARD
BEGIN:DAYLIGHT
TZOFFSETFROM:-0500
TZOFFSETTO:-0400
TZNAME:EDT
DTSTART:20300310T070000
END:DAYLIGHT
BEGIN:STANDARD
TZOFFSETFROM:-0400
TZOFFSETTO:-0500
TZNAME:EST
DTSTART:20301103T060000
END:STANDARD
BEGIN:DAYLIGHT
TZOFFSETFROM:-0500
TZOFFSETTO:-0400
TZNAME:EDT
DTSTART:20310309T070000
END:DAYLIGHT
BEGIN:STANDARD
TZOFFSETFROM:-0400
TZOFFSETTO:-0500
TZNAME:EST
DTSTART:20311102T060000
END:STANDARD
END:VTIMEZONE
BEGIN:VEVENT
DTSTART;TZID=America/New_York:20261003T150000
DTEND;TZID=America/New_York:20261003T170000
DTSTAMP:20260423T021920
CREATED:20250926T170312Z
LAST-MODIFIED:20251102T002207Z
UID:10004474-1791039600-1791046800@av8maps.com
SUMMARY:Annual Chili Cookoff (48D)
DESCRIPTION:Judging will be done by popular vote; each tester will get one vote for their favorite chili. \nFirst place winner will receive the traveling trophy for one year\, as bragging rights\, and their name engraved into the base of the trophy. \nGift Certificates will also be awarded to the top 3 vote getters. \nAnyone may bring a chili entry\, however you do not need to bring a chili to be a judge/taster. \nBYOR:  bring your own Rolaids!
URL:https://av8maps.com/event/27th-annual-chili-cookoff-48d/2026-10-03/
LOCATION:Clare Municipal Airport\, 10841 S Eberhart Ave\, Clare\, MI 48617
ATTACH;FMTTYPE=image/jpeg:https://av8maps.com/wp-content/uploads/2025/09/Clare-Municipal-48D-Chili-Cookoff-e1758905978765.jpg
GEO:43.8366108;-84.7482686
X-APPLE-STRUCTURED-LOCATION;VALUE=URI;X-ADDRESS=Clare Municipal Airport 10841 S Eberhart Ave Clare MI 48617;X-APPLE-RADIUS=500;X-TITLE=10841 S Eberhart Ave\, Clare\, MI 48617:geo:-84.7482686,43.8366108
END:VEVENT
BEGIN:VEVENT
DTSTART;TZID=America/New_York:20271002T150000
DTEND;TZID=America/New_York:20271002T170000
DTSTAMP:20260423T021920
CREATED:20250926T170312Z
LAST-MODIFIED:20251102T002207Z
UID:10004475-1822489200-1822496400@av8maps.com
SUMMARY:Annual Chili Cookoff (48D)
DESCRIPTION:Judging will be done by popular vote; each tester will get one vote for their favorite chili. \nFirst place winner will receive the traveling trophy for one year\, as bragging rights\, and their name engraved into the base of the trophy. \nGift Certificates will also be awarded to the top 3 vote getters. \nAnyone may bring a chili entry\, however you do not need to bring a chili to be a judge/taster. \nBYOR:  bring your own Rolaids!
URL:https://av8maps.com/event/27th-annual-chili-cookoff-48d/2027-10-02/
LOCATION:Clare Municipal Airport\, 10841 S Eberhart Ave\, Clare\, MI 48617
ATTACH;FMTTYPE=image/jpeg:https://av8maps.com/wp-content/uploads/2025/09/Clare-Municipal-48D-Chili-Cookoff-e1758905978765.jpg
GEO:43.8366108;-84.7482686
X-APPLE-STRUCTURED-LOCATION;VALUE=URI;X-ADDRESS=Clare Municipal Airport 10841 S Eberhart Ave Clare MI 48617;X-APPLE-RADIUS=500;X-TITLE=10841 S Eberhart Ave\, Clare\, MI 48617:geo:-84.7482686,43.8366108
END:VEVENT
BEGIN:VEVENT
DTSTART;TZID=America/New_York:20281007T150000
DTEND;TZID=America/New_York:20281007T170000
DTSTAMP:20260423T021920
CREATED:20250926T170312Z
LAST-MODIFIED:20251102T002207Z
UID:10004476-1854543600-1854550800@av8maps.com
SUMMARY:Annual Chili Cookoff (48D)
DESCRIPTION:Judging will be done by popular vote; each tester will get one vote for their favorite chili. \nFirst place winner will receive the traveling trophy for one year\, as bragging rights\, and their name engraved into the base of the trophy. \nGift Certificates will also be awarded to the top 3 vote getters. \nAnyone may bring a chili entry\, however you do not need to bring a chili to be a judge/taster. \nBYOR:  bring your own Rolaids!
URL:https://av8maps.com/event/27th-annual-chili-cookoff-48d/2028-10-07/
LOCATION:Clare Municipal Airport\, 10841 S Eberhart Ave\, Clare\, MI 48617
ATTACH;FMTTYPE=image/jpeg:https://av8maps.com/wp-content/uploads/2025/09/Clare-Municipal-48D-Chili-Cookoff-e1758905978765.jpg
GEO:43.8366108;-84.7482686
X-APPLE-STRUCTURED-LOCATION;VALUE=URI;X-ADDRESS=Clare Municipal Airport 10841 S Eberhart Ave Clare MI 48617;X-APPLE-RADIUS=500;X-TITLE=10841 S Eberhart Ave\, Clare\, MI 48617:geo:-84.7482686,43.8366108
END:VEVENT
BEGIN:VEVENT
DTSTART;TZID=America/New_York:20291006T150000
DTEND;TZID=America/New_York:20291006T170000
DTSTAMP:20260423T021920
CREATED:20250926T170312Z
LAST-MODIFIED:20251102T002207Z
UID:10004477-1885993200-1886000400@av8maps.com
SUMMARY:Annual Chili Cookoff (48D)
DESCRIPTION:Judging will be done by popular vote; each tester will get one vote for their favorite chili. \nFirst place winner will receive the traveling trophy for one year\, as bragging rights\, and their name engraved into the base of the trophy. \nGift Certificates will also be awarded to the top 3 vote getters. \nAnyone may bring a chili entry\, however you do not need to bring a chili to be a judge/taster. \nBYOR:  bring your own Rolaids!
URL:https://av8maps.com/event/27th-annual-chili-cookoff-48d/2029-10-06/
LOCATION:Clare Municipal Airport\, 10841 S Eberhart Ave\, Clare\, MI 48617
ATTACH;FMTTYPE=image/jpeg:https://av8maps.com/wp-content/uploads/2025/09/Clare-Municipal-48D-Chili-Cookoff-e1758905978765.jpg
GEO:43.8366108;-84.7482686
X-APPLE-STRUCTURED-LOCATION;VALUE=URI;X-ADDRESS=Clare Municipal Airport 10841 S Eberhart Ave Clare MI 48617;X-APPLE-RADIUS=500;X-TITLE=10841 S Eberhart Ave\, Clare\, MI 48617:geo:-84.7482686,43.8366108
END:VEVENT
BEGIN:VEVENT
DTSTART;TZID=America/New_York:20301005T150000
DTEND;TZID=America/New_York:20301005T170000
DTSTAMP:20260423T021920
CREATED:20250926T170312Z
LAST-MODIFIED:20251102T002207Z
UID:10004478-1917442800-1917450000@av8maps.com
SUMMARY:Annual Chili Cookoff (48D)
DESCRIPTION:Judging will be done by popular vote; each tester will get one vote for their favorite chili. \nFirst place winner will receive the traveling trophy for one year\, as bragging rights\, and their name engraved into the base of the trophy. \nGift Certificates will also be awarded to the top 3 vote getters. \nAnyone may bring a chili entry\, however you do not need to bring a chili to be a judge/taster. \nBYOR:  bring your own Rolaids!
URL:https://av8maps.com/event/27th-annual-chili-cookoff-48d/2030-10-05/
LOCATION:Clare Municipal Airport\, 10841 S Eberhart Ave\, Clare\, MI 48617
ATTACH;FMTTYPE=image/jpeg:https://av8maps.com/wp-content/uploads/2025/09/Clare-Municipal-48D-Chili-Cookoff-e1758905978765.jpg
GEO:43.8366108;-84.7482686
X-APPLE-STRUCTURED-LOCATION;VALUE=URI;X-ADDRESS=Clare Municipal Airport 10841 S Eberhart Ave Clare MI 48617;X-APPLE-RADIUS=500;X-TITLE=10841 S Eberhart Ave\, Clare\, MI 48617:geo:-84.7482686,43.8366108
END:VEVENT
END:VCALENDAR