BEGIN:VCALENDAR
VERSION:2.0
PRODID:-//AV8MAPS.COM - ECPv6.15.20//NONSGML v1.0//EN
CALSCALE:GREGORIAN
METHOD:PUBLISH
X-WR-CALNAME:AV8MAPS.COM
X-ORIGINAL-URL:https://av8maps.com
X-WR-CALDESC:Events for AV8MAPS.COM
REFRESH-INTERVAL;VALUE=DURATION:PT1H
X-Robots-Tag:noindex
X-PUBLISHED-TTL:PT1H
BEGIN:VTIMEZONE
TZID:America/New_York
BEGIN:DAYLIGHT
TZOFFSETFROM:-0500
TZOFFSETTO:-0400
TZNAME:EDT
DTSTART:20250309T070000
END:DAYLIGHT
BEGIN:STANDARD
TZOFFSETFROM:-0400
TZOFFSETTO:-0500
TZNAME:EST
DTSTART:20251102T060000
END:STANDARD
BEGIN:DAYLIGHT
TZOFFSETFROM:-0500
TZOFFSETTO:-0400
TZNAME:EDT
DTSTART:20260308T070000
END:DAYLIGHT
BEGIN:STANDARD
TZOFFSETFROM:-0400
TZOFFSETTO:-0500
TZNAME:EST
DTSTART:20261101T060000
END:STANDARD
BEGIN:DAYLIGHT
TZOFFSETFROM:-0500
TZOFFSETTO:-0400
TZNAME:EDT
DTSTART:20270314T070000
END:DAYLIGHT
BEGIN:STANDARD
TZOFFSETFROM:-0400
TZOFFSETTO:-0500
TZNAME:EST
DTSTART:20271107T060000
END:STANDARD
BEGIN:DAYLIGHT
TZOFFSETFROM:-0500
TZOFFSETTO:-0400
TZNAME:EDT
DTSTART:20280312T070000
END:DAYLIGHT
BEGIN:STANDARD
TZOFFSETFROM:-0400
TZOFFSETTO:-0500
TZNAME:EST
DTSTART:20281105T060000
END:STANDARD
BEGIN:DAYLIGHT
TZOFFSETFROM:-0500
TZOFFSETTO:-0400
TZNAME:EDT
DTSTART:20290311T070000
END:DAYLIGHT
BEGIN:STANDARD
TZOFFSETFROM:-0400
TZOFFSETTO:-0500
TZNAME:EST
DTSTART:20291104T060000
END:STANDARD
BEGIN:DAYLIGHT
TZOFFSETFROM:-0500
TZOFFSETTO:-0400
TZNAME:EDT
DTSTART:20300310T070000
END:DAYLIGHT
BEGIN:STANDARD
TZOFFSETFROM:-0400
TZOFFSETTO:-0500
TZNAME:EST
DTSTART:20301103T060000
END:STANDARD
BEGIN:DAYLIGHT
TZOFFSETFROM:-0500
TZOFFSETTO:-0400
TZNAME:EDT
DTSTART:20310309T070000
END:DAYLIGHT
BEGIN:STANDARD
TZOFFSETFROM:-0400
TZOFFSETTO:-0500
TZNAME:EST
DTSTART:20311102T060000
END:STANDARD
END:VTIMEZONE
BEGIN:VEVENT
DTSTART;TZID=America/New_York:20261003T090000
DTEND;TZID=America/New_York:20261003T160000
DTSTAMP:20260425T083742
CREATED:20250905T004028Z
LAST-MODIFIED:20251102T004923Z
UID:10004489-1791018000-1791043200@av8maps.com
SUMMARY:Pistons\, Props & Pilsners On The Runway (KZEF)
DESCRIPTION:✈️🍺 Pistons\, Props & Pilsners – On the Runway 🍺✈️\n📍 Elkin Municipal Airport\n9:00 AM – 4:00 PM\nGet ready for a full day of high-flying fun\, classic cars\, live music\, and more at Elkin Municipal Airport! 🚁✨\n🎶 Live Music by IntoxCicadas (12:00 – 3:00 PM)\n🚗 Cruise-In of classic & custom cars\n🛩️ Fly-In featuring historic and modern aircraft\n🏍️ Motorcycle Rally\n🚁 Helicopter Rides (don’t miss your chance to see Elkin from above!)\n🍔 Food Trucks & Vendors – something delicious for everyone\n🍻 Beer & Wine available for purchase.\nThis family-friendly event brings together aviation enthusiasts\, car lovers\, motorcyclists\, and anyone looking for a great time in the Yadkin Valley.\n✨ Admission is Free – Everyone is Welcome! ✨\nBrought to you by: Yadkin Valley Aviation\, Explore Elkin\, and Combs Butcher Shoppe.
URL:https://av8maps.com/event/pistons-props-pilsners-on-the-runway/2026-10-03/
LOCATION:Elkin Municipal Airport\, 1598 CC Camp Rd\, Elkin\, NC 28621
ATTACH;FMTTYPE=image/jpeg:https://av8maps.com/wp-content/uploads/2025/09/Pistons-props-and-pilsners-KZEF-1.jpg
GEO:36.2799763;-80.7889793
X-APPLE-STRUCTURED-LOCATION;VALUE=URI;X-ADDRESS=Elkin Municipal Airport 1598 CC Camp Rd Elkin NC 28621;X-APPLE-RADIUS=500;X-TITLE=1598 CC Camp Rd\, Elkin\, NC 28621:geo:-80.7889793,36.2799763
END:VEVENT
BEGIN:VEVENT
DTSTART;TZID=America/New_York:20271002T090000
DTEND;TZID=America/New_York:20271002T160000
DTSTAMP:20260425T083742
CREATED:20250905T004028Z
LAST-MODIFIED:20251102T004923Z
UID:10004490-1822467600-1822492800@av8maps.com
SUMMARY:Pistons\, Props & Pilsners On The Runway (KZEF)
DESCRIPTION:✈️🍺 Pistons\, Props & Pilsners – On the Runway 🍺✈️\n📍 Elkin Municipal Airport\n9:00 AM – 4:00 PM\nGet ready for a full day of high-flying fun\, classic cars\, live music\, and more at Elkin Municipal Airport! 🚁✨\n🎶 Live Music by IntoxCicadas (12:00 – 3:00 PM)\n🚗 Cruise-In of classic & custom cars\n🛩️ Fly-In featuring historic and modern aircraft\n🏍️ Motorcycle Rally\n🚁 Helicopter Rides (don’t miss your chance to see Elkin from above!)\n🍔 Food Trucks & Vendors – something delicious for everyone\n🍻 Beer & Wine available for purchase.\nThis family-friendly event brings together aviation enthusiasts\, car lovers\, motorcyclists\, and anyone looking for a great time in the Yadkin Valley.\n✨ Admission is Free – Everyone is Welcome! ✨\nBrought to you by: Yadkin Valley Aviation\, Explore Elkin\, and Combs Butcher Shoppe.
URL:https://av8maps.com/event/pistons-props-pilsners-on-the-runway/2027-10-02/
LOCATION:Elkin Municipal Airport\, 1598 CC Camp Rd\, Elkin\, NC 28621
ATTACH;FMTTYPE=image/jpeg:https://av8maps.com/wp-content/uploads/2025/09/Pistons-props-and-pilsners-KZEF-1.jpg
GEO:36.2799763;-80.7889793
X-APPLE-STRUCTURED-LOCATION;VALUE=URI;X-ADDRESS=Elkin Municipal Airport 1598 CC Camp Rd Elkin NC 28621;X-APPLE-RADIUS=500;X-TITLE=1598 CC Camp Rd\, Elkin\, NC 28621:geo:-80.7889793,36.2799763
END:VEVENT
BEGIN:VEVENT
DTSTART;TZID=America/New_York:20281007T090000
DTEND;TZID=America/New_York:20281007T160000
DTSTAMP:20260425T083742
CREATED:20250905T004028Z
LAST-MODIFIED:20251102T004923Z
UID:10004491-1854522000-1854547200@av8maps.com
SUMMARY:Pistons\, Props & Pilsners On The Runway (KZEF)
DESCRIPTION:✈️🍺 Pistons\, Props & Pilsners – On the Runway 🍺✈️\n📍 Elkin Municipal Airport\n9:00 AM – 4:00 PM\nGet ready for a full day of high-flying fun\, classic cars\, live music\, and more at Elkin Municipal Airport! 🚁✨\n🎶 Live Music by IntoxCicadas (12:00 – 3:00 PM)\n🚗 Cruise-In of classic & custom cars\n🛩️ Fly-In featuring historic and modern aircraft\n🏍️ Motorcycle Rally\n🚁 Helicopter Rides (don’t miss your chance to see Elkin from above!)\n🍔 Food Trucks & Vendors – something delicious for everyone\n🍻 Beer & Wine available for purchase.\nThis family-friendly event brings together aviation enthusiasts\, car lovers\, motorcyclists\, and anyone looking for a great time in the Yadkin Valley.\n✨ Admission is Free – Everyone is Welcome! ✨\nBrought to you by: Yadkin Valley Aviation\, Explore Elkin\, and Combs Butcher Shoppe.
URL:https://av8maps.com/event/pistons-props-pilsners-on-the-runway/2028-10-07/
LOCATION:Elkin Municipal Airport\, 1598 CC Camp Rd\, Elkin\, NC 28621
ATTACH;FMTTYPE=image/jpeg:https://av8maps.com/wp-content/uploads/2025/09/Pistons-props-and-pilsners-KZEF-1.jpg
GEO:36.2799763;-80.7889793
X-APPLE-STRUCTURED-LOCATION;VALUE=URI;X-ADDRESS=Elkin Municipal Airport 1598 CC Camp Rd Elkin NC 28621;X-APPLE-RADIUS=500;X-TITLE=1598 CC Camp Rd\, Elkin\, NC 28621:geo:-80.7889793,36.2799763
END:VEVENT
BEGIN:VEVENT
DTSTART;TZID=America/New_York:20291006T090000
DTEND;TZID=America/New_York:20291006T160000
DTSTAMP:20260425T083742
CREATED:20250905T004028Z
LAST-MODIFIED:20251102T004923Z
UID:10004492-1885971600-1885996800@av8maps.com
SUMMARY:Pistons\, Props & Pilsners On The Runway (KZEF)
DESCRIPTION:✈️🍺 Pistons\, Props & Pilsners – On the Runway 🍺✈️\n📍 Elkin Municipal Airport\n9:00 AM – 4:00 PM\nGet ready for a full day of high-flying fun\, classic cars\, live music\, and more at Elkin Municipal Airport! 🚁✨\n🎶 Live Music by IntoxCicadas (12:00 – 3:00 PM)\n🚗 Cruise-In of classic & custom cars\n🛩️ Fly-In featuring historic and modern aircraft\n🏍️ Motorcycle Rally\n🚁 Helicopter Rides (don’t miss your chance to see Elkin from above!)\n🍔 Food Trucks & Vendors – something delicious for everyone\n🍻 Beer & Wine available for purchase.\nThis family-friendly event brings together aviation enthusiasts\, car lovers\, motorcyclists\, and anyone looking for a great time in the Yadkin Valley.\n✨ Admission is Free – Everyone is Welcome! ✨\nBrought to you by: Yadkin Valley Aviation\, Explore Elkin\, and Combs Butcher Shoppe.
URL:https://av8maps.com/event/pistons-props-pilsners-on-the-runway/2029-10-06/
LOCATION:Elkin Municipal Airport\, 1598 CC Camp Rd\, Elkin\, NC 28621
ATTACH;FMTTYPE=image/jpeg:https://av8maps.com/wp-content/uploads/2025/09/Pistons-props-and-pilsners-KZEF-1.jpg
GEO:36.2799763;-80.7889793
X-APPLE-STRUCTURED-LOCATION;VALUE=URI;X-ADDRESS=Elkin Municipal Airport 1598 CC Camp Rd Elkin NC 28621;X-APPLE-RADIUS=500;X-TITLE=1598 CC Camp Rd\, Elkin\, NC 28621:geo:-80.7889793,36.2799763
END:VEVENT
BEGIN:VEVENT
DTSTART;TZID=America/New_York:20301005T090000
DTEND;TZID=America/New_York:20301005T160000
DTSTAMP:20260425T083742
CREATED:20250905T004028Z
LAST-MODIFIED:20251102T004923Z
UID:10004493-1917421200-1917446400@av8maps.com
SUMMARY:Pistons\, Props & Pilsners On The Runway (KZEF)
DESCRIPTION:✈️🍺 Pistons\, Props & Pilsners – On the Runway 🍺✈️\n📍 Elkin Municipal Airport\n9:00 AM – 4:00 PM\nGet ready for a full day of high-flying fun\, classic cars\, live music\, and more at Elkin Municipal Airport! 🚁✨\n🎶 Live Music by IntoxCicadas (12:00 – 3:00 PM)\n🚗 Cruise-In of classic & custom cars\n🛩️ Fly-In featuring historic and modern aircraft\n🏍️ Motorcycle Rally\n🚁 Helicopter Rides (don’t miss your chance to see Elkin from above!)\n🍔 Food Trucks & Vendors – something delicious for everyone\n🍻 Beer & Wine available for purchase.\nThis family-friendly event brings together aviation enthusiasts\, car lovers\, motorcyclists\, and anyone looking for a great time in the Yadkin Valley.\n✨ Admission is Free – Everyone is Welcome! ✨\nBrought to you by: Yadkin Valley Aviation\, Explore Elkin\, and Combs Butcher Shoppe.
URL:https://av8maps.com/event/pistons-props-pilsners-on-the-runway/2030-10-05/
LOCATION:Elkin Municipal Airport\, 1598 CC Camp Rd\, Elkin\, NC 28621
ATTACH;FMTTYPE=image/jpeg:https://av8maps.com/wp-content/uploads/2025/09/Pistons-props-and-pilsners-KZEF-1.jpg
GEO:36.2799763;-80.7889793
X-APPLE-STRUCTURED-LOCATION;VALUE=URI;X-ADDRESS=Elkin Municipal Airport 1598 CC Camp Rd Elkin NC 28621;X-APPLE-RADIUS=500;X-TITLE=1598 CC Camp Rd\, Elkin\, NC 28621:geo:-80.7889793,36.2799763
END:VEVENT
END:VCALENDAR