BEGIN:VCALENDAR
VERSION:2.0
PRODID:-//AV8MAPS.COM - ECPv6.15.20//NONSGML v1.0//EN
CALSCALE:GREGORIAN
METHOD:PUBLISH
X-WR-CALNAME:AV8MAPS.COM
X-ORIGINAL-URL:https://av8maps.com
X-WR-CALDESC:Events for AV8MAPS.COM
REFRESH-INTERVAL;VALUE=DURATION:PT1H
X-Robots-Tag:noindex
X-PUBLISHED-TTL:PT1H
BEGIN:VTIMEZONE
TZID:America/New_York
BEGIN:DAYLIGHT
TZOFFSETFROM:-0500
TZOFFSETTO:-0400
TZNAME:EDT
DTSTART:20250309T070000
END:DAYLIGHT
BEGIN:STANDARD
TZOFFSETFROM:-0400
TZOFFSETTO:-0500
TZNAME:EST
DTSTART:20251102T060000
END:STANDARD
BEGIN:DAYLIGHT
TZOFFSETFROM:-0500
TZOFFSETTO:-0400
TZNAME:EDT
DTSTART:20260308T070000
END:DAYLIGHT
BEGIN:STANDARD
TZOFFSETFROM:-0400
TZOFFSETTO:-0500
TZNAME:EST
DTSTART:20261101T060000
END:STANDARD
BEGIN:DAYLIGHT
TZOFFSETFROM:-0500
TZOFFSETTO:-0400
TZNAME:EDT
DTSTART:20270314T070000
END:DAYLIGHT
BEGIN:STANDARD
TZOFFSETFROM:-0400
TZOFFSETTO:-0500
TZNAME:EST
DTSTART:20271107T060000
END:STANDARD
BEGIN:DAYLIGHT
TZOFFSETFROM:-0500
TZOFFSETTO:-0400
TZNAME:EDT
DTSTART:20280312T070000
END:DAYLIGHT
BEGIN:STANDARD
TZOFFSETFROM:-0400
TZOFFSETTO:-0500
TZNAME:EST
DTSTART:20281105T060000
END:STANDARD
BEGIN:DAYLIGHT
TZOFFSETFROM:-0500
TZOFFSETTO:-0400
TZNAME:EDT
DTSTART:20290311T070000
END:DAYLIGHT
BEGIN:STANDARD
TZOFFSETFROM:-0400
TZOFFSETTO:-0500
TZNAME:EST
DTSTART:20291104T060000
END:STANDARD
BEGIN:DAYLIGHT
TZOFFSETFROM:-0500
TZOFFSETTO:-0400
TZNAME:EDT
DTSTART:20300310T070000
END:DAYLIGHT
BEGIN:STANDARD
TZOFFSETFROM:-0400
TZOFFSETTO:-0500
TZNAME:EST
DTSTART:20301103T060000
END:STANDARD
END:VTIMEZONE
BEGIN:VEVENT
DTSTART;TZID=America/New_York:20261114T100000
DTEND;TZID=America/New_York:20261114T150000
DTSTAMP:20260424T204414
CREATED:20250926T180636Z
LAST-MODIFIED:20251102T012343Z
UID:10004494-1794650400-1794668400@av8maps.com
SUMMARY:Statesville Airport for Homecoming at the Hangar (KSVH)
DESCRIPTION:On Saturday\, November 8\, 2025\, we’re gathering at the Statesville Airport for Homecoming at the Hangar.\n\n\nThis isn’t just an event—it’s a celebration of resilience\, community\, and the volunteers who showed up when Hurricane Helene changed everything. From airplanes and helicopters to live music\, food\, raffles\, and local businesses—there’s something for everyone.\n\n\n Statesville Airport | 10 AM – 3 PM\n Free admission (donations appreciated)\n\n\nMark your calendar\, invite your friends\, and come be part of a day that matters.\nThis isn’t just a fly-in or car show—it’s a reminder that when communities unite\, hope takes flight. \nTogether\, we rebuild stronger. \n\n\nStay tuned for more details.
URL:https://av8maps.com/event/statesville-airport-for-homecoming-at-the-hangar-ksvh/2026-11-14/
LOCATION:Statesville Regional Airport\, 312 Airport Rd\, Statesville\, NC 28677
ATTACH;FMTTYPE=image/jpeg:https://av8maps.com/wp-content/uploads/2025/09/Statesville-Homecoming-at-the-hangar-e1758909936284.jpg
GEO:35.762141;-80.945768
X-APPLE-STRUCTURED-LOCATION;VALUE=URI;X-ADDRESS=Statesville Regional Airport 312 Airport Rd Statesville NC 28677;X-APPLE-RADIUS=500;X-TITLE=312 Airport Rd\, Statesville\, NC 28677:geo:-80.945768,35.762141
END:VEVENT
BEGIN:VEVENT
DTSTART;TZID=America/New_York:20271113T100000
DTEND;TZID=America/New_York:20271113T150000
DTSTAMP:20260424T204414
CREATED:20250926T180636Z
LAST-MODIFIED:20251102T012343Z
UID:10004495-1826100000-1826118000@av8maps.com
SUMMARY:Statesville Airport for Homecoming at the Hangar (KSVH)
DESCRIPTION:On Saturday\, November 8\, 2025\, we’re gathering at the Statesville Airport for Homecoming at the Hangar.\n\n\nThis isn’t just an event—it’s a celebration of resilience\, community\, and the volunteers who showed up when Hurricane Helene changed everything. From airplanes and helicopters to live music\, food\, raffles\, and local businesses—there’s something for everyone.\n\n\n Statesville Airport | 10 AM – 3 PM\n Free admission (donations appreciated)\n\n\nMark your calendar\, invite your friends\, and come be part of a day that matters.\nThis isn’t just a fly-in or car show—it’s a reminder that when communities unite\, hope takes flight. \nTogether\, we rebuild stronger. \n\n\nStay tuned for more details.
URL:https://av8maps.com/event/statesville-airport-for-homecoming-at-the-hangar-ksvh/2027-11-13/
LOCATION:Statesville Regional Airport\, 312 Airport Rd\, Statesville\, NC 28677
ATTACH;FMTTYPE=image/jpeg:https://av8maps.com/wp-content/uploads/2025/09/Statesville-Homecoming-at-the-hangar-e1758909936284.jpg
GEO:35.762141;-80.945768
X-APPLE-STRUCTURED-LOCATION;VALUE=URI;X-ADDRESS=Statesville Regional Airport 312 Airport Rd Statesville NC 28677;X-APPLE-RADIUS=500;X-TITLE=312 Airport Rd\, Statesville\, NC 28677:geo:-80.945768,35.762141
END:VEVENT
BEGIN:VEVENT
DTSTART;TZID=America/New_York:20281111T100000
DTEND;TZID=America/New_York:20281111T150000
DTSTAMP:20260424T204414
CREATED:20250926T180636Z
LAST-MODIFIED:20251102T012343Z
UID:10004496-1857549600-1857567600@av8maps.com
SUMMARY:Statesville Airport for Homecoming at the Hangar (KSVH)
DESCRIPTION:On Saturday\, November 8\, 2025\, we’re gathering at the Statesville Airport for Homecoming at the Hangar.\n\n\nThis isn’t just an event—it’s a celebration of resilience\, community\, and the volunteers who showed up when Hurricane Helene changed everything. From airplanes and helicopters to live music\, food\, raffles\, and local businesses—there’s something for everyone.\n\n\n Statesville Airport | 10 AM – 3 PM\n Free admission (donations appreciated)\n\n\nMark your calendar\, invite your friends\, and come be part of a day that matters.\nThis isn’t just a fly-in or car show—it’s a reminder that when communities unite\, hope takes flight. \nTogether\, we rebuild stronger. \n\n\nStay tuned for more details.
URL:https://av8maps.com/event/statesville-airport-for-homecoming-at-the-hangar-ksvh/2028-11-11/
LOCATION:Statesville Regional Airport\, 312 Airport Rd\, Statesville\, NC 28677
ATTACH;FMTTYPE=image/jpeg:https://av8maps.com/wp-content/uploads/2025/09/Statesville-Homecoming-at-the-hangar-e1758909936284.jpg
GEO:35.762141;-80.945768
X-APPLE-STRUCTURED-LOCATION;VALUE=URI;X-ADDRESS=Statesville Regional Airport 312 Airport Rd Statesville NC 28677;X-APPLE-RADIUS=500;X-TITLE=312 Airport Rd\, Statesville\, NC 28677:geo:-80.945768,35.762141
END:VEVENT
BEGIN:VEVENT
DTSTART;TZID=America/New_York:20291110T100000
DTEND;TZID=America/New_York:20291110T150000
DTSTAMP:20260424T204414
CREATED:20250926T180636Z
LAST-MODIFIED:20251102T012343Z
UID:10004497-1888999200-1889017200@av8maps.com
SUMMARY:Statesville Airport for Homecoming at the Hangar (KSVH)
DESCRIPTION:On Saturday\, November 8\, 2025\, we’re gathering at the Statesville Airport for Homecoming at the Hangar.\n\n\nThis isn’t just an event—it’s a celebration of resilience\, community\, and the volunteers who showed up when Hurricane Helene changed everything. From airplanes and helicopters to live music\, food\, raffles\, and local businesses—there’s something for everyone.\n\n\n Statesville Airport | 10 AM – 3 PM\n Free admission (donations appreciated)\n\n\nMark your calendar\, invite your friends\, and come be part of a day that matters.\nThis isn’t just a fly-in or car show—it’s a reminder that when communities unite\, hope takes flight. \nTogether\, we rebuild stronger. \n\n\nStay tuned for more details.
URL:https://av8maps.com/event/statesville-airport-for-homecoming-at-the-hangar-ksvh/2029-11-10/
LOCATION:Statesville Regional Airport\, 312 Airport Rd\, Statesville\, NC 28677
ATTACH;FMTTYPE=image/jpeg:https://av8maps.com/wp-content/uploads/2025/09/Statesville-Homecoming-at-the-hangar-e1758909936284.jpg
GEO:35.762141;-80.945768
X-APPLE-STRUCTURED-LOCATION;VALUE=URI;X-ADDRESS=Statesville Regional Airport 312 Airport Rd Statesville NC 28677;X-APPLE-RADIUS=500;X-TITLE=312 Airport Rd\, Statesville\, NC 28677:geo:-80.945768,35.762141
END:VEVENT
END:VCALENDAR