BEGIN:VCALENDAR
VERSION:2.0
PRODID:-//AV8MAPS.COM - ECPv6.15.20//NONSGML v1.0//EN
CALSCALE:GREGORIAN
METHOD:PUBLISH
X-WR-CALNAME:AV8MAPS.COM
X-ORIGINAL-URL:https://av8maps.com
X-WR-CALDESC:Events for AV8MAPS.COM
REFRESH-INTERVAL;VALUE=DURATION:PT1H
X-Robots-Tag:noindex
X-PUBLISHED-TTL:PT1H
BEGIN:VTIMEZONE
TZID:America/New_York
BEGIN:DAYLIGHT
TZOFFSETFROM:-0500
TZOFFSETTO:-0400
TZNAME:EDT
DTSTART:20250309T070000
END:DAYLIGHT
BEGIN:STANDARD
TZOFFSETFROM:-0400
TZOFFSETTO:-0500
TZNAME:EST
DTSTART:20251102T060000
END:STANDARD
BEGIN:DAYLIGHT
TZOFFSETFROM:-0500
TZOFFSETTO:-0400
TZNAME:EDT
DTSTART:20260308T070000
END:DAYLIGHT
BEGIN:STANDARD
TZOFFSETFROM:-0400
TZOFFSETTO:-0500
TZNAME:EST
DTSTART:20261101T060000
END:STANDARD
BEGIN:DAYLIGHT
TZOFFSETFROM:-0500
TZOFFSETTO:-0400
TZNAME:EDT
DTSTART:20270314T070000
END:DAYLIGHT
BEGIN:STANDARD
TZOFFSETFROM:-0400
TZOFFSETTO:-0500
TZNAME:EST
DTSTART:20271107T060000
END:STANDARD
BEGIN:DAYLIGHT
TZOFFSETFROM:-0500
TZOFFSETTO:-0400
TZNAME:EDT
DTSTART:20280312T070000
END:DAYLIGHT
BEGIN:STANDARD
TZOFFSETFROM:-0400
TZOFFSETTO:-0500
TZNAME:EST
DTSTART:20281105T060000
END:STANDARD
BEGIN:DAYLIGHT
TZOFFSETFROM:-0500
TZOFFSETTO:-0400
TZNAME:EDT
DTSTART:20290311T070000
END:DAYLIGHT
BEGIN:STANDARD
TZOFFSETFROM:-0400
TZOFFSETTO:-0500
TZNAME:EST
DTSTART:20291104T060000
END:STANDARD
BEGIN:DAYLIGHT
TZOFFSETFROM:-0500
TZOFFSETTO:-0400
TZNAME:EDT
DTSTART:20300310T070000
END:DAYLIGHT
BEGIN:STANDARD
TZOFFSETFROM:-0400
TZOFFSETTO:-0500
TZNAME:EST
DTSTART:20301103T060000
END:STANDARD
BEGIN:DAYLIGHT
TZOFFSETFROM:-0500
TZOFFSETTO:-0400
TZNAME:EDT
DTSTART:20310309T070000
END:DAYLIGHT
BEGIN:STANDARD
TZOFFSETFROM:-0400
TZOFFSETTO:-0500
TZNAME:EST
DTSTART:20311102T060000
END:STANDARD
END:VTIMEZONE
BEGIN:VEVENT
DTSTART;TZID=America/New_York:20261003T000000
DTEND;TZID=America/New_York:20261003T235959
DTSTAMP:20260423T094159
CREATED:20250926T181721Z
LAST-MODIFIED:20251102T012809Z
UID:10004498-1790985600-1791071999@av8maps.com
SUMMARY:Occasional Lovett STOL Fly-in/Open House (VA62)
DESCRIPTION:The Occasional Lovett STOL fun-STOL-fly-in-open-house is Saturday Oct 4\, at Grass Patch Airport VA62 (11nm north of KJYO)\n\n\nFood\, music\, old airplanes\, military vehicles\, random dogs. Fly in or drive
URL:https://av8maps.com/event/2nd-occasional-lovett-stol-fly-in-open-house-va62/2026-10-03/
LOCATION:Grass Patch Airport\, 12982 Axline Rd\, Lovettsville\, VA 20180
ATTACH;FMTTYPE=image/jpeg:https://av8maps.com/wp-content/uploads/2025/09/Lovett-Stol-Fly-in-VA62-e1758910633147.jpg
GEO:39.2571906;-77.6543822
X-APPLE-STRUCTURED-LOCATION;VALUE=URI;X-ADDRESS=Grass Patch Airport 12982 Axline Rd Lovettsville VA 20180;X-APPLE-RADIUS=500;X-TITLE=12982 Axline Rd\, Lovettsville\, VA 20180:geo:-77.6543822,39.2571906
END:VEVENT
BEGIN:VEVENT
DTSTART;TZID=America/New_York:20271002T000000
DTEND;TZID=America/New_York:20271002T235959
DTSTAMP:20260423T094159
CREATED:20250926T181721Z
LAST-MODIFIED:20251102T012809Z
UID:10004499-1822435200-1822521599@av8maps.com
SUMMARY:Occasional Lovett STOL Fly-in/Open House (VA62)
DESCRIPTION:The Occasional Lovett STOL fun-STOL-fly-in-open-house is Saturday Oct 4\, at Grass Patch Airport VA62 (11nm north of KJYO)\n\n\nFood\, music\, old airplanes\, military vehicles\, random dogs. Fly in or drive
URL:https://av8maps.com/event/2nd-occasional-lovett-stol-fly-in-open-house-va62/2027-10-02/
LOCATION:Grass Patch Airport\, 12982 Axline Rd\, Lovettsville\, VA 20180
ATTACH;FMTTYPE=image/jpeg:https://av8maps.com/wp-content/uploads/2025/09/Lovett-Stol-Fly-in-VA62-e1758910633147.jpg
GEO:39.2571906;-77.6543822
X-APPLE-STRUCTURED-LOCATION;VALUE=URI;X-ADDRESS=Grass Patch Airport 12982 Axline Rd Lovettsville VA 20180;X-APPLE-RADIUS=500;X-TITLE=12982 Axline Rd\, Lovettsville\, VA 20180:geo:-77.6543822,39.2571906
END:VEVENT
BEGIN:VEVENT
DTSTART;TZID=America/New_York:20281007T000000
DTEND;TZID=America/New_York:20281007T235959
DTSTAMP:20260423T094159
CREATED:20250926T181721Z
LAST-MODIFIED:20251102T012809Z
UID:10004500-1854489600-1854575999@av8maps.com
SUMMARY:Occasional Lovett STOL Fly-in/Open House (VA62)
DESCRIPTION:The Occasional Lovett STOL fun-STOL-fly-in-open-house is Saturday Oct 4\, at Grass Patch Airport VA62 (11nm north of KJYO)\n\n\nFood\, music\, old airplanes\, military vehicles\, random dogs. Fly in or drive
URL:https://av8maps.com/event/2nd-occasional-lovett-stol-fly-in-open-house-va62/2028-10-07/
LOCATION:Grass Patch Airport\, 12982 Axline Rd\, Lovettsville\, VA 20180
ATTACH;FMTTYPE=image/jpeg:https://av8maps.com/wp-content/uploads/2025/09/Lovett-Stol-Fly-in-VA62-e1758910633147.jpg
GEO:39.2571906;-77.6543822
X-APPLE-STRUCTURED-LOCATION;VALUE=URI;X-ADDRESS=Grass Patch Airport 12982 Axline Rd Lovettsville VA 20180;X-APPLE-RADIUS=500;X-TITLE=12982 Axline Rd\, Lovettsville\, VA 20180:geo:-77.6543822,39.2571906
END:VEVENT
BEGIN:VEVENT
DTSTART;TZID=America/New_York:20291006T000000
DTEND;TZID=America/New_York:20291006T235959
DTSTAMP:20260423T094159
CREATED:20250926T181721Z
LAST-MODIFIED:20251102T012809Z
UID:10004501-1885939200-1886025599@av8maps.com
SUMMARY:Occasional Lovett STOL Fly-in/Open House (VA62)
DESCRIPTION:The Occasional Lovett STOL fun-STOL-fly-in-open-house is Saturday Oct 4\, at Grass Patch Airport VA62 (11nm north of KJYO)\n\n\nFood\, music\, old airplanes\, military vehicles\, random dogs. Fly in or drive
URL:https://av8maps.com/event/2nd-occasional-lovett-stol-fly-in-open-house-va62/2029-10-06/
LOCATION:Grass Patch Airport\, 12982 Axline Rd\, Lovettsville\, VA 20180
ATTACH;FMTTYPE=image/jpeg:https://av8maps.com/wp-content/uploads/2025/09/Lovett-Stol-Fly-in-VA62-e1758910633147.jpg
GEO:39.2571906;-77.6543822
X-APPLE-STRUCTURED-LOCATION;VALUE=URI;X-ADDRESS=Grass Patch Airport 12982 Axline Rd Lovettsville VA 20180;X-APPLE-RADIUS=500;X-TITLE=12982 Axline Rd\, Lovettsville\, VA 20180:geo:-77.6543822,39.2571906
END:VEVENT
BEGIN:VEVENT
DTSTART;TZID=America/New_York:20301005T000000
DTEND;TZID=America/New_York:20301005T235959
DTSTAMP:20260423T094159
CREATED:20250926T181721Z
LAST-MODIFIED:20251102T012809Z
UID:10004502-1917388800-1917475199@av8maps.com
SUMMARY:Occasional Lovett STOL Fly-in/Open House (VA62)
DESCRIPTION:The Occasional Lovett STOL fun-STOL-fly-in-open-house is Saturday Oct 4\, at Grass Patch Airport VA62 (11nm north of KJYO)\n\n\nFood\, music\, old airplanes\, military vehicles\, random dogs. Fly in or drive
URL:https://av8maps.com/event/2nd-occasional-lovett-stol-fly-in-open-house-va62/2030-10-05/
LOCATION:Grass Patch Airport\, 12982 Axline Rd\, Lovettsville\, VA 20180
ATTACH;FMTTYPE=image/jpeg:https://av8maps.com/wp-content/uploads/2025/09/Lovett-Stol-Fly-in-VA62-e1758910633147.jpg
GEO:39.2571906;-77.6543822
X-APPLE-STRUCTURED-LOCATION;VALUE=URI;X-ADDRESS=Grass Patch Airport 12982 Axline Rd Lovettsville VA 20180;X-APPLE-RADIUS=500;X-TITLE=12982 Axline Rd\, Lovettsville\, VA 20180:geo:-77.6543822,39.2571906
END:VEVENT
END:VCALENDAR