BEGIN:VCALENDAR
VERSION:2.0
PRODID:-//AV8MAPS.COM - ECPv6.15.20//NONSGML v1.0//EN
CALSCALE:GREGORIAN
METHOD:PUBLISH
X-WR-CALNAME:AV8MAPS.COM
X-ORIGINAL-URL:https://av8maps.com
X-WR-CALDESC:Events for AV8MAPS.COM
REFRESH-INTERVAL;VALUE=DURATION:PT1H
X-Robots-Tag:noindex
X-PUBLISHED-TTL:PT1H
BEGIN:VTIMEZONE
TZID:America/New_York
BEGIN:DAYLIGHT
TZOFFSETFROM:-0500
TZOFFSETTO:-0400
TZNAME:EDT
DTSTART:20250309T070000
END:DAYLIGHT
BEGIN:STANDARD
TZOFFSETFROM:-0400
TZOFFSETTO:-0500
TZNAME:EST
DTSTART:20251102T060000
END:STANDARD
BEGIN:DAYLIGHT
TZOFFSETFROM:-0500
TZOFFSETTO:-0400
TZNAME:EDT
DTSTART:20260308T070000
END:DAYLIGHT
BEGIN:STANDARD
TZOFFSETFROM:-0400
TZOFFSETTO:-0500
TZNAME:EST
DTSTART:20261101T060000
END:STANDARD
BEGIN:DAYLIGHT
TZOFFSETFROM:-0500
TZOFFSETTO:-0400
TZNAME:EDT
DTSTART:20270314T070000
END:DAYLIGHT
BEGIN:STANDARD
TZOFFSETFROM:-0400
TZOFFSETTO:-0500
TZNAME:EST
DTSTART:20271107T060000
END:STANDARD
BEGIN:DAYLIGHT
TZOFFSETFROM:-0500
TZOFFSETTO:-0400
TZNAME:EDT
DTSTART:20280312T070000
END:DAYLIGHT
BEGIN:STANDARD
TZOFFSETFROM:-0400
TZOFFSETTO:-0500
TZNAME:EST
DTSTART:20281105T060000
END:STANDARD
BEGIN:DAYLIGHT
TZOFFSETFROM:-0500
TZOFFSETTO:-0400
TZNAME:EDT
DTSTART:20290311T070000
END:DAYLIGHT
BEGIN:STANDARD
TZOFFSETFROM:-0400
TZOFFSETTO:-0500
TZNAME:EST
DTSTART:20291104T060000
END:STANDARD
BEGIN:DAYLIGHT
TZOFFSETFROM:-0500
TZOFFSETTO:-0400
TZNAME:EDT
DTSTART:20300310T070000
END:DAYLIGHT
BEGIN:STANDARD
TZOFFSETFROM:-0400
TZOFFSETTO:-0500
TZNAME:EST
DTSTART:20301103T060000
END:STANDARD
BEGIN:DAYLIGHT
TZOFFSETFROM:-0500
TZOFFSETTO:-0400
TZNAME:EDT
DTSTART:20310309T070000
END:DAYLIGHT
BEGIN:STANDARD
TZOFFSETFROM:-0400
TZOFFSETTO:-0500
TZNAME:EST
DTSTART:20311102T060000
END:STANDARD
END:VTIMEZONE
BEGIN:VEVENT
DTSTART;TZID=America/New_York:20261017T000000
DTEND;TZID=America/New_York:20261017T235959
DTSTAMP:20260423T164812
CREATED:20250926T192718Z
LAST-MODIFIED:20251102T015523Z
UID:10004514-1792195200-1792281599@av8maps.com
SUMMARY:Past and Propellers Annual Fly-In (KPWG)
DESCRIPTION:McGregor Executive Airport Fly-In \nStep back in time and experience aviation history at the McGregor Executive Airport. \nJoin us for a day filled with vintage aircraft\, community spirit\, and a celebration of the golden age of flight. Whether you’re a lifelong aviation enthusiast\, a history buff\, or just looking for a unique weekend activity\, this family-friendly event has something for everyone. \nDon’t miss this opportunity to honor the rich history of aviation. Mark your calendar\, invite your friends\, and join us for an unforgettable day at the airport!
URL:https://av8maps.com/event/mcgregor-executive-airport-inaugural-fly-in-kpwg/2026-10-17/
LOCATION:McGregor Executive Airport\, 27474 US-84\, McGregor\, TX 76657
ATTACH;FMTTYPE=image/png:https://av8maps.com/wp-content/uploads/2025/09/McGregor-Executive-airport-Fly-in-e1758914832277.png
GEO:31.4797399;-97.3098891
X-APPLE-STRUCTURED-LOCATION;VALUE=URI;X-ADDRESS=McGregor Executive Airport 27474 US-84 McGregor TX 76657;X-APPLE-RADIUS=500;X-TITLE=27474 US-84\, McGregor\, TX 76657:geo:-97.3098891,31.4797399
END:VEVENT
BEGIN:VEVENT
DTSTART;TZID=America/New_York:20271016T000000
DTEND;TZID=America/New_York:20271016T235959
DTSTAMP:20260423T164812
CREATED:20250926T192718Z
LAST-MODIFIED:20251102T015523Z
UID:10004515-1823644800-1823731199@av8maps.com
SUMMARY:Past and Propellers Annual Fly-In (KPWG)
DESCRIPTION:McGregor Executive Airport Fly-In \nStep back in time and experience aviation history at the McGregor Executive Airport. \nJoin us for a day filled with vintage aircraft\, community spirit\, and a celebration of the golden age of flight. Whether you’re a lifelong aviation enthusiast\, a history buff\, or just looking for a unique weekend activity\, this family-friendly event has something for everyone. \nDon’t miss this opportunity to honor the rich history of aviation. Mark your calendar\, invite your friends\, and join us for an unforgettable day at the airport!
URL:https://av8maps.com/event/mcgregor-executive-airport-inaugural-fly-in-kpwg/2027-10-16/
LOCATION:McGregor Executive Airport\, 27474 US-84\, McGregor\, TX 76657
ATTACH;FMTTYPE=image/png:https://av8maps.com/wp-content/uploads/2025/09/McGregor-Executive-airport-Fly-in-e1758914832277.png
GEO:31.4797399;-97.3098891
X-APPLE-STRUCTURED-LOCATION;VALUE=URI;X-ADDRESS=McGregor Executive Airport 27474 US-84 McGregor TX 76657;X-APPLE-RADIUS=500;X-TITLE=27474 US-84\, McGregor\, TX 76657:geo:-97.3098891,31.4797399
END:VEVENT
BEGIN:VEVENT
DTSTART;TZID=America/New_York:20281021T000000
DTEND;TZID=America/New_York:20281021T235959
DTSTAMP:20260423T164812
CREATED:20250926T192718Z
LAST-MODIFIED:20251102T015523Z
UID:10004516-1855699200-1855785599@av8maps.com
SUMMARY:Past and Propellers Annual Fly-In (KPWG)
DESCRIPTION:McGregor Executive Airport Fly-In \nStep back in time and experience aviation history at the McGregor Executive Airport. \nJoin us for a day filled with vintage aircraft\, community spirit\, and a celebration of the golden age of flight. Whether you’re a lifelong aviation enthusiast\, a history buff\, or just looking for a unique weekend activity\, this family-friendly event has something for everyone. \nDon’t miss this opportunity to honor the rich history of aviation. Mark your calendar\, invite your friends\, and join us for an unforgettable day at the airport!
URL:https://av8maps.com/event/mcgregor-executive-airport-inaugural-fly-in-kpwg/2028-10-21/
LOCATION:McGregor Executive Airport\, 27474 US-84\, McGregor\, TX 76657
ATTACH;FMTTYPE=image/png:https://av8maps.com/wp-content/uploads/2025/09/McGregor-Executive-airport-Fly-in-e1758914832277.png
GEO:31.4797399;-97.3098891
X-APPLE-STRUCTURED-LOCATION;VALUE=URI;X-ADDRESS=McGregor Executive Airport 27474 US-84 McGregor TX 76657;X-APPLE-RADIUS=500;X-TITLE=27474 US-84\, McGregor\, TX 76657:geo:-97.3098891,31.4797399
END:VEVENT
BEGIN:VEVENT
DTSTART;TZID=America/New_York:20291020T000000
DTEND;TZID=America/New_York:20291020T235959
DTSTAMP:20260423T164812
CREATED:20250926T192718Z
LAST-MODIFIED:20251102T015523Z
UID:10004517-1887148800-1887235199@av8maps.com
SUMMARY:Past and Propellers Annual Fly-In (KPWG)
DESCRIPTION:McGregor Executive Airport Fly-In \nStep back in time and experience aviation history at the McGregor Executive Airport. \nJoin us for a day filled with vintage aircraft\, community spirit\, and a celebration of the golden age of flight. Whether you’re a lifelong aviation enthusiast\, a history buff\, or just looking for a unique weekend activity\, this family-friendly event has something for everyone. \nDon’t miss this opportunity to honor the rich history of aviation. Mark your calendar\, invite your friends\, and join us for an unforgettable day at the airport!
URL:https://av8maps.com/event/mcgregor-executive-airport-inaugural-fly-in-kpwg/2029-10-20/
LOCATION:McGregor Executive Airport\, 27474 US-84\, McGregor\, TX 76657
ATTACH;FMTTYPE=image/png:https://av8maps.com/wp-content/uploads/2025/09/McGregor-Executive-airport-Fly-in-e1758914832277.png
GEO:31.4797399;-97.3098891
X-APPLE-STRUCTURED-LOCATION;VALUE=URI;X-ADDRESS=McGregor Executive Airport 27474 US-84 McGregor TX 76657;X-APPLE-RADIUS=500;X-TITLE=27474 US-84\, McGregor\, TX 76657:geo:-97.3098891,31.4797399
END:VEVENT
BEGIN:VEVENT
DTSTART;TZID=America/New_York:20301019T000000
DTEND;TZID=America/New_York:20301019T235959
DTSTAMP:20260423T164812
CREATED:20250926T192718Z
LAST-MODIFIED:20251102T015523Z
UID:10004518-1918598400-1918684799@av8maps.com
SUMMARY:Past and Propellers Annual Fly-In (KPWG)
DESCRIPTION:McGregor Executive Airport Fly-In \nStep back in time and experience aviation history at the McGregor Executive Airport. \nJoin us for a day filled with vintage aircraft\, community spirit\, and a celebration of the golden age of flight. Whether you’re a lifelong aviation enthusiast\, a history buff\, or just looking for a unique weekend activity\, this family-friendly event has something for everyone. \nDon’t miss this opportunity to honor the rich history of aviation. Mark your calendar\, invite your friends\, and join us for an unforgettable day at the airport!
URL:https://av8maps.com/event/mcgregor-executive-airport-inaugural-fly-in-kpwg/2030-10-19/
LOCATION:McGregor Executive Airport\, 27474 US-84\, McGregor\, TX 76657
ATTACH;FMTTYPE=image/png:https://av8maps.com/wp-content/uploads/2025/09/McGregor-Executive-airport-Fly-in-e1758914832277.png
GEO:31.4797399;-97.3098891
X-APPLE-STRUCTURED-LOCATION;VALUE=URI;X-ADDRESS=McGregor Executive Airport 27474 US-84 McGregor TX 76657;X-APPLE-RADIUS=500;X-TITLE=27474 US-84\, McGregor\, TX 76657:geo:-97.3098891,31.4797399
END:VEVENT
END:VCALENDAR