BEGIN:VCALENDAR
VERSION:2.0
PRODID:-//AV8MAPS.COM - ECPv6.15.20//NONSGML v1.0//EN
CALSCALE:GREGORIAN
METHOD:PUBLISH
X-WR-CALNAME:AV8MAPS.COM
X-ORIGINAL-URL:https://av8maps.com
X-WR-CALDESC:Events for AV8MAPS.COM
REFRESH-INTERVAL;VALUE=DURATION:PT1H
X-Robots-Tag:noindex
X-PUBLISHED-TTL:PT1H
BEGIN:VTIMEZONE
TZID:America/New_York
BEGIN:DAYLIGHT
TZOFFSETFROM:-0500
TZOFFSETTO:-0400
TZNAME:EDT
DTSTART:20250309T070000
END:DAYLIGHT
BEGIN:STANDARD
TZOFFSETFROM:-0400
TZOFFSETTO:-0500
TZNAME:EST
DTSTART:20251102T060000
END:STANDARD
BEGIN:DAYLIGHT
TZOFFSETFROM:-0500
TZOFFSETTO:-0400
TZNAME:EDT
DTSTART:20260308T070000
END:DAYLIGHT
BEGIN:STANDARD
TZOFFSETFROM:-0400
TZOFFSETTO:-0500
TZNAME:EST
DTSTART:20261101T060000
END:STANDARD
BEGIN:DAYLIGHT
TZOFFSETFROM:-0500
TZOFFSETTO:-0400
TZNAME:EDT
DTSTART:20270314T070000
END:DAYLIGHT
BEGIN:STANDARD
TZOFFSETFROM:-0400
TZOFFSETTO:-0500
TZNAME:EST
DTSTART:20271107T060000
END:STANDARD
BEGIN:DAYLIGHT
TZOFFSETFROM:-0500
TZOFFSETTO:-0400
TZNAME:EDT
DTSTART:20280312T070000
END:DAYLIGHT
BEGIN:STANDARD
TZOFFSETFROM:-0400
TZOFFSETTO:-0500
TZNAME:EST
DTSTART:20281105T060000
END:STANDARD
BEGIN:DAYLIGHT
TZOFFSETFROM:-0500
TZOFFSETTO:-0400
TZNAME:EDT
DTSTART:20290311T070000
END:DAYLIGHT
BEGIN:STANDARD
TZOFFSETFROM:-0400
TZOFFSETTO:-0500
TZNAME:EST
DTSTART:20291104T060000
END:STANDARD
BEGIN:DAYLIGHT
TZOFFSETFROM:-0500
TZOFFSETTO:-0400
TZNAME:EDT
DTSTART:20300310T070000
END:DAYLIGHT
BEGIN:STANDARD
TZOFFSETFROM:-0400
TZOFFSETTO:-0500
TZNAME:EST
DTSTART:20301103T060000
END:STANDARD
BEGIN:DAYLIGHT
TZOFFSETFROM:-0500
TZOFFSETTO:-0400
TZNAME:EDT
DTSTART:20310309T070000
END:DAYLIGHT
BEGIN:STANDARD
TZOFFSETFROM:-0400
TZOFFSETTO:-0500
TZNAME:EST
DTSTART:20311102T060000
END:STANDARD
END:VTIMEZONE
BEGIN:VEVENT
DTSTART;TZID=America/New_York:20261018T100000
DTEND;TZID=America/New_York:20261018T160000
DTSTAMP:20260423T164821
CREATED:20250926T193914Z
LAST-MODIFIED:20251102T015950Z
UID:10004519-1792317600-1792339200@av8maps.com
SUMMARY:Annual Pumpkin Smash Fly-in (KCVB)
DESCRIPTION:Who’s ready to have some fun? The San Antonio Ninety-Nines are hosting their annual Pumpkin Smash fly-in at Castroville Airport (KCVB)! Grab your friends and come drop some pumpkins on a target to support a good cause! There will be prizes\, BBQ\, local coffee and family friendly games. So buy a pumpkin or Sponsor a pumpkin for an Aviator to drop on your behalf! All benefits go towards Ninety-Nines Scholarships. \nPilots\, plan to arrive before 10am Briefing at 10:30 \nEvent beginning at 11am \nQuestions?? Email Thesanantonio99s@gmail.com
URL:https://av8maps.com/event/pumpkin-smash-fly-in-kcvb/2026-10-18/
LOCATION:Castroville Municipal Airport\, 10500 Airport Rd\, Castroville\, TX 78009
ATTACH;FMTTYPE=image/jpeg:https://av8maps.com/wp-content/uploads/2025/09/pumpkin-smash-fly-in-KCVB-e1758915546535.jpg
GEO:29.3443999;-98.8488101
X-APPLE-STRUCTURED-LOCATION;VALUE=URI;X-ADDRESS=Castroville Municipal Airport 10500 Airport Rd Castroville TX 78009;X-APPLE-RADIUS=500;X-TITLE=10500 Airport Rd\, Castroville\, TX 78009:geo:-98.8488101,29.3443999
END:VEVENT
BEGIN:VEVENT
DTSTART;TZID=America/New_York:20271017T100000
DTEND;TZID=America/New_York:20271017T160000
DTSTAMP:20260423T164821
CREATED:20250926T193914Z
LAST-MODIFIED:20251102T015950Z
UID:10004520-1823767200-1823788800@av8maps.com
SUMMARY:Annual Pumpkin Smash Fly-in (KCVB)
DESCRIPTION:Who’s ready to have some fun? The San Antonio Ninety-Nines are hosting their annual Pumpkin Smash fly-in at Castroville Airport (KCVB)! Grab your friends and come drop some pumpkins on a target to support a good cause! There will be prizes\, BBQ\, local coffee and family friendly games. So buy a pumpkin or Sponsor a pumpkin for an Aviator to drop on your behalf! All benefits go towards Ninety-Nines Scholarships. \nPilots\, plan to arrive before 10am Briefing at 10:30 \nEvent beginning at 11am \nQuestions?? Email Thesanantonio99s@gmail.com
URL:https://av8maps.com/event/pumpkin-smash-fly-in-kcvb/2027-10-17/
LOCATION:Castroville Municipal Airport\, 10500 Airport Rd\, Castroville\, TX 78009
ATTACH;FMTTYPE=image/jpeg:https://av8maps.com/wp-content/uploads/2025/09/pumpkin-smash-fly-in-KCVB-e1758915546535.jpg
GEO:29.3443999;-98.8488101
X-APPLE-STRUCTURED-LOCATION;VALUE=URI;X-ADDRESS=Castroville Municipal Airport 10500 Airport Rd Castroville TX 78009;X-APPLE-RADIUS=500;X-TITLE=10500 Airport Rd\, Castroville\, TX 78009:geo:-98.8488101,29.3443999
END:VEVENT
BEGIN:VEVENT
DTSTART;TZID=America/New_York:20281015T100000
DTEND;TZID=America/New_York:20281015T160000
DTSTAMP:20260423T164821
CREATED:20250926T193914Z
LAST-MODIFIED:20251102T015950Z
UID:10004521-1855216800-1855238400@av8maps.com
SUMMARY:Annual Pumpkin Smash Fly-in (KCVB)
DESCRIPTION:Who’s ready to have some fun? The San Antonio Ninety-Nines are hosting their annual Pumpkin Smash fly-in at Castroville Airport (KCVB)! Grab your friends and come drop some pumpkins on a target to support a good cause! There will be prizes\, BBQ\, local coffee and family friendly games. So buy a pumpkin or Sponsor a pumpkin for an Aviator to drop on your behalf! All benefits go towards Ninety-Nines Scholarships. \nPilots\, plan to arrive before 10am Briefing at 10:30 \nEvent beginning at 11am \nQuestions?? Email Thesanantonio99s@gmail.com
URL:https://av8maps.com/event/pumpkin-smash-fly-in-kcvb/2028-10-15/
LOCATION:Castroville Municipal Airport\, 10500 Airport Rd\, Castroville\, TX 78009
ATTACH;FMTTYPE=image/jpeg:https://av8maps.com/wp-content/uploads/2025/09/pumpkin-smash-fly-in-KCVB-e1758915546535.jpg
GEO:29.3443999;-98.8488101
X-APPLE-STRUCTURED-LOCATION;VALUE=URI;X-ADDRESS=Castroville Municipal Airport 10500 Airport Rd Castroville TX 78009;X-APPLE-RADIUS=500;X-TITLE=10500 Airport Rd\, Castroville\, TX 78009:geo:-98.8488101,29.3443999
END:VEVENT
BEGIN:VEVENT
DTSTART;TZID=America/New_York:20291021T100000
DTEND;TZID=America/New_York:20291021T160000
DTSTAMP:20260423T164821
CREATED:20250926T193914Z
LAST-MODIFIED:20251102T015950Z
UID:10004522-1887271200-1887292800@av8maps.com
SUMMARY:Annual Pumpkin Smash Fly-in (KCVB)
DESCRIPTION:Who’s ready to have some fun? The San Antonio Ninety-Nines are hosting their annual Pumpkin Smash fly-in at Castroville Airport (KCVB)! Grab your friends and come drop some pumpkins on a target to support a good cause! There will be prizes\, BBQ\, local coffee and family friendly games. So buy a pumpkin or Sponsor a pumpkin for an Aviator to drop on your behalf! All benefits go towards Ninety-Nines Scholarships. \nPilots\, plan to arrive before 10am Briefing at 10:30 \nEvent beginning at 11am \nQuestions?? Email Thesanantonio99s@gmail.com
URL:https://av8maps.com/event/pumpkin-smash-fly-in-kcvb/2029-10-21/
LOCATION:Castroville Municipal Airport\, 10500 Airport Rd\, Castroville\, TX 78009
ATTACH;FMTTYPE=image/jpeg:https://av8maps.com/wp-content/uploads/2025/09/pumpkin-smash-fly-in-KCVB-e1758915546535.jpg
GEO:29.3443999;-98.8488101
X-APPLE-STRUCTURED-LOCATION;VALUE=URI;X-ADDRESS=Castroville Municipal Airport 10500 Airport Rd Castroville TX 78009;X-APPLE-RADIUS=500;X-TITLE=10500 Airport Rd\, Castroville\, TX 78009:geo:-98.8488101,29.3443999
END:VEVENT
BEGIN:VEVENT
DTSTART;TZID=America/New_York:20301020T100000
DTEND;TZID=America/New_York:20301020T160000
DTSTAMP:20260423T164821
CREATED:20250926T193914Z
LAST-MODIFIED:20251102T015950Z
UID:10004523-1918720800-1918742400@av8maps.com
SUMMARY:Annual Pumpkin Smash Fly-in (KCVB)
DESCRIPTION:Who’s ready to have some fun? The San Antonio Ninety-Nines are hosting their annual Pumpkin Smash fly-in at Castroville Airport (KCVB)! Grab your friends and come drop some pumpkins on a target to support a good cause! There will be prizes\, BBQ\, local coffee and family friendly games. So buy a pumpkin or Sponsor a pumpkin for an Aviator to drop on your behalf! All benefits go towards Ninety-Nines Scholarships. \nPilots\, plan to arrive before 10am Briefing at 10:30 \nEvent beginning at 11am \nQuestions?? Email Thesanantonio99s@gmail.com
URL:https://av8maps.com/event/pumpkin-smash-fly-in-kcvb/2030-10-20/
LOCATION:Castroville Municipal Airport\, 10500 Airport Rd\, Castroville\, TX 78009
ATTACH;FMTTYPE=image/jpeg:https://av8maps.com/wp-content/uploads/2025/09/pumpkin-smash-fly-in-KCVB-e1758915546535.jpg
GEO:29.3443999;-98.8488101
X-APPLE-STRUCTURED-LOCATION;VALUE=URI;X-ADDRESS=Castroville Municipal Airport 10500 Airport Rd Castroville TX 78009;X-APPLE-RADIUS=500;X-TITLE=10500 Airport Rd\, Castroville\, TX 78009:geo:-98.8488101,29.3443999
END:VEVENT
END:VCALENDAR