BEGIN:VCALENDAR
VERSION:2.0
PRODID:-//AV8MAPS.COM - ECPv6.15.20//NONSGML v1.0//EN
CALSCALE:GREGORIAN
METHOD:PUBLISH
X-WR-CALNAME:AV8MAPS.COM
X-ORIGINAL-URL:https://av8maps.com
X-WR-CALDESC:Events for AV8MAPS.COM
REFRESH-INTERVAL;VALUE=DURATION:PT1H
X-Robots-Tag:noindex
X-PUBLISHED-TTL:PT1H
BEGIN:VTIMEZONE
TZID:America/New_York
BEGIN:DAYLIGHT
TZOFFSETFROM:-0500
TZOFFSETTO:-0400
TZNAME:EDT
DTSTART:20250309T070000
END:DAYLIGHT
BEGIN:STANDARD
TZOFFSETFROM:-0400
TZOFFSETTO:-0500
TZNAME:EST
DTSTART:20251102T060000
END:STANDARD
BEGIN:DAYLIGHT
TZOFFSETFROM:-0500
TZOFFSETTO:-0400
TZNAME:EDT
DTSTART:20260308T070000
END:DAYLIGHT
BEGIN:STANDARD
TZOFFSETFROM:-0400
TZOFFSETTO:-0500
TZNAME:EST
DTSTART:20261101T060000
END:STANDARD
BEGIN:DAYLIGHT
TZOFFSETFROM:-0500
TZOFFSETTO:-0400
TZNAME:EDT
DTSTART:20270314T070000
END:DAYLIGHT
BEGIN:STANDARD
TZOFFSETFROM:-0400
TZOFFSETTO:-0500
TZNAME:EST
DTSTART:20271107T060000
END:STANDARD
BEGIN:DAYLIGHT
TZOFFSETFROM:-0500
TZOFFSETTO:-0400
TZNAME:EDT
DTSTART:20280312T070000
END:DAYLIGHT
BEGIN:STANDARD
TZOFFSETFROM:-0400
TZOFFSETTO:-0500
TZNAME:EST
DTSTART:20281105T060000
END:STANDARD
BEGIN:DAYLIGHT
TZOFFSETFROM:-0500
TZOFFSETTO:-0400
TZNAME:EDT
DTSTART:20290311T070000
END:DAYLIGHT
BEGIN:STANDARD
TZOFFSETFROM:-0400
TZOFFSETTO:-0500
TZNAME:EST
DTSTART:20291104T060000
END:STANDARD
BEGIN:DAYLIGHT
TZOFFSETFROM:-0500
TZOFFSETTO:-0400
TZNAME:EDT
DTSTART:20300310T070000
END:DAYLIGHT
BEGIN:STANDARD
TZOFFSETFROM:-0400
TZOFFSETTO:-0500
TZNAME:EST
DTSTART:20301103T060000
END:STANDARD
BEGIN:DAYLIGHT
TZOFFSETFROM:-0500
TZOFFSETTO:-0400
TZNAME:EDT
DTSTART:20310309T070000
END:DAYLIGHT
BEGIN:STANDARD
TZOFFSETFROM:-0400
TZOFFSETTO:-0500
TZNAME:EST
DTSTART:20311102T060000
END:STANDARD
END:VTIMEZONE
BEGIN:VEVENT
DTSTART;TZID=America/New_York:20261010T080000
DTEND;TZID=America/New_York:20261010T110000
DTSTAMP:20260422T231107
CREATED:20260210T023557Z
LAST-MODIFIED:20260328T131959Z
UID:10006516-1791619200-1791630000@av8maps.com
SUMMARY:EAA Chapter 1349 Fly-in Lunch (FD27)
DESCRIPTION:Join EAA Chapter 1349 for a friendly afternoon on the airfield! \nWe’re serving up sloppy joe sandwiches\, along with homemade sides and desserts—a delicious way to fuel up while connecting with fellow aviation enthusiasts. \nCOST: Donation to Chapter 1349 \nArrival Information:\nFD27\nRunway: 3\,250’ grass\nFrequency: 122.9 for all arriving and departing aircraft\n🚗 Vehicle Notice: Aircraft have the right of way. Speed limit in community 15 miles per hour\n📞 For directions or arrival details\, contact us at: 📧 eaachapter1349@gmail.com
URL:https://av8maps.com/event/eaa-chapter-1349-fly-in-lunch-glen-saint-mary-florida-3/2026-10-10/
LOCATION:Cuyler Airfield\, 10671 Cuyler Airfield Ln\, Glen St Mary\, FL\, 32040
ATTACH;FMTTYPE=image/jpeg:https://av8maps.com/wp-content/uploads/2026/02/EAA-Chapter-1349.jpg
GEO:30.3621827;-82.2196117
X-APPLE-STRUCTURED-LOCATION;VALUE=URI;X-ADDRESS=Cuyler Airfield 10671 Cuyler Airfield Ln Glen St Mary FL 32040;X-APPLE-RADIUS=500;X-TITLE=10671 Cuyler Airfield Ln:geo:-82.2196117,30.3621827
END:VEVENT
BEGIN:VEVENT
DTSTART;TZID=America/New_York:20270410T080000
DTEND;TZID=America/New_York:20270410T110000
DTSTAMP:20260422T231107
CREATED:20260210T023557Z
LAST-MODIFIED:20260328T131959Z
UID:10006517-1807344000-1807354800@av8maps.com
SUMMARY:EAA Chapter 1349 Fly-in Lunch (FD27)
DESCRIPTION:Join EAA Chapter 1349 for a friendly afternoon on the airfield! \nWe’re serving up sloppy joe sandwiches\, along with homemade sides and desserts—a delicious way to fuel up while connecting with fellow aviation enthusiasts. \nCOST: Donation to Chapter 1349 \nArrival Information:\nFD27\nRunway: 3\,250’ grass\nFrequency: 122.9 for all arriving and departing aircraft\n🚗 Vehicle Notice: Aircraft have the right of way. Speed limit in community 15 miles per hour\n📞 For directions or arrival details\, contact us at: 📧 eaachapter1349@gmail.com
URL:https://av8maps.com/event/eaa-chapter-1349-fly-in-lunch-glen-saint-mary-florida-3/2027-04-10/
LOCATION:Cuyler Airfield\, 10671 Cuyler Airfield Ln\, Glen St Mary\, FL\, 32040
ATTACH;FMTTYPE=image/jpeg:https://av8maps.com/wp-content/uploads/2026/02/EAA-Chapter-1349.jpg
GEO:30.3621827;-82.2196117
X-APPLE-STRUCTURED-LOCATION;VALUE=URI;X-ADDRESS=Cuyler Airfield 10671 Cuyler Airfield Ln Glen St Mary FL 32040;X-APPLE-RADIUS=500;X-TITLE=10671 Cuyler Airfield Ln:geo:-82.2196117,30.3621827
END:VEVENT
BEGIN:VEVENT
DTSTART;TZID=America/New_York:20271009T080000
DTEND;TZID=America/New_York:20271009T110000
DTSTAMP:20260422T231107
CREATED:20260210T023557Z
LAST-MODIFIED:20260328T131959Z
UID:10006518-1823068800-1823079600@av8maps.com
SUMMARY:EAA Chapter 1349 Fly-in Lunch (FD27)
DESCRIPTION:Join EAA Chapter 1349 for a friendly afternoon on the airfield! \nWe’re serving up sloppy joe sandwiches\, along with homemade sides and desserts—a delicious way to fuel up while connecting with fellow aviation enthusiasts. \nCOST: Donation to Chapter 1349 \nArrival Information:\nFD27\nRunway: 3\,250’ grass\nFrequency: 122.9 for all arriving and departing aircraft\n🚗 Vehicle Notice: Aircraft have the right of way. Speed limit in community 15 miles per hour\n📞 For directions or arrival details\, contact us at: 📧 eaachapter1349@gmail.com
URL:https://av8maps.com/event/eaa-chapter-1349-fly-in-lunch-glen-saint-mary-florida-3/2027-10-09/
LOCATION:Cuyler Airfield\, 10671 Cuyler Airfield Ln\, Glen St Mary\, FL\, 32040
ATTACH;FMTTYPE=image/jpeg:https://av8maps.com/wp-content/uploads/2026/02/EAA-Chapter-1349.jpg
GEO:30.3621827;-82.2196117
X-APPLE-STRUCTURED-LOCATION;VALUE=URI;X-ADDRESS=Cuyler Airfield 10671 Cuyler Airfield Ln Glen St Mary FL 32040;X-APPLE-RADIUS=500;X-TITLE=10671 Cuyler Airfield Ln:geo:-82.2196117,30.3621827
END:VEVENT
BEGIN:VEVENT
DTSTART;TZID=America/New_York:20280408T080000
DTEND;TZID=America/New_York:20280408T110000
DTSTAMP:20260422T231107
CREATED:20260210T023557Z
LAST-MODIFIED:20260328T131959Z
UID:10006519-1838793600-1838804400@av8maps.com
SUMMARY:EAA Chapter 1349 Fly-in Lunch (FD27)
DESCRIPTION:Join EAA Chapter 1349 for a friendly afternoon on the airfield! \nWe’re serving up sloppy joe sandwiches\, along with homemade sides and desserts—a delicious way to fuel up while connecting with fellow aviation enthusiasts. \nCOST: Donation to Chapter 1349 \nArrival Information:\nFD27\nRunway: 3\,250’ grass\nFrequency: 122.9 for all arriving and departing aircraft\n🚗 Vehicle Notice: Aircraft have the right of way. Speed limit in community 15 miles per hour\n📞 For directions or arrival details\, contact us at: 📧 eaachapter1349@gmail.com
URL:https://av8maps.com/event/eaa-chapter-1349-fly-in-lunch-glen-saint-mary-florida-3/2028-04-08/
LOCATION:Cuyler Airfield\, 10671 Cuyler Airfield Ln\, Glen St Mary\, FL\, 32040
ATTACH;FMTTYPE=image/jpeg:https://av8maps.com/wp-content/uploads/2026/02/EAA-Chapter-1349.jpg
GEO:30.3621827;-82.2196117
X-APPLE-STRUCTURED-LOCATION;VALUE=URI;X-ADDRESS=Cuyler Airfield 10671 Cuyler Airfield Ln Glen St Mary FL 32040;X-APPLE-RADIUS=500;X-TITLE=10671 Cuyler Airfield Ln:geo:-82.2196117,30.3621827
END:VEVENT
BEGIN:VEVENT
DTSTART;TZID=America/New_York:20281014T080000
DTEND;TZID=America/New_York:20281014T110000
DTSTAMP:20260422T231107
CREATED:20260210T023557Z
LAST-MODIFIED:20260328T131959Z
UID:10006520-1855123200-1855134000@av8maps.com
SUMMARY:EAA Chapter 1349 Fly-in Lunch (FD27)
DESCRIPTION:Join EAA Chapter 1349 for a friendly afternoon on the airfield! \nWe’re serving up sloppy joe sandwiches\, along with homemade sides and desserts—a delicious way to fuel up while connecting with fellow aviation enthusiasts. \nCOST: Donation to Chapter 1349 \nArrival Information:\nFD27\nRunway: 3\,250’ grass\nFrequency: 122.9 for all arriving and departing aircraft\n🚗 Vehicle Notice: Aircraft have the right of way. Speed limit in community 15 miles per hour\n📞 For directions or arrival details\, contact us at: 📧 eaachapter1349@gmail.com
URL:https://av8maps.com/event/eaa-chapter-1349-fly-in-lunch-glen-saint-mary-florida-3/2028-10-14/
LOCATION:Cuyler Airfield\, 10671 Cuyler Airfield Ln\, Glen St Mary\, FL\, 32040
ATTACH;FMTTYPE=image/jpeg:https://av8maps.com/wp-content/uploads/2026/02/EAA-Chapter-1349.jpg
GEO:30.3621827;-82.2196117
X-APPLE-STRUCTURED-LOCATION;VALUE=URI;X-ADDRESS=Cuyler Airfield 10671 Cuyler Airfield Ln Glen St Mary FL 32040;X-APPLE-RADIUS=500;X-TITLE=10671 Cuyler Airfield Ln:geo:-82.2196117,30.3621827
END:VEVENT
BEGIN:VEVENT
DTSTART;TZID=America/New_York:20290414T080000
DTEND;TZID=America/New_York:20290414T110000
DTSTAMP:20260422T231107
CREATED:20260210T023557Z
LAST-MODIFIED:20260328T131959Z
UID:10006521-1870848000-1870858800@av8maps.com
SUMMARY:EAA Chapter 1349 Fly-in Lunch (FD27)
DESCRIPTION:Join EAA Chapter 1349 for a friendly afternoon on the airfield! \nWe’re serving up sloppy joe sandwiches\, along with homemade sides and desserts—a delicious way to fuel up while connecting with fellow aviation enthusiasts. \nCOST: Donation to Chapter 1349 \nArrival Information:\nFD27\nRunway: 3\,250’ grass\nFrequency: 122.9 for all arriving and departing aircraft\n🚗 Vehicle Notice: Aircraft have the right of way. Speed limit in community 15 miles per hour\n📞 For directions or arrival details\, contact us at: 📧 eaachapter1349@gmail.com
URL:https://av8maps.com/event/eaa-chapter-1349-fly-in-lunch-glen-saint-mary-florida-3/2029-04-14/
LOCATION:Cuyler Airfield\, 10671 Cuyler Airfield Ln\, Glen St Mary\, FL\, 32040
ATTACH;FMTTYPE=image/jpeg:https://av8maps.com/wp-content/uploads/2026/02/EAA-Chapter-1349.jpg
GEO:30.3621827;-82.2196117
X-APPLE-STRUCTURED-LOCATION;VALUE=URI;X-ADDRESS=Cuyler Airfield 10671 Cuyler Airfield Ln Glen St Mary FL 32040;X-APPLE-RADIUS=500;X-TITLE=10671 Cuyler Airfield Ln:geo:-82.2196117,30.3621827
END:VEVENT
BEGIN:VEVENT
DTSTART;TZID=America/New_York:20291013T080000
DTEND;TZID=America/New_York:20291013T110000
DTSTAMP:20260422T231107
CREATED:20260210T023557Z
LAST-MODIFIED:20260328T131959Z
UID:10006522-1886572800-1886583600@av8maps.com
SUMMARY:EAA Chapter 1349 Fly-in Lunch (FD27)
DESCRIPTION:Join EAA Chapter 1349 for a friendly afternoon on the airfield! \nWe’re serving up sloppy joe sandwiches\, along with homemade sides and desserts—a delicious way to fuel up while connecting with fellow aviation enthusiasts. \nCOST: Donation to Chapter 1349 \nArrival Information:\nFD27\nRunway: 3\,250’ grass\nFrequency: 122.9 for all arriving and departing aircraft\n🚗 Vehicle Notice: Aircraft have the right of way. Speed limit in community 15 miles per hour\n📞 For directions or arrival details\, contact us at: 📧 eaachapter1349@gmail.com
URL:https://av8maps.com/event/eaa-chapter-1349-fly-in-lunch-glen-saint-mary-florida-3/2029-10-13/
LOCATION:Cuyler Airfield\, 10671 Cuyler Airfield Ln\, Glen St Mary\, FL\, 32040
ATTACH;FMTTYPE=image/jpeg:https://av8maps.com/wp-content/uploads/2026/02/EAA-Chapter-1349.jpg
GEO:30.3621827;-82.2196117
X-APPLE-STRUCTURED-LOCATION;VALUE=URI;X-ADDRESS=Cuyler Airfield 10671 Cuyler Airfield Ln Glen St Mary FL 32040;X-APPLE-RADIUS=500;X-TITLE=10671 Cuyler Airfield Ln:geo:-82.2196117,30.3621827
END:VEVENT
BEGIN:VEVENT
DTSTART;TZID=America/New_York:20300413T080000
DTEND;TZID=America/New_York:20300413T110000
DTSTAMP:20260422T231107
CREATED:20260210T023557Z
LAST-MODIFIED:20260328T131959Z
UID:10006523-1902297600-1902308400@av8maps.com
SUMMARY:EAA Chapter 1349 Fly-in Lunch (FD27)
DESCRIPTION:Join EAA Chapter 1349 for a friendly afternoon on the airfield! \nWe’re serving up sloppy joe sandwiches\, along with homemade sides and desserts—a delicious way to fuel up while connecting with fellow aviation enthusiasts. \nCOST: Donation to Chapter 1349 \nArrival Information:\nFD27\nRunway: 3\,250’ grass\nFrequency: 122.9 for all arriving and departing aircraft\n🚗 Vehicle Notice: Aircraft have the right of way. Speed limit in community 15 miles per hour\n📞 For directions or arrival details\, contact us at: 📧 eaachapter1349@gmail.com
URL:https://av8maps.com/event/eaa-chapter-1349-fly-in-lunch-glen-saint-mary-florida-3/2030-04-13/
LOCATION:Cuyler Airfield\, 10671 Cuyler Airfield Ln\, Glen St Mary\, FL\, 32040
ATTACH;FMTTYPE=image/jpeg:https://av8maps.com/wp-content/uploads/2026/02/EAA-Chapter-1349.jpg
GEO:30.3621827;-82.2196117
X-APPLE-STRUCTURED-LOCATION;VALUE=URI;X-ADDRESS=Cuyler Airfield 10671 Cuyler Airfield Ln Glen St Mary FL 32040;X-APPLE-RADIUS=500;X-TITLE=10671 Cuyler Airfield Ln:geo:-82.2196117,30.3621827
END:VEVENT
BEGIN:VEVENT
DTSTART;TZID=America/New_York:20301012T080000
DTEND;TZID=America/New_York:20301012T110000
DTSTAMP:20260422T231107
CREATED:20260210T023557Z
LAST-MODIFIED:20260328T131959Z
UID:10006524-1918022400-1918033200@av8maps.com
SUMMARY:EAA Chapter 1349 Fly-in Lunch (FD27)
DESCRIPTION:Join EAA Chapter 1349 for a friendly afternoon on the airfield! \nWe’re serving up sloppy joe sandwiches\, along with homemade sides and desserts—a delicious way to fuel up while connecting with fellow aviation enthusiasts. \nCOST: Donation to Chapter 1349 \nArrival Information:\nFD27\nRunway: 3\,250’ grass\nFrequency: 122.9 for all arriving and departing aircraft\n🚗 Vehicle Notice: Aircraft have the right of way. Speed limit in community 15 miles per hour\n📞 For directions or arrival details\, contact us at: 📧 eaachapter1349@gmail.com
URL:https://av8maps.com/event/eaa-chapter-1349-fly-in-lunch-glen-saint-mary-florida-3/2030-10-12/
LOCATION:Cuyler Airfield\, 10671 Cuyler Airfield Ln\, Glen St Mary\, FL\, 32040
ATTACH;FMTTYPE=image/jpeg:https://av8maps.com/wp-content/uploads/2026/02/EAA-Chapter-1349.jpg
GEO:30.3621827;-82.2196117
X-APPLE-STRUCTURED-LOCATION;VALUE=URI;X-ADDRESS=Cuyler Airfield 10671 Cuyler Airfield Ln Glen St Mary FL 32040;X-APPLE-RADIUS=500;X-TITLE=10671 Cuyler Airfield Ln:geo:-82.2196117,30.3621827
END:VEVENT
END:VCALENDAR