BEGIN:VCALENDAR
VERSION:2.0
PRODID:-//AV8MAPS.COM - ECPv6.15.20//NONSGML v1.0//EN
CALSCALE:GREGORIAN
METHOD:PUBLISH
X-WR-CALNAME:AV8MAPS.COM
X-ORIGINAL-URL:https://av8maps.com
X-WR-CALDESC:Events for AV8MAPS.COM
REFRESH-INTERVAL;VALUE=DURATION:PT1H
X-Robots-Tag:noindex
X-PUBLISHED-TTL:PT1H
BEGIN:VTIMEZONE
TZID:America/New_York
BEGIN:DAYLIGHT
TZOFFSETFROM:-0500
TZOFFSETTO:-0400
TZNAME:EDT
DTSTART:20250309T070000
END:DAYLIGHT
BEGIN:STANDARD
TZOFFSETFROM:-0400
TZOFFSETTO:-0500
TZNAME:EST
DTSTART:20251102T060000
END:STANDARD
BEGIN:DAYLIGHT
TZOFFSETFROM:-0500
TZOFFSETTO:-0400
TZNAME:EDT
DTSTART:20260308T070000
END:DAYLIGHT
BEGIN:STANDARD
TZOFFSETFROM:-0400
TZOFFSETTO:-0500
TZNAME:EST
DTSTART:20261101T060000
END:STANDARD
BEGIN:DAYLIGHT
TZOFFSETFROM:-0500
TZOFFSETTO:-0400
TZNAME:EDT
DTSTART:20270314T070000
END:DAYLIGHT
BEGIN:STANDARD
TZOFFSETFROM:-0400
TZOFFSETTO:-0500
TZNAME:EST
DTSTART:20271107T060000
END:STANDARD
BEGIN:DAYLIGHT
TZOFFSETFROM:-0500
TZOFFSETTO:-0400
TZNAME:EDT
DTSTART:20280312T070000
END:DAYLIGHT
BEGIN:STANDARD
TZOFFSETFROM:-0400
TZOFFSETTO:-0500
TZNAME:EST
DTSTART:20281105T060000
END:STANDARD
BEGIN:DAYLIGHT
TZOFFSETFROM:-0500
TZOFFSETTO:-0400
TZNAME:EDT
DTSTART:20290311T070000
END:DAYLIGHT
BEGIN:STANDARD
TZOFFSETFROM:-0400
TZOFFSETTO:-0500
TZNAME:EST
DTSTART:20291104T060000
END:STANDARD
BEGIN:DAYLIGHT
TZOFFSETFROM:-0500
TZOFFSETTO:-0400
TZNAME:EDT
DTSTART:20300310T070000
END:DAYLIGHT
BEGIN:STANDARD
TZOFFSETFROM:-0400
TZOFFSETTO:-0500
TZNAME:EST
DTSTART:20301103T060000
END:STANDARD
BEGIN:DAYLIGHT
TZOFFSETFROM:-0500
TZOFFSETTO:-0400
TZNAME:EDT
DTSTART:20310309T070000
END:DAYLIGHT
BEGIN:STANDARD
TZOFFSETFROM:-0400
TZOFFSETTO:-0500
TZNAME:EST
DTSTART:20311102T060000
END:STANDARD
END:VTIMEZONE
BEGIN:VEVENT
DTSTART;TZID=America/New_York:20261010T160000
DTEND;TZID=America/New_York:20261010T190000
DTSTAMP:20260423T122109
CREATED:20250921T221641Z
LAST-MODIFIED:20251102T182139Z
UID:10004564-1791648000-1791658800@av8maps.com
SUMMARY:Hallo-Wing at Georgetown Executive Airport (KGTU)
DESCRIPTION:What is Hallo-Wing? It’s a Halloween trunk-or-treat with an aviation twist! This free public event brings together aviators\, families\, and community members. Kids\, accompanied by parents or guardians\, collect candy from pilots showcasing creatively decorated aircraft\, each vying for the “Best Decorated Aircraft” prize. Kids can also compete for awards in a costume contest. With food trucks\, fun activities\, raffles and more\, Hallo-Wing is a celebration that soars!\nWe are currently looking for Donors\, Volunteers\, and Aircraft. If you or someone you know are interested in supporting this event\, please contact us!
URL:https://av8maps.com/event/hallo-wing-at-georgetown-executive-airport/2026-10-10/
LOCATION:Georgetown Executive Airport\, 160 Terminal Dr\, Georgetown\, TX\, 78628
ATTACH;FMTTYPE=image/jpeg:https://av8maps.com/wp-content/uploads/2025/09/Hallo-Wing-at-Georgetown-Executive-e1760117321893.jpg
GEO:30.6797911;-97.6725114
X-APPLE-STRUCTURED-LOCATION;VALUE=URI;X-ADDRESS=Georgetown Executive Airport 160 Terminal Dr Georgetown TX 78628;X-APPLE-RADIUS=500;X-TITLE=160 Terminal Dr:geo:-97.6725114,30.6797911
END:VEVENT
BEGIN:VEVENT
DTSTART;TZID=America/New_York:20271009T160000
DTEND;TZID=America/New_York:20271009T190000
DTSTAMP:20260423T122109
CREATED:20250921T221641Z
LAST-MODIFIED:20251102T182139Z
UID:10004565-1823097600-1823108400@av8maps.com
SUMMARY:Hallo-Wing at Georgetown Executive Airport (KGTU)
DESCRIPTION:What is Hallo-Wing? It’s a Halloween trunk-or-treat with an aviation twist! This free public event brings together aviators\, families\, and community members. Kids\, accompanied by parents or guardians\, collect candy from pilots showcasing creatively decorated aircraft\, each vying for the “Best Decorated Aircraft” prize. Kids can also compete for awards in a costume contest. With food trucks\, fun activities\, raffles and more\, Hallo-Wing is a celebration that soars!\nWe are currently looking for Donors\, Volunteers\, and Aircraft. If you or someone you know are interested in supporting this event\, please contact us!
URL:https://av8maps.com/event/hallo-wing-at-georgetown-executive-airport/2027-10-09/
LOCATION:Georgetown Executive Airport\, 160 Terminal Dr\, Georgetown\, TX\, 78628
ATTACH;FMTTYPE=image/jpeg:https://av8maps.com/wp-content/uploads/2025/09/Hallo-Wing-at-Georgetown-Executive-e1760117321893.jpg
GEO:30.6797911;-97.6725114
X-APPLE-STRUCTURED-LOCATION;VALUE=URI;X-ADDRESS=Georgetown Executive Airport 160 Terminal Dr Georgetown TX 78628;X-APPLE-RADIUS=500;X-TITLE=160 Terminal Dr:geo:-97.6725114,30.6797911
END:VEVENT
BEGIN:VEVENT
DTSTART;TZID=America/New_York:20281014T160000
DTEND;TZID=America/New_York:20281014T190000
DTSTAMP:20260423T122109
CREATED:20250921T221641Z
LAST-MODIFIED:20251102T182139Z
UID:10004566-1855152000-1855162800@av8maps.com
SUMMARY:Hallo-Wing at Georgetown Executive Airport (KGTU)
DESCRIPTION:What is Hallo-Wing? It’s a Halloween trunk-or-treat with an aviation twist! This free public event brings together aviators\, families\, and community members. Kids\, accompanied by parents or guardians\, collect candy from pilots showcasing creatively decorated aircraft\, each vying for the “Best Decorated Aircraft” prize. Kids can also compete for awards in a costume contest. With food trucks\, fun activities\, raffles and more\, Hallo-Wing is a celebration that soars!\nWe are currently looking for Donors\, Volunteers\, and Aircraft. If you or someone you know are interested in supporting this event\, please contact us!
URL:https://av8maps.com/event/hallo-wing-at-georgetown-executive-airport/2028-10-14/
LOCATION:Georgetown Executive Airport\, 160 Terminal Dr\, Georgetown\, TX\, 78628
ATTACH;FMTTYPE=image/jpeg:https://av8maps.com/wp-content/uploads/2025/09/Hallo-Wing-at-Georgetown-Executive-e1760117321893.jpg
GEO:30.6797911;-97.6725114
X-APPLE-STRUCTURED-LOCATION;VALUE=URI;X-ADDRESS=Georgetown Executive Airport 160 Terminal Dr Georgetown TX 78628;X-APPLE-RADIUS=500;X-TITLE=160 Terminal Dr:geo:-97.6725114,30.6797911
END:VEVENT
BEGIN:VEVENT
DTSTART;TZID=America/New_York:20291013T160000
DTEND;TZID=America/New_York:20291013T190000
DTSTAMP:20260423T122109
CREATED:20250921T221641Z
LAST-MODIFIED:20251102T182139Z
UID:10004567-1886601600-1886612400@av8maps.com
SUMMARY:Hallo-Wing at Georgetown Executive Airport (KGTU)
DESCRIPTION:What is Hallo-Wing? It’s a Halloween trunk-or-treat with an aviation twist! This free public event brings together aviators\, families\, and community members. Kids\, accompanied by parents or guardians\, collect candy from pilots showcasing creatively decorated aircraft\, each vying for the “Best Decorated Aircraft” prize. Kids can also compete for awards in a costume contest. With food trucks\, fun activities\, raffles and more\, Hallo-Wing is a celebration that soars!\nWe are currently looking for Donors\, Volunteers\, and Aircraft. If you or someone you know are interested in supporting this event\, please contact us!
URL:https://av8maps.com/event/hallo-wing-at-georgetown-executive-airport/2029-10-13/
LOCATION:Georgetown Executive Airport\, 160 Terminal Dr\, Georgetown\, TX\, 78628
ATTACH;FMTTYPE=image/jpeg:https://av8maps.com/wp-content/uploads/2025/09/Hallo-Wing-at-Georgetown-Executive-e1760117321893.jpg
GEO:30.6797911;-97.6725114
X-APPLE-STRUCTURED-LOCATION;VALUE=URI;X-ADDRESS=Georgetown Executive Airport 160 Terminal Dr Georgetown TX 78628;X-APPLE-RADIUS=500;X-TITLE=160 Terminal Dr:geo:-97.6725114,30.6797911
END:VEVENT
BEGIN:VEVENT
DTSTART;TZID=America/New_York:20301012T160000
DTEND;TZID=America/New_York:20301012T190000
DTSTAMP:20260423T122109
CREATED:20250921T221641Z
LAST-MODIFIED:20251102T182139Z
UID:10004568-1918051200-1918062000@av8maps.com
SUMMARY:Hallo-Wing at Georgetown Executive Airport (KGTU)
DESCRIPTION:What is Hallo-Wing? It’s a Halloween trunk-or-treat with an aviation twist! This free public event brings together aviators\, families\, and community members. Kids\, accompanied by parents or guardians\, collect candy from pilots showcasing creatively decorated aircraft\, each vying for the “Best Decorated Aircraft” prize. Kids can also compete for awards in a costume contest. With food trucks\, fun activities\, raffles and more\, Hallo-Wing is a celebration that soars!\nWe are currently looking for Donors\, Volunteers\, and Aircraft. If you or someone you know are interested in supporting this event\, please contact us!
URL:https://av8maps.com/event/hallo-wing-at-georgetown-executive-airport/2030-10-12/
LOCATION:Georgetown Executive Airport\, 160 Terminal Dr\, Georgetown\, TX\, 78628
ATTACH;FMTTYPE=image/jpeg:https://av8maps.com/wp-content/uploads/2025/09/Hallo-Wing-at-Georgetown-Executive-e1760117321893.jpg
GEO:30.6797911;-97.6725114
X-APPLE-STRUCTURED-LOCATION;VALUE=URI;X-ADDRESS=Georgetown Executive Airport 160 Terminal Dr Georgetown TX 78628;X-APPLE-RADIUS=500;X-TITLE=160 Terminal Dr:geo:-97.6725114,30.6797911
END:VEVENT
END:VCALENDAR