BEGIN:VCALENDAR
VERSION:2.0
PRODID:-//AV8MAPS.COM - ECPv6.15.20//NONSGML v1.0//EN
CALSCALE:GREGORIAN
METHOD:PUBLISH
X-WR-CALNAME:AV8MAPS.COM
X-ORIGINAL-URL:https://av8maps.com
X-WR-CALDESC:Events for AV8MAPS.COM
REFRESH-INTERVAL;VALUE=DURATION:PT1H
X-Robots-Tag:noindex
X-PUBLISHED-TTL:PT1H
BEGIN:VTIMEZONE
TZID:America/New_York
BEGIN:DAYLIGHT
TZOFFSETFROM:-0500
TZOFFSETTO:-0400
TZNAME:EDT
DTSTART:20250309T070000
END:DAYLIGHT
BEGIN:STANDARD
TZOFFSETFROM:-0400
TZOFFSETTO:-0500
TZNAME:EST
DTSTART:20251102T060000
END:STANDARD
BEGIN:DAYLIGHT
TZOFFSETFROM:-0500
TZOFFSETTO:-0400
TZNAME:EDT
DTSTART:20260308T070000
END:DAYLIGHT
BEGIN:STANDARD
TZOFFSETFROM:-0400
TZOFFSETTO:-0500
TZNAME:EST
DTSTART:20261101T060000
END:STANDARD
BEGIN:DAYLIGHT
TZOFFSETFROM:-0500
TZOFFSETTO:-0400
TZNAME:EDT
DTSTART:20270314T070000
END:DAYLIGHT
BEGIN:STANDARD
TZOFFSETFROM:-0400
TZOFFSETTO:-0500
TZNAME:EST
DTSTART:20271107T060000
END:STANDARD
BEGIN:DAYLIGHT
TZOFFSETFROM:-0500
TZOFFSETTO:-0400
TZNAME:EDT
DTSTART:20280312T070000
END:DAYLIGHT
BEGIN:STANDARD
TZOFFSETFROM:-0400
TZOFFSETTO:-0500
TZNAME:EST
DTSTART:20281105T060000
END:STANDARD
BEGIN:DAYLIGHT
TZOFFSETFROM:-0500
TZOFFSETTO:-0400
TZNAME:EDT
DTSTART:20290311T070000
END:DAYLIGHT
BEGIN:STANDARD
TZOFFSETFROM:-0400
TZOFFSETTO:-0500
TZNAME:EST
DTSTART:20291104T060000
END:STANDARD
BEGIN:DAYLIGHT
TZOFFSETFROM:-0500
TZOFFSETTO:-0400
TZNAME:EDT
DTSTART:20300310T070000
END:DAYLIGHT
BEGIN:STANDARD
TZOFFSETFROM:-0400
TZOFFSETTO:-0500
TZNAME:EST
DTSTART:20301103T060000
END:STANDARD
BEGIN:DAYLIGHT
TZOFFSETFROM:-0500
TZOFFSETTO:-0400
TZNAME:EDT
DTSTART:20310309T070000
END:DAYLIGHT
BEGIN:STANDARD
TZOFFSETFROM:-0400
TZOFFSETTO:-0500
TZNAME:EST
DTSTART:20311102T060000
END:STANDARD
END:VTIMEZONE
BEGIN:VEVENT
DTSTART;TZID=America/New_York:20261010T183000
DTEND;TZID=America/New_York:20261010T183000
DTSTAMP:20260423T164710
CREATED:20250923T221725Z
LAST-MODIFIED:20251102T182434Z
UID:10004570-1791657000-1791657000@av8maps.com
SUMMARY:Annual Big Band Hangar Dance and Silent Auction (KFTW)
DESCRIPTION:Time to polish your dancing shoes and dancing moves. Celebrate Meacham’s Annual Big Band Hangar Dance. \nSo gather your friends and nab a table. Even better\, upgrade to a sponsor table! Contact the museum for details. \nTickets can be purchased at https://vintageflyingmuseum.org/33rd-annual-big-band-hangar-dance/ . \nPlease note that dinner tickets must be purchased by Tuesday before the dance. Dinner is served 6:30 to 8:30. BYOB. Complimentary dance lesson at 7:00.
URL:https://av8maps.com/event/33rd-annual-big-band-hangar-dance-and-silent-auction/2026-10-10/
LOCATION:Vintage Flying Museum\, 505 NW 38th Street\, Fort Worth\, TX
ATTACH;FMTTYPE=image/jpeg:https://av8maps.com/wp-content/uploads/2025/09/33rd-Annual-Big-Band-Hangar-Dance-e1760117800478.jpg
GEO:32.8116927;-97.3562135
X-APPLE-STRUCTURED-LOCATION;VALUE=URI;X-ADDRESS=Vintage Flying Museum 505 NW 38th Street Fort Worth TX;X-APPLE-RADIUS=500;X-TITLE=505 NW 38th Street\, Fort Worth\, TX:geo:-97.3562135,32.8116927
END:VEVENT
BEGIN:VEVENT
DTSTART;TZID=America/New_York:20271009T183000
DTEND;TZID=America/New_York:20271009T183000
DTSTAMP:20260423T164710
CREATED:20250923T221725Z
LAST-MODIFIED:20251102T182434Z
UID:10004571-1823106600-1823106600@av8maps.com
SUMMARY:Annual Big Band Hangar Dance and Silent Auction (KFTW)
DESCRIPTION:Time to polish your dancing shoes and dancing moves. Celebrate Meacham’s Annual Big Band Hangar Dance. \nSo gather your friends and nab a table. Even better\, upgrade to a sponsor table! Contact the museum for details. \nTickets can be purchased at https://vintageflyingmuseum.org/33rd-annual-big-band-hangar-dance/ . \nPlease note that dinner tickets must be purchased by Tuesday before the dance. Dinner is served 6:30 to 8:30. BYOB. Complimentary dance lesson at 7:00.
URL:https://av8maps.com/event/33rd-annual-big-band-hangar-dance-and-silent-auction/2027-10-09/
LOCATION:Vintage Flying Museum\, 505 NW 38th Street\, Fort Worth\, TX
ATTACH;FMTTYPE=image/jpeg:https://av8maps.com/wp-content/uploads/2025/09/33rd-Annual-Big-Band-Hangar-Dance-e1760117800478.jpg
GEO:32.8116927;-97.3562135
X-APPLE-STRUCTURED-LOCATION;VALUE=URI;X-ADDRESS=Vintage Flying Museum 505 NW 38th Street Fort Worth TX;X-APPLE-RADIUS=500;X-TITLE=505 NW 38th Street\, Fort Worth\, TX:geo:-97.3562135,32.8116927
END:VEVENT
BEGIN:VEVENT
DTSTART;TZID=America/New_York:20281014T183000
DTEND;TZID=America/New_York:20281014T183000
DTSTAMP:20260423T164710
CREATED:20250923T221725Z
LAST-MODIFIED:20251102T182434Z
UID:10004572-1855161000-1855161000@av8maps.com
SUMMARY:Annual Big Band Hangar Dance and Silent Auction (KFTW)
DESCRIPTION:Time to polish your dancing shoes and dancing moves. Celebrate Meacham’s Annual Big Band Hangar Dance. \nSo gather your friends and nab a table. Even better\, upgrade to a sponsor table! Contact the museum for details. \nTickets can be purchased at https://vintageflyingmuseum.org/33rd-annual-big-band-hangar-dance/ . \nPlease note that dinner tickets must be purchased by Tuesday before the dance. Dinner is served 6:30 to 8:30. BYOB. Complimentary dance lesson at 7:00.
URL:https://av8maps.com/event/33rd-annual-big-band-hangar-dance-and-silent-auction/2028-10-14/
LOCATION:Vintage Flying Museum\, 505 NW 38th Street\, Fort Worth\, TX
ATTACH;FMTTYPE=image/jpeg:https://av8maps.com/wp-content/uploads/2025/09/33rd-Annual-Big-Band-Hangar-Dance-e1760117800478.jpg
GEO:32.8116927;-97.3562135
X-APPLE-STRUCTURED-LOCATION;VALUE=URI;X-ADDRESS=Vintage Flying Museum 505 NW 38th Street Fort Worth TX;X-APPLE-RADIUS=500;X-TITLE=505 NW 38th Street\, Fort Worth\, TX:geo:-97.3562135,32.8116927
END:VEVENT
BEGIN:VEVENT
DTSTART;TZID=America/New_York:20291013T183000
DTEND;TZID=America/New_York:20291013T183000
DTSTAMP:20260423T164710
CREATED:20250923T221725Z
LAST-MODIFIED:20251102T182434Z
UID:10004573-1886610600-1886610600@av8maps.com
SUMMARY:Annual Big Band Hangar Dance and Silent Auction (KFTW)
DESCRIPTION:Time to polish your dancing shoes and dancing moves. Celebrate Meacham’s Annual Big Band Hangar Dance. \nSo gather your friends and nab a table. Even better\, upgrade to a sponsor table! Contact the museum for details. \nTickets can be purchased at https://vintageflyingmuseum.org/33rd-annual-big-band-hangar-dance/ . \nPlease note that dinner tickets must be purchased by Tuesday before the dance. Dinner is served 6:30 to 8:30. BYOB. Complimentary dance lesson at 7:00.
URL:https://av8maps.com/event/33rd-annual-big-band-hangar-dance-and-silent-auction/2029-10-13/
LOCATION:Vintage Flying Museum\, 505 NW 38th Street\, Fort Worth\, TX
ATTACH;FMTTYPE=image/jpeg:https://av8maps.com/wp-content/uploads/2025/09/33rd-Annual-Big-Band-Hangar-Dance-e1760117800478.jpg
GEO:32.8116927;-97.3562135
X-APPLE-STRUCTURED-LOCATION;VALUE=URI;X-ADDRESS=Vintage Flying Museum 505 NW 38th Street Fort Worth TX;X-APPLE-RADIUS=500;X-TITLE=505 NW 38th Street\, Fort Worth\, TX:geo:-97.3562135,32.8116927
END:VEVENT
BEGIN:VEVENT
DTSTART;TZID=America/New_York:20301012T183000
DTEND;TZID=America/New_York:20301012T183000
DTSTAMP:20260423T164710
CREATED:20250923T221725Z
LAST-MODIFIED:20251102T182434Z
UID:10004574-1918060200-1918060200@av8maps.com
SUMMARY:Annual Big Band Hangar Dance and Silent Auction (KFTW)
DESCRIPTION:Time to polish your dancing shoes and dancing moves. Celebrate Meacham’s Annual Big Band Hangar Dance. \nSo gather your friends and nab a table. Even better\, upgrade to a sponsor table! Contact the museum for details. \nTickets can be purchased at https://vintageflyingmuseum.org/33rd-annual-big-band-hangar-dance/ . \nPlease note that dinner tickets must be purchased by Tuesday before the dance. Dinner is served 6:30 to 8:30. BYOB. Complimentary dance lesson at 7:00.
URL:https://av8maps.com/event/33rd-annual-big-band-hangar-dance-and-silent-auction/2030-10-12/
LOCATION:Vintage Flying Museum\, 505 NW 38th Street\, Fort Worth\, TX
ATTACH;FMTTYPE=image/jpeg:https://av8maps.com/wp-content/uploads/2025/09/33rd-Annual-Big-Band-Hangar-Dance-e1760117800478.jpg
GEO:32.8116927;-97.3562135
X-APPLE-STRUCTURED-LOCATION;VALUE=URI;X-ADDRESS=Vintage Flying Museum 505 NW 38th Street Fort Worth TX;X-APPLE-RADIUS=500;X-TITLE=505 NW 38th Street\, Fort Worth\, TX:geo:-97.3562135,32.8116927
END:VEVENT
END:VCALENDAR