BEGIN:VCALENDAR
VERSION:2.0
PRODID:-//AV8MAPS.COM - ECPv6.15.20//NONSGML v1.0//EN
CALSCALE:GREGORIAN
METHOD:PUBLISH
X-WR-CALNAME:AV8MAPS.COM
X-ORIGINAL-URL:https://av8maps.com
X-WR-CALDESC:Events for AV8MAPS.COM
REFRESH-INTERVAL;VALUE=DURATION:PT1H
X-Robots-Tag:noindex
X-PUBLISHED-TTL:PT1H
BEGIN:VTIMEZONE
TZID:America/New_York
BEGIN:DAYLIGHT
TZOFFSETFROM:-0500
TZOFFSETTO:-0400
TZNAME:EDT
DTSTART:20250309T070000
END:DAYLIGHT
BEGIN:STANDARD
TZOFFSETFROM:-0400
TZOFFSETTO:-0500
TZNAME:EST
DTSTART:20251102T060000
END:STANDARD
BEGIN:DAYLIGHT
TZOFFSETFROM:-0500
TZOFFSETTO:-0400
TZNAME:EDT
DTSTART:20260308T070000
END:DAYLIGHT
BEGIN:STANDARD
TZOFFSETFROM:-0400
TZOFFSETTO:-0500
TZNAME:EST
DTSTART:20261101T060000
END:STANDARD
BEGIN:DAYLIGHT
TZOFFSETFROM:-0500
TZOFFSETTO:-0400
TZNAME:EDT
DTSTART:20270314T070000
END:DAYLIGHT
BEGIN:STANDARD
TZOFFSETFROM:-0400
TZOFFSETTO:-0500
TZNAME:EST
DTSTART:20271107T060000
END:STANDARD
BEGIN:DAYLIGHT
TZOFFSETFROM:-0500
TZOFFSETTO:-0400
TZNAME:EDT
DTSTART:20280312T070000
END:DAYLIGHT
BEGIN:STANDARD
TZOFFSETFROM:-0400
TZOFFSETTO:-0500
TZNAME:EST
DTSTART:20281105T060000
END:STANDARD
BEGIN:DAYLIGHT
TZOFFSETFROM:-0500
TZOFFSETTO:-0400
TZNAME:EDT
DTSTART:20290311T070000
END:DAYLIGHT
BEGIN:STANDARD
TZOFFSETFROM:-0400
TZOFFSETTO:-0500
TZNAME:EST
DTSTART:20291104T060000
END:STANDARD
BEGIN:DAYLIGHT
TZOFFSETFROM:-0500
TZOFFSETTO:-0400
TZNAME:EDT
DTSTART:20300310T070000
END:DAYLIGHT
BEGIN:STANDARD
TZOFFSETFROM:-0400
TZOFFSETTO:-0500
TZNAME:EST
DTSTART:20301103T060000
END:STANDARD
BEGIN:DAYLIGHT
TZOFFSETFROM:-0500
TZOFFSETTO:-0400
TZNAME:EDT
DTSTART:20310309T070000
END:DAYLIGHT
BEGIN:STANDARD
TZOFFSETFROM:-0400
TZOFFSETTO:-0500
TZNAME:EST
DTSTART:20311102T060000
END:STANDARD
END:VTIMEZONE
BEGIN:VEVENT
DTSTART;TZID=America/New_York:20261016T090000
DTEND;TZID=America/New_York:20261017T120000
DTSTAMP:20260423T164802
CREATED:20250916T220456Z
LAST-MODIFIED:20260307T183504Z
UID:10004585-1792141200-1792238400@av8maps.com
SUMMARY:Southeast Regional Fly-in (KGZH)
DESCRIPTION:Celebrating food\, friends\, and flying fun since 1991.
URL:https://av8maps.com/event/southeast-regional-fly-in-serfi/2026-10-16/
LOCATION:Evergreen Regional Airport\, 14134 US HWY 84 WEST\, Evergreen\, AL\, 36401
ATTACH;FMTTYPE=image/jpeg:https://av8maps.com/wp-content/uploads/2025/09/Southeast-regional-Fly-in-KGZH-e1760119371131.jpg
GEO:31.4245227;-86.9772465
X-APPLE-STRUCTURED-LOCATION;VALUE=URI;X-ADDRESS=Evergreen Regional Airport 14134 US HWY 84 WEST Evergreen AL 36401;X-APPLE-RADIUS=500;X-TITLE=14134 US HWY 84 WEST:geo:-86.9772465,31.4245227
END:VEVENT
BEGIN:VEVENT
DTSTART;TZID=America/New_York:20271015T090000
DTEND;TZID=America/New_York:20271016T120000
DTSTAMP:20260423T164802
CREATED:20250916T220456Z
LAST-MODIFIED:20260307T183504Z
UID:10004586-1823590800-1823688000@av8maps.com
SUMMARY:Southeast Regional Fly-in (KGZH)
DESCRIPTION:Celebrating food\, friends\, and flying fun since 1991.
URL:https://av8maps.com/event/southeast-regional-fly-in-serfi/2027-10-15/
LOCATION:Evergreen Regional Airport\, 14134 US HWY 84 WEST\, Evergreen\, AL\, 36401
ATTACH;FMTTYPE=image/jpeg:https://av8maps.com/wp-content/uploads/2025/09/Southeast-regional-Fly-in-KGZH-e1760119371131.jpg
GEO:31.4245227;-86.9772465
X-APPLE-STRUCTURED-LOCATION;VALUE=URI;X-ADDRESS=Evergreen Regional Airport 14134 US HWY 84 WEST Evergreen AL 36401;X-APPLE-RADIUS=500;X-TITLE=14134 US HWY 84 WEST:geo:-86.9772465,31.4245227
END:VEVENT
BEGIN:VEVENT
DTSTART;TZID=America/New_York:20281020T090000
DTEND;TZID=America/New_York:20281021T120000
DTSTAMP:20260423T164802
CREATED:20250916T220456Z
LAST-MODIFIED:20260307T183504Z
UID:10004587-1855645200-1855742400@av8maps.com
SUMMARY:Southeast Regional Fly-in (KGZH)
DESCRIPTION:Celebrating food\, friends\, and flying fun since 1991.
URL:https://av8maps.com/event/southeast-regional-fly-in-serfi/2028-10-20/
LOCATION:Evergreen Regional Airport\, 14134 US HWY 84 WEST\, Evergreen\, AL\, 36401
ATTACH;FMTTYPE=image/jpeg:https://av8maps.com/wp-content/uploads/2025/09/Southeast-regional-Fly-in-KGZH-e1760119371131.jpg
GEO:31.4245227;-86.9772465
X-APPLE-STRUCTURED-LOCATION;VALUE=URI;X-ADDRESS=Evergreen Regional Airport 14134 US HWY 84 WEST Evergreen AL 36401;X-APPLE-RADIUS=500;X-TITLE=14134 US HWY 84 WEST:geo:-86.9772465,31.4245227
END:VEVENT
BEGIN:VEVENT
DTSTART;TZID=America/New_York:20291019T090000
DTEND;TZID=America/New_York:20291020T120000
DTSTAMP:20260423T164802
CREATED:20250916T220456Z
LAST-MODIFIED:20260307T183504Z
UID:10004588-1887094800-1887192000@av8maps.com
SUMMARY:Southeast Regional Fly-in (KGZH)
DESCRIPTION:Celebrating food\, friends\, and flying fun since 1991.
URL:https://av8maps.com/event/southeast-regional-fly-in-serfi/2029-10-19/
LOCATION:Evergreen Regional Airport\, 14134 US HWY 84 WEST\, Evergreen\, AL\, 36401
ATTACH;FMTTYPE=image/jpeg:https://av8maps.com/wp-content/uploads/2025/09/Southeast-regional-Fly-in-KGZH-e1760119371131.jpg
GEO:31.4245227;-86.9772465
X-APPLE-STRUCTURED-LOCATION;VALUE=URI;X-ADDRESS=Evergreen Regional Airport 14134 US HWY 84 WEST Evergreen AL 36401;X-APPLE-RADIUS=500;X-TITLE=14134 US HWY 84 WEST:geo:-86.9772465,31.4245227
END:VEVENT
BEGIN:VEVENT
DTSTART;TZID=America/New_York:20301018T090000
DTEND;TZID=America/New_York:20301019T120000
DTSTAMP:20260423T164802
CREATED:20250916T220456Z
LAST-MODIFIED:20260307T183504Z
UID:10004589-1918544400-1918641600@av8maps.com
SUMMARY:Southeast Regional Fly-in (KGZH)
DESCRIPTION:Celebrating food\, friends\, and flying fun since 1991.
URL:https://av8maps.com/event/southeast-regional-fly-in-serfi/2030-10-18/
LOCATION:Evergreen Regional Airport\, 14134 US HWY 84 WEST\, Evergreen\, AL\, 36401
ATTACH;FMTTYPE=image/jpeg:https://av8maps.com/wp-content/uploads/2025/09/Southeast-regional-Fly-in-KGZH-e1760119371131.jpg
GEO:31.4245227;-86.9772465
X-APPLE-STRUCTURED-LOCATION;VALUE=URI;X-ADDRESS=Evergreen Regional Airport 14134 US HWY 84 WEST Evergreen AL 36401;X-APPLE-RADIUS=500;X-TITLE=14134 US HWY 84 WEST:geo:-86.9772465,31.4245227
END:VEVENT
END:VCALENDAR